Workbook
Name IQ_CH: 110000
Name IQ_CQ: 5000
Name IQ_CY: 10000
Name IQ_DAILY: 500000
Name IQ_FH: 100000
Name IQ_FQ: 500
Name IQ_FY: 1000
Name IQ_LTM: 2000
Name IQ_MONTH: 15000
Name IQ_NTM: 6000
Name IQ_WEEK: 50000
Name IQ_YTD: 3000

Sheet Illustrative 6x6
B1: Illustrative 6x6 | I1: # Active AYs | J1: =COUNTIF(E40:E52, ">0") -> 6 | L1: # of AYs | M1: =COUNT(B40:B52) -> 13
B3: =$B$1 -> Illustrative 6x6
B4: =$B$1&" Feng-Robbin and Rehman-Klugman Standard Errors, All AYs Combined" -> Illustrative 6x6 Feng-Robbin and Rehman-Klugman Standard Errors, All AYs Combined
B5: Method | D5: Run-off Mean | E5: 1 Yr Mean | F5: Run-off Variance | G5: 1 Yr Variance | H5: Total Run-off Standard Error | I5: Total Run-off CV of Reserve | J5: 1-year Standard Error | K5: 1-year CV of Reserve | L5: Parameter Error Ult | M5: Parameter Error 1 Yr | N5: Total Incl. Para Ult | O5: Total Incl. Para 1 Yr
D6: ω | E6: α | F6: λ2 | G6: θ2
D7: Eq. (3.13) | E7: Eq. (3.19) | F7: Eq. (3.14) | G7: Eq. (3.20) | H7: Eq. (3.15) | J7: Eq. (3.21)
B8: Feng-Robbin
B9: Full Adjustment | D9: =SUMPRODUCT(J40:J52, L40:L52) -> -0.057055681 | E9: =SUMPRODUCT(J40:J52, M40:M52) -> -0.007636699 | F9: {=MMULT(TRANSPOSE(S183:S195), MMULT(D183:P195, S183:S195))} -> 0.0068975387 | G9: {=MMULT(TRANSPOSE(R183:R195), MMULT(D183:P195, R183:R195))} -> 0.00051020462 | H9: =$E$53*SQRT(EXP(2*D9+2*F9)-EXP(2*D9+F9)) -> 429.58816 | I9: =IFERROR(H9/$G$53,"") -> 0.88030361 | J9: =$E$53*SQRT(EXP(2*E9+2*G9)-EXP(2*E9+G9)) -> 122.1684 | K9: =IFERROR(J9/$G$53,"") -> 0.25034509 | L9: =SQRT(SUMSQ(L18:L31)) -> 190.13077 | M9: =SQRT(SUMSQ(M18:M31)) -> 192.77872 | N9: =SQRT(L9^2+H9^2) -> 469.78261 | O9: =SQRT(M9^2+J9^2) -> 228.22961
B10: Diagonal Calibrated | D10: =SUMPRODUCT(J40:J52, L40:L52) -> -0.057055681 | E10: =SUMPRODUCT(J40:J52, M40:M52) -> -0.007636699 | F10: {=MMULT(TRANSPOSE(S166:S178), MMULT(D166:P178, S166:S178))} -> 0.02617407 | G10: {=MMULT(TRANSPOSE(R166:R178), MMULT(D166:P178, R166:R178))} -> 0.0025932001 | H10: =$E$53*SQRT(EXP(2*D10+2*F10)-EXP(2*D10+F10)) -> 849.03462 | I10: =IFERROR(H10/$G$53,"") -> 1.739825 | J10: =$E$53*SQRT(EXP(2*E10+2*G10)-EXP(2*E10+G10)) -> 275.85652 | K10: =IFERROR(J10/$G$53,"") -> 0.56527976 | L10: =L9 -> 190.13077 | M10: =M9 -> 192.77872 | N10: =SQRT(L10^2+H10^2) -> 870.06293 | O10: =SQRT(M10^2+J10^2) -> 336.54191
B11: Fill-in | D11: =SUMPRODUCT(J40:J52, L40:L52) -> -0.057055681 | E11: =SUMPRODUCT(J40:J52, M40:M52) -> -0.007636699 | F11: {=MMULT(TRANSPOSE(S149:S161), MMULT(D149:P161, S149:S161))} -> 0.0014867193 | G11: {=MMULT(TRANSPOSE(R149:R161), MMULT(D149:P161, R149:R161))} -> 0.0005231468 | H11: =$E$53*SQRT(EXP(2*D11+2*F11)-EXP(2*D11+F11)) -> 198.63551 | I11: =IFERROR(H11/$G$53,"") -> 0.40703998 | J11: =$E$53*SQRT(EXP(2*E11+2*G11)-EXP(2*E11+G11)) -> 123.7094 | K11: =IFERROR(J11/$G$53,"") -> 0.25350288 | L11: =L9 -> 190.13077 | M11: =M9 -> 192.77872 | N11: =SQRT(L11^2+H11^2) -> 274.96505 | O11: =SQRT(M11^2+J11^2) -> 229.05818
B12: Rehman-Klugman
B13: λ2 using Eq. (7.01) | D13: =SUMPRODUCT(J40:J52, L40:L52) -> -0.057055681 | E13: n/a | F13: =SUMPRODUCT(J40:J52,J40:J52,T132:T144) -> -0.0004229984 | G13: n/a | H13: =$E$53*SQRT(EXP(2*D13+2*F13)-EXP(2*D13+F13)) -> #NUM! | I13: =IFERROR(H13/$G$53,"") | J13: n/a | K13: n/a | L13: n/a | M13: n/a | N13: n/a | O13: n/a
B15: =$B$1 -> Illustrative 6x6
B16: =$B$1&" Feng-Robbin Standard Errors by Accident Year" -> Illustrative 6x6 Feng-Robbin Standard Errors by Accident Year
B17: AY | C17: AY # | D17: Dev Age | E17: Diagonal Ult | F17: Paid | G17: Reserve | H17: Total Run-off Standard Error | I17: Total Run-off CV of Reserve | J17: 1-year Standard Error | K17: 1-year CV of Reserve | L17: Parameter Error Ult | M17: Parameter Error 1 Yr | N17: Total Incl. Para Ult | O17: Total Incl. Para 1 Yr
C18: y | D18: d | E18: Uy, Y-d+1 | F18: Cy, Y-d+1 | G18: Uy, Y-d+1-Cy, Y-d+1 | H18: Eq. (3.12) | J18: Eq. (3.18) | L18: Eq. (6.02) | M18: Eq. (6.01)
B19: =B40 -> 2006 | C19: =$C$40 -> 1 | D19: =$M$1-C19+1 -> 13 | E19: =Q59 -> 0 | F19: 0 | G19: =+E19-F19 -> 0 | H19: =E40*SQRT(EXP(2*L40+2*N40)-EXP(2*L40+N40)) -> 0 | I19: =IFERROR(H19/G40,"") | J19: =E40*SQRT(EXP(2*M40+2*O40)-EXP(2*M40+O40)) -> 0 | K19: =IFERROR(J19/G40,"") | L19: =ABS(I40-1)*$E40 -> 0 | M19: =ABS(H40-1)*$E40 -> 0 | N19: =SQRT(L19^2+H19^2) -> 0 | O19: =SQRT(M19^2+J19^2) -> 0
B20: =B41 -> 2007 | C20: =C19+1 -> 2 | D20: =$M$1-C20+1 -> 12 | E20: =Q60 -> 0 | F20: 0 | G20: =+E20-F20 -> 0 | H20: =E41*SQRT(EXP(2*L41+2*N41)-EXP(2*L41+N41)) -> 0 | I20: =IFERROR(H20/G41,"") | J20: =E41*SQRT(EXP(2*M41+2*O41)-EXP(2*M41+O41)) -> 0 | K20: =IFERROR(J20/G41,"") | L20: =ABS(I41-1)*$E41 -> 0 | M20: =ABS(H41-1)*E41 -> 0 | N20: =SQRT(L20^2+H20^2) -> 0 | O20: =SQRT(M20^2+J20^2) -> 0
B21: =B42 -> 2008 | C21: =C20+1 -> 3 | D21: =$M$1-C21+1 -> 11 | E21: =Q61 -> 0 | F21: 0 | G21: =+E21-F21 -> 0 | H21: =E42*SQRT(EXP(2*L42+2*N42)-EXP(2*L42+N42)) -> 0 | I21: =IFERROR(H21/G42,"") | J21: =E42*SQRT(EXP(2*M42+2*O42)-EXP(2*M42+O42)) -> 0 | K21: =IFERROR(J21/G42,"") | L21: =ABS(I42-1)*$E42 -> 0 | M21: =ABS(H42-1)*E42 -> 0 | N21: =SQRT(L21^2+H21^2) -> 0 | O21: =SQRT(M21^2+J21^2) -> 0
B22: =B43 -> 2009 | C22: =C21+1 -> 4 | D22: =$M$1-C22+1 -> 10 | E22: =Q62 -> 0 | F22: 0 | G22: =+E22-F22 -> 0 | H22: =E43*SQRT(EXP(2*L43+2*N43)-EXP(2*L43+N43)) -> 0 | I22: =IFERROR(H22/G43,"") | J22: =E43*SQRT(EXP(2*M43+2*O43)-EXP(2*M43+O43)) -> 0 | K22: =IFERROR(J22/G43,"") | L22: =ABS(I43-1)*$E43 -> 0 | M22: =ABS(H43-1)*E43 -> 0 | N22: =SQRT(L22^2+H22^2) -> 0 | O22: =SQRT(M22^2+J22^2) -> 0
B23: =B44 -> 2010 | C23: =C22+1 -> 5 | D23: =$M$1-C23+1 -> 9 | E23: =Q63 -> 0 | F23: 0 | G23: =+E23-F23 -> 0 | H23: =E44*SQRT(EXP(2*L44+2*N44)-EXP(2*L44+N44)) -> 0 | I23: =IFERROR(H23/G44,"") | J23: =E44*SQRT(EXP(2*M44+2*O44)-EXP(2*M44+O44)) -> 0 | K23: =IFERROR(J23/G44,"") | L23: =ABS(I44-1)*$E44 -> 0 | M23: =ABS(H44-1)*E44 -> 0 | N23: =SQRT(L23^2+H23^2) -> 0 | O23: =SQRT(M23^2+J23^2) -> 0
B24: =B45 -> 2011 | C24: =C23+1 -> 6 | D24: =$M$1-C24+1 -> 8 | E24: =Q64 -> 0 | F24: 0 | G24: =+E24-F24 -> 0 | H24: =E45*SQRT(EXP(2*L45+2*N45)-EXP(2*L45+N45)) -> 0 | I24: =IFERROR(H24/G45,"") | J24: =E45*SQRT(EXP(2*M45+2*O45)-EXP(2*M45+O45)) -> 0 | K24: =IFERROR(J24/G45,"") | L24: =ABS(I45-1)*$E45 -> 0 | M24: =ABS(H45-1)*E45 -> 0 | N24: =SQRT(L24^2+H24^2) -> 0 | O24: =SQRT(M24^2+J24^2) -> 0
B25: =B46 -> 2012 | C25: =C24+1 -> 7 | D25: =$M$1-C25+1 -> 7 | E25: =Q65 -> 0 | F25: 0 | G25: =+E25-F25 -> 0 | H25: =E46*SQRT(EXP(2*L46+2*N46)-EXP(2*L46+N46)) -> 0 | I25: =IFERROR(H25/G46,"") | J25: =E46*SQRT(EXP(2*M46+2*O46)-EXP(2*M46+O46)) -> 0 | K25: =IFERROR(J25/G46,"") | L25: =ABS(I46-1)*$E46 -> 0 | M25: =ABS(H46-1)*E46 -> 0 | N25: =SQRT(L25^2+H25^2) -> 0 | O25: =SQRT(M25^2+J25^2) -> 0
B26: =B47 -> 2013 | C26: =C25+1 -> 8 | D26: =$M$1-C26+1 -> 6 | E26: =Q66 -> 905 | F26: 899 | G26: =+E26-F26 -> 6 | H26: =E47*SQRT(EXP(2*L47+2*N47)-EXP(2*L47+N47)) -> 0 | I26: =IFERROR(H26/G47,"") -> 0 | J26: =E47*SQRT(EXP(2*M47+2*O47)-EXP(2*M47+O47)) -> 0 | K26: =IFERROR(J26/G47,"") -> 0 | L26: =ABS(I47-1)*$E47 -> 0 | M26: =ABS(H47-1)*E47 -> 0 | N26: =SQRT(L26^2+H26^2) -> 0 | O26: =SQRT(M26^2+J26^2) -> 0
B27: =B48 -> 2014 | C27: =C26+1 -> 9 | D27: =$M$1-C27+1 -> 5 | E27: =Q67 -> 800 | F27: 750 | G27: =+E27-F27 -> 50 | H27: =E48*SQRT(EXP(2*L48+2*N48)-EXP(2*L48+N48)) -> 0 | I27: =IFERROR(H27/G48,"") -> 0 | J27: =E48*SQRT(EXP(2*M48+2*O48)-EXP(2*M48+O48)) -> 0 | K27: =IFERROR(J27/G48,"") -> 0 | L27: =ABS(I48-1)*$E48 -> 4.3956044 | M27: =ABS(H48-1)*E48 -> 4.3956044 | N27: =SQRT(L27^2+H27^2) -> 4.3956044 | O27: =SQRT(M27^2+J27^2) -> 4.3956044
B28: =B49 -> 2015 | C28: =C27+1 -> 10 | D28: =$M$1-C28+1 -> 4 | E28: =Q68 -> 945 | F28: 900 | G28: =+E28-F28 -> 45 | H28: =E49*SQRT(EXP(2*L49+2*N49)-EXP(2*L49+N49)) -> 198.05788 | I28: =IFERROR(H28/G49,"") -> 4.4012861 | J28: =E49*SQRT(EXP(2*M49+2*O49)-EXP(2*M49+O49)) -> 199.15212 | K28: =IFERROR(J28/G49,"") -> 4.4256026 | L28: =ABS(I49-1)*$E49 -> 156.44693 | M28: =ABS(H49-1)*E49 -> 152.09028 | N28: =SQRT(L28^2+H28^2) -> 252.39367 | O28: =SQRT(M28^2+J28^2) -> 250.58536
B29: =B50 -> 2016 | C29: =C28+1 -> 11 | D29: =$M$1-C29+1 -> 3 | E29: =Q69 -> 1121 | F29: 1111 | G29: =+E29-F29 -> 10 | H29: =E50*SQRT(EXP(2*L50+2*N50)-EXP(2*L50+N50)) -> 116.10601 | I29: =IFERROR(H29/G50,"") -> 11.610601 | J29: =E50*SQRT(EXP(2*M50+2*O50)-EXP(2*M50+O50)) -> 244.95074 | K29: =IFERROR(J29/G50,"") -> 24.495074 | L29: =ABS(I50-1)*$E50 -> 92.490779 | M29: =ABS(H50-1)*E50 -> 111.56285 | N29: =SQRT(L29^2+H29^2) -> 148.44241 | O29: =SQRT(M29^2+J29^2) -> 269.16005
B30: =B51 -> 2017 | C30: =C29+1 -> 12 | D30: =$M$1-C30+1 -> 2 | E30: =Q70 -> 777 | F30: 700 | G30: =+E30-F30 -> 77 | H30: =E51*SQRT(EXP(2*L51+2*N51)-EXP(2*L51+N51)) -> 105.78022 | I30: =IFERROR(H30/G51,"") -> 1.3737691 | J30: =E51*SQRT(EXP(2*M51+2*O51)-EXP(2*M51+O51)) -> 31.697611 | K30: =IFERROR(J30/G51,"") -> 0.41165728 | L30: =ABS(I51-1)*$E51 -> 29.808361 | M30: =ABS(H51-1)*E51 -> 37.384363 | N30: =SQRT(L30^2+H30^2) -> 109.89992 | O30: =SQRT(M30^2+J30^2) -> 49.01356
B31: =B52 -> 2018 | C31: =C30+1 -> 13 | D31: =$M$1-C31+1 -> 1 | E31: =Q71 -> 900 | F31: 600 | G31: =+E31-F31 -> 300 | H31: =E52*SQRT(EXP(2*L52+2*N52)-EXP(2*L52+N52)) -> 114.57806 | I31: =IFERROR(H31/G52,"") -> 0.38192685 | J31: =E52*SQRT(EXP(2*M52+2*O52)-EXP(2*M52+O52)) -> 114.4123 | K31: =IFERROR(J31/G52,"") -> 0.38137434 | L31: =ABS(I52-1)*$E52 -> 47.028335 | M31: =ABS(H52-1)*E52 -> 13 | N31: =SQRT(L31^2+H31^2) -> 123.85393 | O31: =SQRT(M31^2+J31^2) -> 115.14849
B32: Total All AYs | E32: =SUM(E19:E31) -> 5448 | F32: =SUM(F19:F31) -> 4960 | G32: =SUM(G19:G31) -> 488
B35: =$B$1 -> Illustrative 6x6
B36: =$B$1&" Feng-Robbin Parameters by Accident Year" -> Illustrative 6x6 Feng-Robbin Parameters by Accident Year
B37: AY | C37: AY # | D37: Dev Age | E37: Diagonal Ult | F37: Paid | G37: Reserve | H37: ATA UDF | I37: ATU UDF | J37: Weight | K37: Cumulative Weight by Age | L37: Run-off Mean | M37: 1 Yr Mean | N37: Run-off Variance | O37: 1 Yr Variance
C38: y | D38: d | E38: Uy, Y-d+1 | F38: Cy, Y-d+1 | G38: Uy, Y-d+1-Cy, Y-d+1 | H38: gd | I38: Gd | J38: ry | K38: Rd | L38: ωy | M38: αy | N38: λy2 | O38: θy2
H39: Eq. (3.03) | I39: Eq. (3.04) | J39: Eq. (3.05) | K39: Eq. (3.06) | L39: Eq. (3.10) | M39: Eq. (3.16) | N39: Eq. (3.11) | O39: Eq. (3.17)
B40: =B59 -> 2006 | C40: =C59 -> 1 | D40: =$M$1-C40+1 -> 13 | E40: =Q59 -> 0 | F40: {=F19:F31} -> 0 | G40: =+E40-F40 -> 0 | H40: =INDEX($D$89:$P$89, 0, $M$1+1-C40) -> 1 | I40: =INDEX($D$90:$P$90, 0, $M$1+1-C40) -> 1 | J40: =E40/$E$53 -> 0 | K40: =SUM(J40:J$52) -> 1 | L40: =SUM($M$40:$M40) -> 0 | M40: =INDEX($D$125:$P$125, 0, $M$1+1-C40) -> 0 | N40: =SUM(OFFSET($P$195, 0, 0, -$C40, -$C40)) -> 0 | O40: =INDEX($D$108:$P$108, 0, $M$1+1-C40) -> 0
B41: =B60 -> 2007 | C41: =C60 -> 2 | D41: =$M$1-C41+1 -> 12 | E41: =Q60 -> 0 | F41: 0 | G41: =+E41-F41 -> 0 | H41: =INDEX($D$89:$P$89, 0, $M$1+1-C41) -> 1 | I41: =INDEX($D$90:$P$90, 0, $M$1+1-C41) -> 1 | J41: =E41/$E$53 -> 0 | K41: =SUM(J41:J$52) -> 1 | L41: =SUM($M$40:$M41) -> 0 | M41: =INDEX($D$125:$P$125, 0, $M$1+1-C41) -> 0 | N41: =SUM(OFFSET($P$195, 0, 0, -$C41, -$C41)) -> 0 | O41: =INDEX($D$108:$P$108, 0, $M$1+1-C41) -> 0
B42: =B61 -> 2008 | C42: =C61 -> 3 | D42: =$M$1-C42+1 -> 11 | E42: =Q61 -> 0 | F42: 0 | G42: =+E42-F42 -> 0 | H42: =INDEX($D$89:$P$89, 0, $M$1+1-C42) -> 1 | I42: =INDEX($D$90:$P$90, 0, $M$1+1-C42) -> 1 | J42: =E42/$E$53 -> 0 | K42: =SUM(J42:J$52) -> 1 | L42: =SUM($M$40:$M42) -> 0 | M42: =INDEX($D$125:$P$125, 0, $M$1+1-C42) -> 0 | N42: =SUM(OFFSET($P$195, 0, 0, -$C42, -$C42)) -> 0 | O42: =INDEX($D$108:$P$108, 0, $M$1+1-C42) -> 0
B43: =B62 -> 2009 | C43: =C62 -> 4 | D43: =$M$1-C43+1 -> 10 | E43: =Q62 -> 0 | F43: 0 | G43: =+E43-F43 -> 0 | H43: =INDEX($D$89:$P$89, 0, $M$1+1-C43) -> 1 | I43: =INDEX($D$90:$P$90, 0, $M$1+1-C43) -> 1 | J43: =E43/$E$53 -> 0 | K43: =SUM(J43:J$52) -> 1 | L43: =SUM($M$40:$M43) -> 0 | M43: =INDEX($D$125:$P$125, 0, $M$1+1-C43) -> 0 | N43: =SUM(OFFSET($P$195, 0, 0, -$C43, -$C43)) -> 0 | O43: =INDEX($D$108:$P$108, 0, $M$1+1-C43) -> 0
B44: =B63 -> 2010 | C44: =C63 -> 5 | D44: =$M$1-C44+1 -> 9 | E44: =Q63 -> 0 | F44: 0 | G44: =+E44-F44 -> 0 | H44: =INDEX($D$89:$P$89, 0, $M$1+1-C44) -> 1 | I44: =INDEX($D$90:$P$90, 0, $M$1+1-C44) -> 1 | J44: =E44/$E$53 -> 0 | K44: =SUM(J44:J$52) -> 1 | L44: =SUM($M$40:$M44) -> 0 | M44: =INDEX($D$125:$P$125, 0, $M$1+1-C44) -> 0 | N44: =SUM(OFFSET($P$195, 0, 0, -$C44, -$C44)) -> 0 | O44: =INDEX($D$108:$P$108, 0, $M$1+1-C44) -> 0
B45: =B64 -> 2011 | C45: =C64 -> 6 | D45: =$M$1-C45+1 -> 8 | E45: =Q64 -> 0 | F45: 0 | G45: =+E45-F45 -> 0 | H45: =INDEX($D$89:$P$89, 0, $M$1+1-C45) -> 1 | I45: =INDEX($D$90:$P$90, 0, $M$1+1-C45) -> 1 | J45: =E45/$E$53 -> 0 | K45: =SUM(J45:J$52) -> 1 | L45: =SUM($M$40:$M45) -> 0 | M45: =INDEX($D$125:$P$125, 0, $M$1+1-C45) -> 0 | N45: =SUM(OFFSET($P$195, 0, 0, -$C45, -$C45)) -> 0 | O45: =INDEX($D$108:$P$108, 0, $M$1+1-C45) -> 0
B46: =B65 -> 2012 | C46: =C65 -> 7 | D46: =$M$1-C46+1 -> 7 | E46: =Q65 -> 0 | F46: 0 | G46: =+E46-F46 -> 0 | H46: =INDEX($D$89:$P$89, 0, $M$1+1-C46) -> 1 | I46: =INDEX($D$90:$P$90, 0, $M$1+1-C46) -> 1 | J46: =E46/$E$53 -> 0 | K46: =SUM(J46:J$52) -> 1 | L46: =SUM($M$40:$M46) -> 0 | M46: =INDEX($D$125:$P$125, 0, $M$1+1-C46) -> 0 | N46: =SUM(OFFSET($P$195, 0, 0, -$C46, -$C46)) -> 0 | O46: =INDEX($D$108:$P$108, 0, $M$1+1-C46) -> 0
B47: =B66 -> 2013 | C47: =C66 -> 8 | D47: =$M$1-C47+1 -> 6 | E47: =Q66 -> 905 | F47: 899 | G47: =+E47-F47 -> 6 | H47: =INDEX($D$89:$P$89, 0, $M$1+1-C47) -> 1 | I47: =INDEX($D$90:$P$90, 0, $M$1+1-C47) -> 1 | J47: =E47/$E$53 -> 0.16611601 | K47: =SUM(J47:J$52) -> 1 | L47: =SUM($M$40:$M47) -> 0 | M47: =INDEX($D$125:$P$125, 0, $M$1+1-C47) -> 0 | N47: =SUM(OFFSET($P$195, 0, 0, -$C47, -$C47)) -> 0 | O47: =INDEX($D$108:$P$108, 0, $M$1+1-C47) -> 0
B48: =B67 -> 2014 | C48: =C67 -> 9 | D48: =$M$1-C48+1 -> 5 | E48: =Q67 -> 800 | F48: 750 | G48: =+E48-F48 -> 50 | H48: =INDEX($D$89:$P$89, 0, $M$1+1-C48) -> 0.99450549 | I48: =INDEX($D$90:$P$90, 0, $M$1+1-C48) -> 0.99450549 | J48: =E48/$E$53 -> 0.14684288 | K48: =SUM(J48:J$52) -> 0.83388399 | L48: =SUM($M$40:$M48) -> -0.0055096558 | M48: =INDEX($D$125:$P$125, 0, $M$1+1-C48) -> -0.0055096558 | N48: =SUM(OFFSET($P$195, 0, 0, -$C48, -$C48)) -> 0 | O48: =INDEX($D$108:$P$108, 0, $M$1+1-C48) -> 0
B49: =B68 -> 2015 | C49: =C68 -> 10 | D49: =$M$1-C49+1 -> 4 | E49: =Q68 -> 945 | F49: 900 | G49: =+E49-F49 -> 45 | H49: =INDEX($D$89:$P$89, 0, $M$1+1-C49) -> 0.8390579 | I49: =INDEX($D$90:$P$90, 0, $M$1+1-C49) -> 0.83444769 | J49: =E49/$E$53 -> 0.17345815 | K49: =SUM(J49:J$52) -> 0.68704112 | L49: =SUM($M$40:$M49) -> -0.15667995 | M49: =INDEX($D$125:$P$125, 0, $M$1+1-C49) -> -0.1511703 | N49: =SUM(OFFSET($P$195, 0, 0, -$C49, -$C49)) -> 0.055300694 | O49: =INDEX($D$108:$P$108, 0, $M$1+1-C49) -> 0.055300694
B50: =B69 -> 2016 | C50: =C69 -> 11 | D50: =$M$1-C50+1 -> 3 | E50: =Q69 -> 1121 | F50: 1111 | G50: =+E50-F50 -> 10 | H50: =INDEX($D$89:$P$89, 0, $M$1+1-C50) -> 1.0995208 | I50: =INDEX($D$90:$P$90, 0, $M$1+1-C50) -> 0.91749261 | J50: =E50/$E$53 -> 0.20576358 | K50: =SUM(J50:J$52) -> 0.51358297 | L50: =SUM($M$40:$M50) -> -0.077589208 | M50: =INDEX($D$125:$P$125, 0, $M$1+1-C50) -> 0.079090745 | N50: =SUM(OFFSET($P$195, 0, 0, -$C50, -$C50)) -> 0.012299186 | O50: =INDEX($D$108:$P$108, 0, $M$1+1-C50) -> 0.038473267
B51: =B70 -> 2017 | C51: =C70 -> 12 | D51: =$M$1-C51+1 -> 2 | E51: =Q70 -> 777 | F51: 700 | G51: =+E51-F51 -> 77 | H51: =INDEX($D$89:$P$89, 0, $M$1+1-C51) -> 1.0481137 | I51: =INDEX($D$90:$P$90, 0, $M$1+1-C51) -> 0.9616366 | J51: =E51/$E$53 -> 0.14262115 | K51: =SUM(J51:J$52) -> 0.30781938 | L51: =SUM($M$40:$M51) -> -0.0312255 | M51: =INDEX($D$125:$P$125, 0, $M$1+1-C51) -> 0.046363708 | N51: =SUM(OFFSET($P$195, 0, 0, -$C51, -$C51)) -> 0.019168803 | O51: =INDEX($D$108:$P$108, 0, $M$1+1-C51) -> 0.0015134012
B52: =B71 -> 2018 | C52: =C71 -> 13 | D52: =$M$1-C52+1 -> 1 | E52: =Q71 -> 900 | F52: 600 | G52: =+E52-F52 -> 300 | H52: =INDEX($D$89:$P$89, 0, $M$1+1-C52) -> 0.98555556 | I52: =INDEX($D$90:$P$90, 0, $M$1+1-C52) -> 0.94774629 | J52: =E52/$E$53 -> 0.16519824 | K52: =SUM(J52:J$52) -> 0.16519824 | L52: =SUM($M$40:$M52) -> -0.052365952 | M52: =INDEX($D$125:$P$125, 0, $M$1+1-C52) -> -0.021140452 | N52: =SUM(OFFSET($P$195, 0, 0, -$C52, -$C52)) -> 0.017529808 | O52: =INDEX($D$108:$P$108, 0, $M$1+1-C52) -> 0.016447627
B53: Total All AYs | E53: =SUM(E40:E52) -> 5448 | F53: =SUM(F40:F52) -> 4960 | G53: =SUM(G40:G52) -> 488
B56: =$B$1 -> Illustrative 6x6
B57: Feng-Robbin Triangle of Ultimate Losses Uy,d
A58: Include? | B58: AY | C58: AY # | D58: 1 | E58: =D58+1 -> 2 | F58: =E58+1 -> 3 | G58: =F58+1 -> 4 | H58: =G58+1 -> 5 | I58: =H58+1 -> 6 | J58: =I58+1 -> 7 | K58: =J58+1 -> 8 | L58: =K58+1 -> 9 | ... P58: =O58+1 -> 13 | Q58: Diagonal
A59: 1 | B59: =B60-1 -> 2006 | C59: 1 | Q59: =OFFSET($Q$58,$C59,-$C59) -> 0
A60: 1 | B60: =B61-1 -> 2007 | C60: =C59+1 -> 2 | Q60: =OFFSET($Q$58,$C60,-$C60) -> 0
A61: 1 | B61: =B62-1 -> 2008 | C61: =C60+1 -> 3 | Q61: =OFFSET($Q$58,$C61,-$C61) -> 0
A62: 1 | B62: =B63-1 -> 2009 | C62: =C61+1 -> 4 | Q62: =OFFSET($Q$58,$C62,-$C62) -> 0
A63: 1 | B63: =B64-1 -> 2010 | C63: =C62+1 -> 5 | Q63: =OFFSET($Q$58,$C63,-$C63) -> 0
A64: 1 | B64: =B65-1 -> 2011 | C64: =C63+1 -> 6 | Q64: =OFFSET($Q$58,$C64,-$C64) -> 0
A65: 1 | B65: =B66-1 -> 2012 | C65: =C64+1 -> 7 | Q65: =OFFSET($Q$58,$C65,-$C65) -> 0
A66: 1 | B66: =B67-1 -> 2013 | C66: =C65+1 -> 8 | D66: 900 | E66: 877 | F66: 921 | G66: 1250 | H66: 910 | I66: 905 | Q66: =OFFSET($Q$58,$C66,-$C66) -> 905
A67: 1 | B67: =B68-1 -> 2014 | C67: =C66+1 -> 9 | D67: 900 | E67: 777 | F67: 821 | G67: 788 | H67: 800 | Q67: =OFFSET($Q$58,$C67,-$C67) -> 800
A68: 1 | B68: =B69-1 -> 2015 | C68: =C67+1 -> 10 | D68: 900 | E68: 977 | F68: 971 | G68: 945 | Q68: =OFFSET($Q$58,$C68,-$C68) -> 945
A69: 1 | B69: =B70-1 -> 2016 | C69: =C68+1 -> 11 | D69: 900 | E69: 1027 | F69: 1121 | Q69: =OFFSET($Q$58,$C69,-$C69) -> 1121
A70: 1 | B70: =B71-1 -> 2017 | C70: =C69+1 -> 12 | D70: 900 | E70: 777 | Q70: =OFFSET($Q$58,$C70,-$C70) -> 777
A71: 1 | B71: 2018 | C71: =C70+1 -> 13 | D71: 900 | Q71: =OFFSET($Q$58,$C71,-$C71) -> 900
B72: Total | Q72: =SUM(Q59:Q71) -> 5448
B74: =$B$1 -> Illustrative 6x6
B75: Feng-Robbin Triangle of Ultimate Development Factors (UDF) gy,d
B76: AY | C76: AY # | D76: =D58&" - "&E58 -> 1 - 2 | E76: =E58&" - "&F58 -> 2 - 3 | F76: =F58&" - "&G58 -> 3 - 4 | G76: =G58&" - "&H58 -> 4 - 5 | H76: =H58&" - "&I58 -> 5 - 6 | I76: =I58&" - "&J58 -> 6 - 7 | J76: =J58&" - "&K58 -> 7 - 8 | K76: =K58&" - "&L58 -> 8 - 9 | ... O76: =O58&" - "&P58 -> 12 - 13 | P76: =P58&" - Ult" -> 13 - Ult
B77: =B78-1 -> 2006 | C77: 1 | D77: =IF(ISERROR(E59/D59),"",IF(E59/D59=0,"",E59/D59)) | E77: =IF(ISERROR(F59/E59),"",IF(F59/E59=0,"",F59/E59)) | F77: =IF(ISERROR(G59/F59),"",IF(G59/F59=0,"",G59/F59)) | G77: =IF(ISERROR(H59/G59),"",IF(H59/G59=0,"",H59/G59)) | H77: =IF(ISERROR(I59/H59),"",IF(I59/H59=0,"",I59/H59)) | I77: =IF(ISERROR(J59/I59),"",IF(J59/I59=0,"",J59/I59)) | J77: =IF(ISERROR(K59/J59),"",IF(K59/J59=0,"",K59/J59)) | K77: =IF(ISERROR(L59/K59),"",IF(L59/K59=0,"",L59/K59)) | ... O77: =IF(ISERROR(P59/O59),"",IF(P59/O59=0,"",P59/O59)) | P77: =IF(ISERROR(#REF!/P59),"",IF(#REF!/P59=0,"",#REF!/P59))
B78: =B79-1 -> 2007 | C78: =C77+1 -> 2 | D78: =IF(ISERROR(E60/D60),"",IF(E60/D60=0,"",E60/D60)) | E78: =IF(ISERROR(F60/E60),"",IF(F60/E60=0,"",F60/E60)) | F78: =IF(ISERROR(G60/F60),"",IF(G60/F60=0,"",G60/F60)) | G78: =IF(ISERROR(H60/G60),"",IF(H60/G60=0,"",H60/G60)) | H78: =IF(ISERROR(I60/H60),"",IF(I60/H60=0,"",I60/H60)) | I78: =IF(ISERROR(J60/I60),"",IF(J60/I60=0,"",J60/I60)) | J78: =IF(ISERROR(K60/J60),"",IF(K60/J60=0,"",K60/J60)) | K78: =IF(ISERROR(L60/K60),"",IF(L60/K60=0,"",L60/K60)) | ... O78: =IF(ISERROR(P60/O60),"",IF(P60/O60=0,"",P60/O60)) | P78: =IF(ISERROR(#REF!/P60),"",IF(#REF!/P60=0,"",#REF!/P60))
B79: =B80-1 -> 2008 | C79: =C78+1 -> 3 | D79: =IF(ISERROR(E61/D61),"",IF(E61/D61=0,"",E61/D61)) | E79: =IF(ISERROR(F61/E61),"",IF(F61/E61=0,"",F61/E61)) | F79: =IF(ISERROR(G61/F61),"",IF(G61/F61=0,"",G61/F61)) | G79: =IF(ISERROR(H61/G61),"",IF(H61/G61=0,"",H61/G61)) | H79: =IF(ISERROR(I61/H61),"",IF(I61/H61=0,"",I61/H61)) | I79: =IF(ISERROR(J61/I61),"",IF(J61/I61=0,"",J61/I61)) | J79: =IF(ISERROR(K61/J61),"",IF(K61/J61=0,"",K61/J61)) | K79: =IF(ISERROR(L61/K61),"",IF(L61/K61=0,"",L61/K61)) | ... O79: =IF(ISERROR(P61/O61),"",IF(P61/O61=0,"",P61/O61)) | P79: =IF(ISERROR(#REF!/P61),"",IF(#REF!/P61=0,"",#REF!/P61))
B80: =B81-1 -> 2009 | C80: =C79+1 -> 4 | D80: =IF(ISERROR(E62/D62),"",IF(E62/D62=0,"",E62/D62)) | E80: =IF(ISERROR(F62/E62),"",IF(F62/E62=0,"",F62/E62)) | F80: =IF(ISERROR(G62/F62),"",IF(G62/F62=0,"",G62/F62)) | G80: =IF(ISERROR(H62/G62),"",IF(H62/G62=0,"",H62/G62)) | H80: =IF(ISERROR(I62/H62),"",IF(I62/H62=0,"",I62/H62)) | I80: =IF(ISERROR(J62/I62),"",IF(J62/I62=0,"",J62/I62)) | J80: =IF(ISERROR(K62/J62),"",IF(K62/J62=0,"",K62/J62)) | K80: =IF(ISERROR(L62/K62),"",IF(L62/K62=0,"",L62/K62)) | ... O80: =IF(ISERROR(P62/O62),"",IF(P62/O62=0,"",P62/O62)) | P80: =IF(ISERROR(#REF!/P62),"",IF(#REF!/P62=0,"",#REF!/P62))
B81: =B82-1 -> 2010 | C81: =C80+1 -> 5 | D81: =IF(ISERROR(E63/D63),"",IF(E63/D63=0,"",E63/D63)) | E81: =IF(ISERROR(F63/E63),"",IF(F63/E63=0,"",F63/E63)) | F81: =IF(ISERROR(G63/F63),"",IF(G63/F63=0,"",G63/F63)) | G81: =IF(ISERROR(H63/G63),"",IF(H63/G63=0,"",H63/G63)) | H81: =IF(ISERROR(I63/H63),"",IF(I63/H63=0,"",I63/H63)) | I81: =IF(ISERROR(J63/I63),"",IF(J63/I63=0,"",J63/I63)) | J81: =IF(ISERROR(K63/J63),"",IF(K63/J63=0,"",K63/J63)) | K81: =IF(ISERROR(L63/K63),"",IF(L63/K63=0,"",L63/K63)) | ... O81: =IF(ISERROR(P63/O63),"",IF(P63/O63=0,"",P63/O63)) | P81: =IF(ISERROR(#REF!/P63),"",IF(#REF!/P63=0,"",#REF!/P63))
B82: =B83-1 -> 2011 | C82: =C81+1 -> 6 | D82: =IF(ISERROR(E64/D64),"",IF(E64/D64=0,"",E64/D64)) | E82: =IF(ISERROR(F64/E64),"",IF(F64/E64=0,"",F64/E64)) | F82: =IF(ISERROR(G64/F64),"",IF(G64/F64=0,"",G64/F64)) | G82: =IF(ISERROR(H64/G64),"",IF(H64/G64=0,"",H64/G64)) | H82: =IF(ISERROR(I64/H64),"",IF(I64/H64=0,"",I64/H64)) | I82: =IF(ISERROR(J64/I64),"",IF(J64/I64=0,"",J64/I64)) | J82: =IF(ISERROR(K64/J64),"",IF(K64/J64=0,"",K64/J64)) | K82: =IF(ISERROR(L64/K64),"",IF(L64/K64=0,"",L64/K64)) | ... O82: =IF(ISERROR(P64/O64),"",IF(P64/O64=0,"",P64/O64)) | P82: =IF(ISERROR(#REF!/P64),"",IF(#REF!/P64=0,"",#REF!/P64))
B83: =B84-1 -> 2012 | C83: =C82+1 -> 7 | D83: =IF(ISERROR(E65/D65),"",IF(E65/D65=0,"",E65/D65)) | E83: =IF(ISERROR(F65/E65),"",IF(F65/E65=0,"",F65/E65)) | F83: =IF(ISERROR(G65/F65),"",IF(G65/F65=0,"",G65/F65)) | G83: =IF(ISERROR(H65/G65),"",IF(H65/G65=0,"",H65/G65)) | H83: =IF(ISERROR(I65/H65),"",IF(I65/H65=0,"",I65/H65)) | I83: =IF(ISERROR(J65/I65),"",IF(J65/I65=0,"",J65/I65)) | J83: =IF(ISERROR(K65/J65),"",IF(K65/J65=0,"",K65/J65)) | K83: =IF(ISERROR(L65/K65),"",IF(L65/K65=0,"",L65/K65)) | ... O83: =IF(ISERROR(P65/O65),"",IF(P65/O65=0,"",P65/O65)) | P83: =IF(ISERROR(#REF!/P65),"",IF(#REF!/P65=0,"",#REF!/P65))
B84: =B85-1 -> 2013 | C84: =C83+1 -> 8 | D84: =IF(ISERROR(E66/D66),"",IF(E66/D66=0,"",E66/D66)) -> 0.97444444 | E84: =IF(ISERROR(F66/E66),"",IF(F66/E66=0,"",F66/E66)) -> 1.050171 | F84: =IF(ISERROR(G66/F66),"",IF(G66/F66=0,"",G66/F66)) -> 1.3572204 | G84: =IF(ISERROR(H66/G66),"",IF(H66/G66=0,"",H66/G66)) -> 0.728 | H84: =IF(ISERROR(I66/H66),"",IF(I66/H66=0,"",I66/H66)) -> 0.99450549 | I84: =IF(ISERROR(J66/I66),"",IF(J66/I66=0,"",J66/I66)) | J84: =IF(ISERROR(K66/J66),"",IF(K66/J66=0,"",K66/J66)) | K84: =IF(ISERROR(L66/K66),"",IF(L66/K66=0,"",L66/K66)) | ... O84: =IF(ISERROR(P66/O66),"",IF(P66/O66=0,"",P66/O66)) | P84: =IF(ISERROR(#REF!/P66),"",IF(#REF!/P66=0,"",#REF!/P66))
B85: =B86-1 -> 2014 | C85: =C84+1 -> 9 | D85: =IF(ISERROR(E67/D67),"",IF(E67/D67=0,"",E67/D67)) -> 0.86333333 | E85: =IF(ISERROR(F67/E67),"",IF(F67/E67=0,"",F67/E67)) -> 1.0566281 | F85: =IF(ISERROR(G67/F67),"",IF(G67/F67=0,"",G67/F67)) -> 0.95980512 | G85: =IF(ISERROR(H67/G67),"",IF(H67/G67=0,"",H67/G67)) -> 1.0152284 | H85: =IF(ISERROR(I67/H67),"",IF(I67/H67=0,"",I67/H67)) | I85: =IF(ISERROR(J67/I67),"",IF(J67/I67=0,"",J67/I67)) | J85: =IF(ISERROR(K67/J67),"",IF(K67/J67=0,"",K67/J67)) | K85: =IF(ISERROR(L67/K67),"",IF(L67/K67=0,"",L67/K67)) | ... O85: =IF(ISERROR(P67/O67),"",IF(P67/O67=0,"",P67/O67)) | P85: =IF(ISERROR(#REF!/P67),"",IF(#REF!/P67=0,"",#REF!/P67))
B86: =B87-1 -> 2015 | C86: =C85+1 -> 10 | D86: =IF(ISERROR(E68/D68),"",IF(E68/D68=0,"",E68/D68)) -> 1.0855556 | E86: =IF(ISERROR(F68/E68),"",IF(F68/E68=0,"",F68/E68)) -> 0.99385875 | F86: =IF(ISERROR(G68/F68),"",IF(G68/F68=0,"",G68/F68)) -> 0.97322348 | G86: =IF(ISERROR(H68/G68),"",IF(H68/G68=0,"",H68/G68)) | H86: =IF(ISERROR(I68/H68),"",IF(I68/H68=0,"",I68/H68)) | I86: =IF(ISERROR(J68/I68),"",IF(J68/I68=0,"",J68/I68)) | J86: =IF(ISERROR(K68/J68),"",IF(K68/J68=0,"",K68/J68)) | K86: =IF(ISERROR(L68/K68),"",IF(L68/K68=0,"",L68/K68)) | ... O86: =IF(ISERROR(P68/O68),"",IF(P68/O68=0,"",P68/O68)) | P86: =IF(ISERROR(#REF!/P68),"",IF(#REF!/P68=0,"",#REF!/P68))
B87: =B88-1 -> 2016 | C87: =C86+1 -> 11 | D87: =IF(ISERROR(E69/D69),"",IF(E69/D69=0,"",E69/D69)) -> 1.1411111 | E87: =IF(ISERROR(F69/E69),"",IF(F69/E69=0,"",F69/E69)) -> 1.0915287 | F87: =IF(ISERROR(G69/F69),"",IF(G69/F69=0,"",G69/F69)) | G87: =IF(ISERROR(H69/G69),"",IF(H69/G69=0,"",H69/G69)) | H87: =IF(ISERROR(I69/H69),"",IF(I69/H69=0,"",I69/H69)) | I87: =IF(ISERROR(J69/I69),"",IF(J69/I69=0,"",J69/I69)) | J87: =IF(ISERROR(K69/J69),"",IF(K69/J69=0,"",K69/J69)) | K87: =IF(ISERROR(L69/K69),"",IF(L69/K69=0,"",L69/K69)) | ... O87: =IF(ISERROR(P69/O69),"",IF(P69/O69=0,"",P69/O69)) | P87: =IF(ISERROR(#REF!/P69),"",IF(#REF!/P69=0,"",#REF!/P69))
B88: =B71-1 -> 2017 | C88: =C87+1 -> 12 | D88: =IF(ISERROR(E70/D70),"",IF(E70/D70=0,"",E70/D70)) -> 0.86333333 | E88: =IF(ISERROR(F70/E70),"",IF(F70/E70=0,"",F70/E70)) | F88: =IF(ISERROR(G70/F70),"",IF(G70/F70=0,"",G70/F70)) | G88: =IF(ISERROR(H70/G70),"",IF(H70/G70=0,"",H70/G70)) | H88: =IF(ISERROR(I70/H70),"",IF(I70/H70=0,"",I70/H70)) | I88: =IF(ISERROR(J70/I70),"",IF(J70/I70=0,"",J70/I70)) | J88: =IF(ISERROR(K70/J70),"",IF(K70/J70=0,"",K70/J70)) | K88: =IF(ISERROR(L70/K70),"",IF(L70/K70=0,"",L70/K70)) | ... O88: =IF(ISERROR(P70/O70),"",IF(P70/O70=0,"",P70/O70)) | P88: =IF(ISERROR(#REF!/P70),"",IF(#REF!/P70=0,"",#REF!/P70))
B89: Wtd Avg ATA gd | D89: =IFERROR(SUMPRODUCT($A$59:$A$71, E$59:E$71, --($C$59:$C$71<$M$1+1-D$58))/SUMPRODUCT($A$59:$A$71, D$59:D$71, --($C$59:$C$71<$M$1+1-D$58)), 1) -> 0.98555556 | E89: =IFERROR(SUMPRODUCT($A$59:$A$71, F$59:F$71, --($C$59:$C$71<$M$1+1-E$58))/SUMPRODUCT($A$59:$A$71, E$59:E$71, --($C$59:$C$71<$M$1+1-E$58)), 1) -> 1.0481137 | F89: =IFERROR(SUMPRODUCT($A$59:$A$71, G$59:G$71, --($C$59:$C$71<$M$1+1-F$58))/SUMPRODUCT($A$59:$A$71, F$59:F$71, --($C$59:$C$71<$M$1+1-F$58)), 1) -> 1.0995208 | G89: =IFERROR(SUMPRODUCT($A$59:$A$71, H$59:H$71, --($C$59:$C$71<$M$1+1-G$58))/SUMPRODUCT($A$59:$A$71, G$59:G$71, --($C$59:$C$71<$M$1+1-G$58)), 1) -> 0.8390579 | H89: =IFERROR(SUMPRODUCT($A$59:$A$71, I$59:I$71, --($C$59:$C$71<$M$1+1-H$58))/SUMPRODUCT($A$59:$A$71, H$59:H$71, --($C$59:$C$71<$M$1+1-H$58)), 1) -> 0.99450549 | I89: =IFERROR(SUMPRODUCT($A$59:$A$71, J$59:J$71, --($C$59:$C$71<$M$1+1-I$58))/SUMPRODUCT($A$59:$A$71, I$59:I$71, --($C$59:$C$71<$M$1+1-I$58)), 1) -> 1 | J89: =IFERROR(SUMPRODUCT($A$59:$A$71, K$59:K$71, --($C$59:$C$71<$M$1+1-J$58))/SUMPRODUCT($A$59:$A$71, J$59:J$71, --($C$59:$C$71<$M$1+1-J$58)), 1) -> 1 | K89: =IFERROR(SUMPRODUCT($A$59:$A$71, L$59:L$71, --($C$59:$C$71<$M$1+1-K$58))/SUMPRODUCT($A$59:$A$71, K$59:K$71, --($C$59:$C$71<$M$1+1-K$58)), 1) -> 1 | ... O89: =IFERROR(SUMPRODUCT($A$59:$A$71, P$59:P$71, --($C$59:$C$71<$M$1+1-O$58))/SUMPRODUCT($A$59:$A$71, O$59:O$71, --($C$59:$C$71<$M$1+1-O$58)), 1) -> 1 | P89: =IFERROR(SUMPRODUCT($A$59:$A$71,#REF!, --( $C$59:$C$71<$M$1+1-P$58))/SUMPRODUCT($A$59:$A$71, P$59:P$71, --($C$59:$C$71<$M$1+1-P$58)), 1) -> 1
B90: ATU Gd | D90: =D89*E90 -> 0.94774629 | E90: =E89*F90 -> 0.9616366 | F90: =F89*G90 -> 0.91749261 | G90: =G89*H90 -> 0.83444769 | H90: =H89*I90 -> 0.99450549 | I90: =I89*J90 -> 1 | J90: =J89*K90 -> 1 | K90: =K89*L90 -> 1 | ... O90: =O89*P90 -> 1 | P90: =P89 -> 1
B92: =$B$1 -> Illustrative 6x6
B93: Feng-Robbin Triangle of Log UDF ln(gd) | AH93: =IF(#REF!>$J$1+1,"",IF(AG93="","",AG93*OFFSET($B$89,0,MATCH(#REF!,#REF!,0)))) -> #REF!
B94: AY | C94: AY # | D94: =D76 -> 1 - 2 | E94: =E76 -> 2 - 3 | F94: =F76 -> 3 - 4 | G94: =G76 -> 4 - 5 | H94: =H76 -> 5 - 6 | I94: =I76 -> 6 - 7 | J94: =J76 -> 7 - 8 | K94: =K76 -> 8 - 9 | ... P94: =P76 -> 13 - Ult
B95: =B96-1 -> 2006 | C95: 1 | D95: =IFERROR(LN(D77), "") | E95: =IFERROR(LN(E77), "") | F95: =IFERROR(LN(F77), "") | G95: =IFERROR(LN(G77), "") | H95: =IFERROR(LN(H77), "") | I95: =IFERROR(LN(I77), "") | J95: =IFERROR(LN(J77), "") | K95: =IFERROR(LN(K77), "") | ... P95: =IFERROR(LN(P77), "")
B96: =B97-1 -> 2007 | C96: =C95+1 -> 2 | D96: =IFERROR(LN(D78), "") | E96: =IFERROR(LN(E78), "") | F96: =IFERROR(LN(F78), "") | G96: =IFERROR(LN(G78), "") | H96: =IFERROR(LN(H78), "") | I96: =IFERROR(LN(I78), "") | J96: =IFERROR(LN(J78), "") | K96: =IFERROR(LN(K78), "") | ... P96: =IFERROR(LN(P78), "")
B97: =B98-1 -> 2008 | C97: =C96+1 -> 3 | D97: =IFERROR(LN(D79), "") | E97: =IFERROR(LN(E79), "") | F97: =IFERROR(LN(F79), "") | G97: =IFERROR(LN(G79), "") | H97: =IFERROR(LN(H79), "") | I97: =IFERROR(LN(I79), "") | J97: =IFERROR(LN(J79), "") | K97: =IFERROR(LN(K79), "") | ... P97: =IFERROR(LN(P79), "")
B98: =B99-1 -> 2009 | C98: =C97+1 -> 4 | D98: =IFERROR(LN(D80), "") | E98: =IFERROR(LN(E80), "") | F98: =IFERROR(LN(F80), "") | G98: =IFERROR(LN(G80), "") | H98: =IFERROR(LN(H80), "") | I98: =IFERROR(LN(I80), "") | J98: =IFERROR(LN(J80), "") | K98: =IFERROR(LN(K80), "") | ... P98: =IFERROR(LN(P80), "")
B99: =B100-1 -> 2010 | C99: =C98+1 -> 5 | D99: =IFERROR(LN(D81), "") | E99: =IFERROR(LN(E81), "") | F99: =IFERROR(LN(F81), "") | G99: =IFERROR(LN(G81), "") | H99: =IFERROR(LN(H81), "") | I99: =IFERROR(LN(I81), "") | J99: =IFERROR(LN(J81), "") | K99: =IFERROR(LN(K81), "") | ... P99: =IFERROR(LN(P81), "")
B100: =B101-1 -> 2011 | C100: =C99+1 -> 6 | D100: =IFERROR(LN(D82), "") | E100: =IFERROR(LN(E82), "") | F100: =IFERROR(LN(F82), "") | G100: =IFERROR(LN(G82), "") | H100: =IFERROR(LN(H82), "") | I100: =IFERROR(LN(I82), "") | J100: =IFERROR(LN(J82), "") | K100: =IFERROR(LN(K82), "") | ... P100: =IFERROR(LN(P82), "")
B101: =B102-1 -> 2012 | C101: =C100+1 -> 7 | D101: =IFERROR(LN(D83), "") | E101: =IFERROR(LN(E83), "") | F101: =IFERROR(LN(F83), "") | G101: =IFERROR(LN(G83), "") | H101: =IFERROR(LN(H83), "") | I101: =IFERROR(LN(I83), "") | J101: =IFERROR(LN(J83), "") | K101: =IFERROR(LN(K83), "") | ... P101: =IFERROR(LN(P83), "")
B102: =B103-1 -> 2013 | C102: =C101+1 -> 8 | D102: =IFERROR(LN(D84), "") -> -0.025887771 | E102: =IFERROR(LN(E84), "") -> 0.048953044 | F102: =IFERROR(LN(F84), "") -> 0.30543879 | G102: =IFERROR(LN(G84), "") -> -0.31745423 | H102: =IFERROR(LN(H84), "") -> -0.0055096558 | I102: =IFERROR(LN(I84), "") | J102: =IFERROR(LN(J84), "") | K102: =IFERROR(LN(K84), "") | ... P102: =IFERROR(LN(P84), "")
B103: =B104-1 -> 2014 | C103: =C102+1 -> 9 | D103: =IFERROR(LN(D85), "") -> -0.14695441 | E103: =IFERROR(LN(E85), "") -> 0.055082759 | F103: =IFERROR(LN(F85), "") -> -0.04102502 | G103: =IFERROR(LN(G85), "") -> 0.015113638 | H103: =IFERROR(LN(H85), "") | I103: =IFERROR(LN(I85), "") | J103: =IFERROR(LN(J85), "") | K103: =IFERROR(LN(K85), "") | ... P103: =IFERROR(LN(P85), "")
B104: =B105-1 -> 2015 | C104: =C103+1 -> 10 | D104: =IFERROR(LN(D86), "") -> 0.082091889 | E104: =IFERROR(LN(E86), "") -> -0.0061601838 | F104: =IFERROR(LN(F86), "") -> -0.027141541 | G104: =IFERROR(LN(G86), "") | H104: =IFERROR(LN(H86), "") | I104: =IFERROR(LN(I86), "") | J104: =IFERROR(LN(J86), "") | K104: =IFERROR(LN(K86), "") | ... P104: =IFERROR(LN(P86), "")
B105: =B106-1 -> 2016 | C105: =C104+1 -> 11 | D105: =IFERROR(LN(D87), "") -> 0.13200245 | E105: =IFERROR(LN(E87), "") -> 0.087579213 | F105: =IFERROR(LN(F87), "") | G105: =IFERROR(LN(G87), "") | H105: =IFERROR(LN(H87), "") | I105: =IFERROR(LN(I87), "") | J105: =IFERROR(LN(J87), "") | K105: =IFERROR(LN(K87), "") | ... P105: =IFERROR(LN(P87), "")
B106: =B71-1 -> 2017 | C106: =C105+1 -> 12 | D106: =IFERROR(LN(D88), "") -> -0.14695441 | E106: =IFERROR(LN(E88), "") | F106: =IFERROR(LN(F88), "") | G106: =IFERROR(LN(G88), "") | H106: =IFERROR(LN(H88), "") | I106: =IFERROR(LN(I88), "") | J106: =IFERROR(LN(J88), "") | K106: =IFERROR(LN(K88), "") | ... P106: =IFERROR(LN(P88), "")
B107: Sample Mean μd | D107: =IFERROR(AVERAGE(D95:D106), 0) -> -0.021140452 | E107: =IFERROR(AVERAGE(E95:E106), 0) -> 0.046363708 | F107: =IFERROR(AVERAGE(F95:F106), 0) -> 0.079090745 | G107: =IFERROR(AVERAGE(G95:G106), 0) -> -0.1511703 | H107: =IFERROR(AVERAGE(H95:H106), 0) -> -0.0055096558 | I107: =IFERROR(AVERAGE(I95:I106), 0) -> 0 | J107: =IFERROR(AVERAGE(J95:J106), 0) -> 0 | K107: =IFERROR(AVERAGE(K95:K106), 0) -> 0 | ... P107: =IFERROR(AVERAGE(P95:P106), 0) -> 0
B108: Sample Variance σd2 | D108: =IFERROR(_xlfn.VAR.S(D95:D106), 0) -> 0.016447627 | E108: =IFERROR(_xlfn.VAR.S(E95:E106), 0) -> 0.0015134012 | F108: =IFERROR(_xlfn.VAR.S(F95:F106), 0) -> 0.038473267 | G108: =IFERROR(_xlfn.VAR.S(G95:G106), 0) -> 0.055300694 | H108: =IFERROR(_xlfn.VAR.S(H95:H106), 0) -> 0 | I108: =IFERROR(_xlfn.VAR.S(I95:I106), 0) -> 0 | J108: =IFERROR(_xlfn.VAR.S(J95:J106), 0) -> 0 | K108: =IFERROR(_xlfn.VAR.S(K95:K106), 0) -> 0 | ... P108: =IFERROR(_xlfn.VAR.S(P95:P106), 0) -> 0
...

Sheet Summary
E2: Reserve Risk Results
A3: Study | B3: Source Paid Loss Triangle | C3: Ultimate Loss Methodology | D3: Quantity | E3: Feng Robbin Method | F3: FR - Diagonal | G3: FR - Fill in | H3: Rehman Klugman Method | I3: Siegenthaler Method | J3: Mack and Merz Wuthrich Methods
A4: 1 | B4: Triangle 1 - Stable Very Short-tailed Triangle | C4: Chain Ladder | D4: Reserve Projection | E4: ='Study1 FR RK'!$G$53 -> 113115 | F4: ='Study1 FR RK'!$G$53 -> 113115 | G4: ='Study1 FR RK'!$G$53 -> 113115 | H4: ='Study1 FR RK'!$G$53 -> 113115 | I4: ='Study1 Sieg'!$G$22 -> 113115 | J4: =I4 -> 113115
D5: 1yr Standard Error | E5: ='Study1 FR RK'!$J$9 -> 11856.423 | F5: ='Study1 FR RK'!$J$10 -> 11887.407 | G5: ='Study1 FR RK'!$J$11 -> 11612.329 | I5: ='Study1 Sieg'!$Q$22 -> 12024.831 | J5: ='Study1 MMW'!$Q$21 -> 11203.208
D6: Total Run-off Standard Error | E6: ='Study1 FR RK'!$H$9 -> 19577.57 | F6: ='Study1 FR RK'!$H$10 -> 19792.233 | G6: ='Study1 FR RK'!$H$11 -> 17915.919 | H6: ='Study1 FR RK'!$H$13 -> 14223.621 | I6: ='Study1 Sieg'!$M$22 -> 15227.261 | J6: ='Study1 MMW'!$M$21 -> 13456.88
D7: 1yr CV | E7: =E5/E4 -> 0.10481743 | F7: =F5/F4 -> 0.10509134 | G7: =G5/G4 -> 0.1026595 | I7: =I5/I4 -> 0.10630625 | J7: =J5/J4 -> 0.099042638
D8: Total Run-off CV | E8: =E6/E4 -> 0.17307669 | F8: =F6/F4 -> 0.17497444 | G8: =G6/G4 -> 0.15838676 | H8: =H6/H4 -> 0.12574478 | I8: =I6/I4 -> 0.13461752 | J8: =J6/J4 -> 0.11896636
D9: Ratio of 1yr to Ultimate Risk | E9: =E5/E6 -> 0.60561261 | F9: =F5/F6 -> 0.6006097 | G9: =G5/G6 -> 0.64815708 | I9: =I5/I6 -> 0.789691 | J9: =J5/J6 -> 0.83252641
A10: 2 | B10: Triangle 2 - Short tailed triangle with Medium Volatility | C10: Chain Ladder | D10: Reserve Projection | E10: ='Study2 FR RK'!$G$53 -> 401360.57 | F10: ='Study2 FR RK'!$G$53 -> 401360.57 | G10: ='Study2 FR RK'!$G$53 -> 401360.57 | H10: ='Study2 FR RK'!$G$53 -> 401360.57 | I10: ='Study2 Sieg'!$G$22 -> 401360.57 | J10: =I10 -> 401360.57
D11: 1yr Standard Error | E11: ='Study2 FR RK'!$J$9 -> 86413.31 | F11: ='Study2 FR RK'!$J$10 -> 86157.37 | G11: ='Study2 FR RK'!$J$11 -> 85035.844 | I11: ='Study2 Sieg'!$Q$22 -> 115886.26 | J11: ='Study2 MMW'!$Q$21 -> 117503.83
D12: Total Run-off Standard Error | E12: ='Study2 FR RK'!$H$9 -> 105856.33 | F12: ='Study2 FR RK'!$H$10 -> 105060.32 | G12: ='Study2 FR RK'!$H$11 -> 102137.75 | H12: ='Study2 FR RK'!$H$13 -> 88928.743 | I12: ='Study2 Sieg'!$M$22 -> 120749.36 | J12: ='Study2 MMW'!$M$21 -> 122887.37
D13: 1yr CV | E13: =E11/E10 -> 0.21530094 | F13: =F11/F10 -> 0.21466326 | G13: =G11/G10 -> 0.21186895 | I13: =I11/I10 -> 0.28873355 | J13: =J11/J10 -> 0.29276375
D14: Total Run-off CV | E14: =E12/E10 -> 0.26374371 | F14: =F12/F10 -> 0.26176045 | G14: =G12/G10 -> 0.25447879 | H14: =H12/H10 -> 0.22156821 | I14: =I12/I10 -> 0.30085007 | J14: =J12/J10 -> 0.30617699
D15: Ratio of 1yr to Ultimate Risk | E15: =E11/E12 -> 0.81632636 | F15: =F11/F12 -> 0.82007524 | G15: =G11/G12 -> 0.83256035 | I15: =I11/I12 -> 0.95972571 | J15: =J11/J12 -> 0.95619121
A16: 3 | B16: Triangle 2 - Short tailed triangle with Medium Volatility | C16: BF | D16: Reserve Projection | E16: ='Study3 FR RK'!$G$53 -> 451577.26 | F16: ='Study3 FR RK'!$G$53 -> 451577.26 | G16: ='Study3 FR RK'!$G$53 -> 451577.26 | H16: ='Study3 FR RK'!$G$53 -> 451577.26 | I16: ='Study3 Sieg'!$G$22 -> 451577.26 | J16: =I16 -> 451577.26
D17: 1yr Standard Error | E17: ='Study3 FR RK'!$J$9 -> 75589.735 | F17: ='Study3 FR RK'!$J$10 -> 75211.298 | G17: ='Study3 FR RK'!$J$11 -> 74433.052 | I17: ='Study3 Sieg'!$Q$22 -> 89774.019 | J17: ='Study3 MMW'!$Q$21 -> 117503.83
D18: Total Run-off Standard Error | E18: ='Study3 FR RK'!$H$9 -> 91463.71 | F18: ='Study3 FR RK'!$H$10 -> 91306.68 | G18: ='Study3 FR RK'!$H$11 -> 89171.462 | H18: ='Study3 FR RK'!$H$13 -> 74199.01 | I18: ='Study3 Sieg'!$M$22 -> 101625.27 | J18: ='Study3 MMW'!$M$21 -> 122887.37
D19: 1yr CV | E19: =E17/E16 -> 0.16739048 | F19: =F17/F16 -> 0.16655245 | G19: =G17/G16 -> 0.16482905 | I19: =I17/I16 -> 0.19880102 | J19: =J17/J16 -> 0.26020758
D20: Total Run-off CV | E20: =E18/E16 -> 0.20254277 | F20: =F18/F16 -> 0.20219503 | G20: =G18/G16 -> 0.19746668 | H20: =H18/H16 -> 0.16431078 | I20: =I18/I16 -> 0.22504516 | J20: =J18/J16 -> 0.27212923
D21: Ratio of 1yr to Ultimate Risk | E21: =E17/E18 -> 0.82644511 | F21: =F17/F18 -> 0.82372175 | G21: =G17/G18 -> 0.83471831 | I21: =I17/I18 -> 0.8833828 | J21: =J17/J18 -> 0.95619121
A22: 4 | B22: Triangle 3 - Long-tailed Volatile Triangle | C22: Chain Ladder | D22: Reserve Projection | E22: ='Study4 FR RK'!$G$53 -> 3055087.5 | F22: ='Study4 FR RK'!$G$53 -> 3055087.5 | G22: ='Study4 FR RK'!$G$53 -> 3055087.5 | H22: ='Study4 FR RK'!$G$53 -> 3055087.5 | I22: ='Study4 Sieg'!$G$22 -> 3055087.5 | J22: =I22 -> 3055087.5
D23: 1yr Standard Error | E23: ='Study4 FR RK'!$J$9 -> 359403.12 | F23: ='Study4 FR RK'!$J$10 -> 401130.6 | G23: ='Study4 FR RK'!$J$11 -> 348425.14 | I23: ='Study4 Sieg'!$Q$22 -> 744459.42 | J23: ='Study4 MMW'!$Q$21 -> 654206.06
D24: Total Run-off Standard Error | E24: ='Study4 FR RK'!$H$9 -> 1103328.1 | F24: ='Study4 FR RK'!$H$10 -> 1139068.6 | G24: ='Study4 FR RK'!$H$11 -> 761360.95 | H24: ='Study4 FR RK'!$H$13 -> 644328.2 | I24: ='Study4 Sieg'!$M$22 -> 897343.75 | J24: ='Study4 MMW'!$M$21 -> 838258.46
D25: 1yr CV | E25: =E23/E22 -> 0.11764086 | F25: =F23/F22 -> 0.13129922 | G25: =G23/G22 -> 0.11404751 | I25: =I23/I22 -> 0.24367859 | J25: =J23/J22 -> 0.2141366
D26: Total Run-off CV | E26: =E24/E22 -> 0.36114452 | F26: =F24/F22 -> 0.37284318 | G26: =G24/G22 -> 0.24921084 | H26: =H24/H22 -> 0.21090335 | I26: =I24/I22 -> 0.29372112 | J26: =J24/J22 -> 0.27438116
D27: Ratio of 1yr to Ultimate Risk | E27: =E23/E24 -> 0.32574455 | F27: =F23/F24 -> 0.35215668 | G27: =G23/G24 -> 0.45763464 | I27: =I23/I24 -> 0.82962568 | J27: =J23/J24 -> 0.78043479
A28: 5 | B28: Triangle 3 - Long-tailed Volatile Triangle | C28: BF | D28: Reserve Projection | E28: ='Study5 FR RK'!$G$53 -> 3199691.7 | F28: ='Study5 FR RK'!$G$53 -> 3199691.7 | G28: ='Study5 FR RK'!$G$53 -> 3199691.7 | H28: ='Study5 FR RK'!$G$53 -> 3199691.7 | I28: ='Study5 Sieg'!$G$22 -> 3199691.7 | J28: =I28 -> 3199691.7
D29: 1yr Standard Error | E29: ='Study5 FR RK'!$J$9 -> 111485.12 | F29: ='Study5 FR RK'!$J$10 -> 130815.46 | G29: ='Study5 FR RK'!$J$11 -> 99981.288 | I29: ='Study5 Sieg'!$Q$22 -> 136231.38 | J29: ='Study5 MMW'!$Q$21 -> 654206.06
D30: Total Run-off Standard Error | E30: ='Study5 FR RK'!$H$9 -> 452771.92 | F30: ='Study5 FR RK'!$H$10 -> 594815.33 | G30: ='Study5 FR RK'!$H$11 -> 354589.85 | H30: ='Study5 FR RK'!$H$13 -> 211451.94 | I30: ='Study5 Sieg'!$M$22 -> 334606.47 | J30: ='Study5 MMW'!$M$21 -> 838258.46
D31: 1yr CV | E31: =E29/E28 -> 0.034842456 | F31: =F29/F28 -> 0.040883769 | G31: =G29/G28 -> 0.031247163 | I31: =I29/I28 -> 0.042576409 | J31: =J29/J28 -> 0.20445909
D32: Total Run-off CV | E32: =E30/E28 -> 0.14150486 | F32: =F30/F28 -> 0.1858977 | G32: =G30/G28 -> 0.11082 | H32: =H30/H28 -> 0.066085097 | I32: =I30/I28 -> 0.1045746 | J32: =J30/J28 -> 0.26198101
D33: Ratio of 1yr to Ultimate Risk | E33: =E29/E30 -> 0.24622798 | F33: =F29/F30 -> 0.21992617 | G33: =G29/G30 -> 0.2819632 | I33: =I29/I30 -> 0.40713911 | J33: =J29/J30 -> 0.78043479
A34: 6 | B34: Triangle 3 - Long-tailed Volatile Triangle | C34: Actuarial Best Estimate | D34: Reserve Projection | E34: ='Study6 FR RK'!$G$53 -> 3210824.7 | F34: ='Study6 FR RK'!$G$53 -> 3210824.7 | G34: ='Study6 FR RK'!$G$53 -> 3210824.7 | H34: ='Study6 FR RK'!$G$53 -> 3210824.7 | I34: ='Study6 Sieg'!$G$22 -> 3210824.7 | J34: =I34 -> 3210824.7
D35: 1yr Standard Error | E35: ='Study6 FR RK'!$J$9 -> 140747.31 | F35: ='Study6 FR RK'!$J$10 -> 151943.26 | G35: ='Study6 FR RK'!$J$11 -> 122678.35 | I35: ='Study6 Sieg'!$Q$22 -> 144403.85 | J35: ='Study6 MMW'!$Q$21 -> 654206.06
D36: Total Run-off Standard Error | E36: ='Study6 FR RK'!$H$9 -> 503654.18 | F36: ='Study6 FR RK'!$H$10 -> 676667.24 | G36: ='Study6 FR RK'!$H$11 -> 408071.44 | H36: ='Study6 FR RK'!$H$13 -> 232561.36 | I36: ='Study6 Sieg'!$M$22 -> 296461.48 | J36: ='Study6 MMW'!$M$21 -> 838258.46
D37: 1yr CV | E37: =E35/E34 -> 0.043835252 | F37: =F35/F34 -> 0.047322191 | G37: =G35/G34 -> 0.038207738 | I37: =I35/I34 -> 0.044974069 | J37: =J35/J34 -> 0.20375016
D38: Total Run-off CV | E38: =E36/E34 -> 0.15686131 | F38: =F36/F34 -> 0.21074562 | G38: =G36/G34 -> 0.12709241 | H38: =H36/H34 -> 0.072430412 | I38: =I36/I34 -> 0.092331879 | J38: =J36/J34 -> 0.26107263
D39: Ratio of 1yr to Ultimate Risk | E39: =E35/E36 -> 0.27945229 | F39: =F35/F36 -> 0.2245465 | G39: =G35/G36 -> 0.30062959 | I39: =I35/I36 -> 0.48709145 | J39: =J35/J36 -> 0.78043479
A40: 7 | B40: Triangle 3 - Long-tailed Volatile Triangle | C40: Management Booked Aggresively | D40: Reserve Projection | E40: ='Study7 FR RK'!$G$53 -> 2945486.7 | F40: ='Study7 FR RK'!$G$53 -> 2945486.7 | G40: ='Study7 FR RK'!$G$53 -> 2945486.7 | H40: ='Study7 FR RK'!$G$53 -> 2945486.7 | I40: ='Study7 Sieg'!$G$22 -> 2945486.7 | J40: =I40 -> 2945486.7
D41: 1yr Standard Error | E41: ='Study7 FR RK'!$J$9 -> 122751.67 | F41: ='Study7 FR RK'!$J$10 -> 128843.08 | G41: ='Study7 FR RK'!$J$11 -> 99097.692 | I41: ='Study7 Sieg'!$Q$22 -> 324875.89 | J41: ='Study7 MMW'!$Q$21 -> 654206.06
D42: Total Run-off Standard Error | E42: ='Study7 FR RK'!$H$9 -> 645657.85 | F42: ='Study7 FR RK'!$H$10 -> 582380.38 | G42: ='Study7 FR RK'!$H$11 -> 354957.78 | H42: ='Study7 FR RK'!$H$13 -> 275774.7 | I42: ='Study7 Sieg'!$M$22 -> 1315134.4 | J42: ='Study7 MMW'!$M$21 -> 838258.46
D43: 1yr CV | E43: =E41/E40 -> 0.041674496 | F43: =F41/F40 -> 0.043742543 | G43: =G41/G40 -> 0.033643911 | I43: =I41/I40 -> 0.11029617 | J43: =J41/J40 -> 0.22210457
D44: Total Run-off CV | E44: =E42/E40 -> 0.21920244 | F44: =F42/F40 -> 0.19771958 | G44: =G42/G40 -> 0.12050904 | H44: =H42/H40 -> 0.093626191 | I44: =I42/I40 -> 0.44649137 | J44: =J42/J40 -> 0.28459082
D45: Ratio of 1yr to Ultimate Risk | E45: =E41/E42 -> 0.19011877 | F45: =F41/F42 -> 0.22123526 | G45: =G41/G42 -> 0.27918163 | I45: =I41/I42 -> 0.24702867 | J45: =J41/J42 -> 0.78043479

Sheet Triangle 1
B2: Triangle 1 Reserving Worksheet - Paid Losses Cy,d
B3: Source data from Siegenthaler (2019)
B4: AY | C4: AY\Age | D4: 1 | E4: =D4+1 -> 2 | F4: =E4+1 -> 3 | G4: =F4+1 -> 4 | H4: =G4+1 -> 5 | I4: =H4+1 -> 6 | J4: =I4+1 -> 7 | K4: =J4+1 -> 8 | L4: =K4+1 -> 9 | ... P4: =O4+1 -> 13 | Q4: Diagonal
B5: =B6-1 -> 2006 | C5: 1 | D5: 300604.57 | E5: 527679.36 | F5: 606023.03 | G5: 625411.76 | H5: 635574.98 | I5: 636509.08 | J5: 636694.48 | K5: 636706.86 | L5: 636708.63 | M5: 636708.89 | N5: 636708.92 | O5: 636708.93 | P5: 636708.93 | Q5: =OFFSET($Q$4,$C5,-$C5) -> 636708.93
B6: =B7-1 -> 2007 | C6: =C5+1 -> 2 | D6: 302300.33 | E6: 642468.44 | F6: 778551.86 | G6: 842933.4 | H6: 854390.64 | I6: 855578.47 | J6: 855759.47 | K6: 855788.85 | L6: 855791.55 | M6: 855792.12 | N6: 855792.21 | O6: 855792.22 | P6: 0 | Q6: =OFFSET($Q$4,$C6,-$C6) -> 855792.22
B7: =B8-1 -> 2008 | C7: =C6+1 -> 3 | D7: 367781.85 | E7: 574490.07 | F7: 655661.22 | G7: 699483.79 | H7: 714871.64 | I7: 716039.48 | J7: 716231.23 | K7: 716262.71 | L7: 716267.33 | M7: 716267.84 | N7: 716267.9 | O7: 0 | P7: 0 | Q7: =OFFSET($Q$4,$C7,-$C7) -> 716267.9
B8: =B9-1 -> 2009 | C8: =C7+1 -> 4 | D8: 283356.87 | E8: 702503.17 | F8: 815824.23 | G8: 872443.17 | H8: 893356.75 | I8: 894932.61 | J8: 895189.94 | K8: 895218.78 | L8: 895222.67 | M8: 895223.15 | N8: 0 | O8: 0 | P8: 0 | Q8: =OFFSET($Q$4,$C8,-$C8) -> 895223.15
B9: =B10-1 -> 2010 | C9: =C8+1 -> 5 | D9: 613741.57 | E9: 852370.2 | F9: 1002108 | G9: 1072096.2 | H9: 1083926.3 | I9: 1086254.5 | J9: 1086527.2 | K9: 1086557 | L9: 1086560.4 | M9: 0 | N9: 0 | O9: 0 | P9: 0 | Q9: =OFFSET($Q$4,$C9,-$C9) -> 1086560.4
B10: =B11-1 -> 2011 | C10: =C9+1 -> 6 | D10: 800575.7 | E10: 1369827.5 | F10: 1485251.1 | G10: 1551350.2 | H10: 1562484 | I10: 1563300 | J10: 1563561.8 | K10: 1563591.3 | L10: 0 | M10: 0 | N10: 0 | O10: 0 | P10: 0 | Q10: =OFFSET($Q$4,$C10,-$C10) -> 1563591.3
B11: =B12-1 -> 2012 | C11: =C10+1 -> 7 | D11: 221064.2 | E11: 492238.49 | F11: 589052.89 | G11: 611811.81 | H11: 617740.86 | I11: 618445.12 | J11: 618553.5 | K11: 0 | L11: 0 | M11: 0 | N11: 0 | O11: 0 | P11: 0 | Q11: =OFFSET($Q$4,$C11,-$C11) -> 618553.5
B12: =B13-1 -> 2013 | C12: =C11+1 -> 8 | D12: 271448.18 | E12: 441906.83 | F12: 580623.31 | G12: 622693.16 | H12: 628059.64 | I12: 629956.08 | J12: 0 | K12: 0 | L12: 0 | M12: 0 | N12: 0 | O12: 0 | P12: 0 | Q12: =OFFSET($Q$4,$C12,-$C12) -> 629956.08
B13: =B14-1 -> 2014 | C13: =C12+1 -> 9 | D13: 263708.63 | E13: 346557.75 | F13: 411907.73 | G13: 455925.34 | H13: 463255.07 | I13: 0 | J13: 0 | K13: 0 | L13: 0 | M13: 0 | N13: 0 | O13: 0 | P13: 0 | Q13: =OFFSET($Q$4,$C13,-$C13) -> 463255.07
B14: =B15-1 -> 2015 | C14: =C13+1 -> 10 | D14: 201766.88 | E14: 510063.02 | F14: 664447.7 | G14: 702988.8 | H14: 0 | I14: 0 | J14: 0 | K14: 0 | L14: 0 | M14: 0 | N14: 0 | O14: 0 | P14: 0 | Q14: =OFFSET($Q$4,$C14,-$C14) -> 702988.8
B15: =B16-1 -> 2016 | C15: =C14+1 -> 11 | D15: 374504.87 | E15: 575921.38 | F15: 700128.91 | G15: 0 | H15: 0 | I15: 0 | J15: 0 | K15: 0 | L15: 0 | M15: 0 | N15: 0 | O15: 0 | P15: 0 | Q15: =OFFSET($Q$4,$C15,-$C15) -> 700128.91
B16: =B17-1 -> 2017 | C16: =C15+1 -> 12 | D16: 336548.29 | E16: 553453.92 | F16: 0 | G16: 0 | H16: 0 | I16: 0 | J16: 0 | K16: 0 | L16: 0 | M16: 0 | N16: 0 | O16: 0 | P16: 0 | Q16: =OFFSET($Q$4,$C16,-$C16) -> 553453.92
B17: 2018 | C17: =C16+1 -> 13 | D17: 138078.27 | E17: 0 | F17: 0 | G17: 0 | H17: 0 | I17: 0 | J17: 0 | K17: 0 | L17: 0 | M17: 0 | N17: 0 | O17: 0 | P17: 0 | Q17: =OFFSET($Q$4,$C17,-$C17) -> 138078.27
B18: Total | Q18: =SUM(Q5:Q17) -> 9560558.5
B20: Triangle 1 Reserving Worksheet - Triangle of Chain-Ladder Ultimate Loss Uchain-ladder
B21: Ultimate loss triangle given by Siegenthaler (2019)
B22: AY | C22: AY\Age | D22: 1 | E22: =D22+1 -> 2 | F22: =E22+1 -> 3 | G22: =F22+1 -> 4 | H22: =G22+1 -> 5 | I22: =H22+1 -> 6 | J22: =I22+1 -> 7 | K22: =J22+1 -> 8 | L22: =K22+1 -> 9 | ... P22: =O22+1 -> 13 | Q22: Diagonal
B23: 2006 | C23: 1 | D23: 233927 | E23: 225734 | F23: 224101 | G23: 223193 | H23: 222383 | I23: 223724 | J23: 223743 | K23: 223765 | L23: 223669 | M23: 223601 | N23: 223558 | O23: 223558 | P23: 223558 | Q23: =OFFSET($Q$22,$C23,-$C23) -> 223558
B24: 2007 | C24: 2 | D24: 230176 | E24: 224714 | F24: 222707 | G24: 221871 | H24: 225215 | I24: 223977 | J24: 224027 | K24: 223933 | L24: 223907 | M24: 224004 | N24: 224036 | O24: 224036 | Q24: =OFFSET($Q$22,$C24,-$C24) -> 224036
B25: 2008 | C25: 3 | D25: 225361 | E25: 219714 | F25: 217321 | G25: 223774 | H25: 225325 | I25: 223809 | J25: 223680 | K25: 223450 | L25: 223544 | M25: 223660 | N25: 223697 | Q25: =OFFSET($Q$22,$C25,-$C25) -> 223697
B26: 2009 | C26: 4 | D26: 211284 | E26: 215963 | F26: 218664 | G26: 217849 | H26: 215981 | I26: 214561 | J26: 214391 | K26: 214395 | L26: 214468 | M26: 214445 | Q26: =OFFSET($Q$22,$C26,-$C26) -> 214445
B27: 2010 | C27: 5 | D27: 212024 | E27: 221439 | F27: 220313 | G27: 218938 | H27: 218873 | I27: 220610 | J27: 220938 | K27: 221576 | L27: 221628 | Q27: =OFFSET($Q$22,$C27,-$C27) -> 221628
B28: 2011 | C28: 6 | D28: 289863 | E28: 298147 | F28: 295716 | G28: 293527 | H28: 293758 | I28: 294427 | J28: 294713 | K28: 294673 | Q28: =OFFSET($Q$22,$C28,-$C28) -> 294673
B29: 2012 | C29: 7 | D29: 268568 | E29: 273222 | F29: 272219 | G29: 272657 | H29: 271057 | I29: 269817 | J29: 269763 | Q29: =OFFSET($Q$22,$C29,-$C29) -> 269763
B30: 2013 | C30: 8 | D30: 261945 | E30: 275360 | F30: 274935 | G30: 274262 | H30: 273275 | I30: 271810 | Q30: =OFFSET($Q$22,$C30,-$C30) -> 271810
B31: 2014 | C31: 9 | D31: 232400 | E31: 241510 | F31: 242330 | G31: 247851 | H31: 247245 | Q31: =OFFSET($Q$22,$C31,-$C31) -> 247245
B32: 2015 | C32: 10 | D32: 235521 | E32: 251022 | F32: 267514 | G32: 267747 | Q32: =OFFSET($Q$22,$C32,-$C32) -> 267747
B33: 2016 | C33: 11 | D33: 239385 | E33: 246401 | F33: 245398 | Q33: =OFFSET($Q$22,$C33,-$C33) -> 245398
B34: 2017 | C34: 12 | D34: 257904 | E34: 259549 | Q34: =OFFSET($Q$22,$C34,-$C34) -> 259549
B35: 2018 | C35: 13 | D35: 262936 | Q35: =OFFSET($Q$22,$C35,-$C35) -> 262936
B36: Total | Q36: =SUM(Q23:Q35) -> 3226485

Sheet Triangle 2
B2: Triangle 2 Reserving Worksheet - Paid Losses Cy,d
B3: Source Data
B4: AY | C4: AY\Age | D4: 1 | E4: =D4+1 -> 2 | F4: =E4+1 -> 3 | G4: =F4+1 -> 4 | H4: =G4+1 -> 5 | I4: =H4+1 -> 6 | J4: =I4+1 -> 7 | K4: =J4+1 -> 8 | L4: =K4+1 -> 9 | ... P4: =O4+1 -> 13 | Q4: Diagonal
B5: =B6-1 -> 2006 | C5: 1 | D5: 300604.57 | E5: 527679.36 | F5: 606023.03 | G5: 625411.76 | H5: 635574.98 | I5: 636509.08 | J5: 636694.48 | K5: 636706.86 | L5: 636708.63 | M5: 636708.89 | N5: 636708.92 | O5: 636708.93 | P5: 636708.93 | Q5: =OFFSET($Q$4,$C5,-$C5) -> 636708.93
B6: =B7-1 -> 2007 | C6: =C5+1 -> 2 | D6: 302300.33 | E6: 642468.44 | F6: 778551.86 | G6: 842933.4 | H6: 854390.64 | I6: 855578.47 | J6: 855759.47 | K6: 855788.85 | L6: 855791.55 | M6: 855792.12 | N6: 855792.21 | O6: 855792.22 | P6: 0 | Q6: =OFFSET($Q$4,$C6,-$C6) -> 855792.22
B7: =B8-1 -> 2008 | C7: =C6+1 -> 3 | D7: 367781.85 | E7: 574490.07 | F7: 655661.22 | G7: 699483.79 | H7: 714871.64 | I7: 716039.48 | J7: 716231.23 | K7: 716262.71 | L7: 716267.33 | M7: 716267.84 | N7: 716267.9 | O7: 0 | P7: 0 | Q7: =OFFSET($Q$4,$C7,-$C7) -> 716267.9
B8: =B9-1 -> 2009 | C8: =C7+1 -> 4 | D8: 283356.87 | E8: 702503.17 | F8: 815824.23 | G8: 872443.17 | H8: 893356.75 | I8: 894932.61 | J8: 895189.94 | K8: 895218.78 | L8: 895222.67 | M8: 895223.15 | N8: 0 | O8: 0 | P8: 0 | Q8: =OFFSET($Q$4,$C8,-$C8) -> 895223.15
B9: =B10-1 -> 2010 | C9: =C8+1 -> 5 | D9: 613741.57 | E9: 852370.2 | F9: 1002108 | G9: 1072096.2 | H9: 1083926.3 | I9: 1086254.5 | J9: 1086527.2 | K9: 1086557 | L9: 1086560.4 | M9: 0 | N9: 0 | O9: 0 | P9: 0 | Q9: =OFFSET($Q$4,$C9,-$C9) -> 1086560.4
B10: =B11-1 -> 2011 | C10: =C9+1 -> 6 | D10: 800575.7 | E10: 1369827.5 | F10: 1485251.1 | G10: 1551350.2 | H10: 1562484 | I10: 1563300 | J10: 1563561.8 | K10: 1563591.3 | L10: 0 | M10: 0 | N10: 0 | O10: 0 | P10: 0 | Q10: =OFFSET($Q$4,$C10,-$C10) -> 1563591.3
B11: =B12-1 -> 2012 | C11: =C10+1 -> 7 | D11: 221064.2 | E11: 492238.49 | F11: 589052.89 | G11: 611811.81 | H11: 617740.86 | I11: 618445.12 | J11: 618553.5 | K11: 0 | L11: 0 | M11: 0 | N11: 0 | O11: 0 | P11: 0 | Q11: =OFFSET($Q$4,$C11,-$C11) -> 618553.5
B12: =B13-1 -> 2013 | C12: =C11+1 -> 8 | D12: 271448.18 | E12: 441906.83 | F12: 580623.31 | G12: 622693.16 | H12: 628059.64 | I12: 629956.08 | J12: 0 | K12: 0 | L12: 0 | M12: 0 | N12: 0 | O12: 0 | P12: 0 | Q12: =OFFSET($Q$4,$C12,-$C12) -> 629956.08
B13: =B14-1 -> 2014 | C13: =C12+1 -> 9 | D13: 263708.63 | E13: 346557.75 | F13: 411907.73 | G13: 455925.34 | H13: 463255.07 | I13: 0 | J13: 0 | K13: 0 | L13: 0 | M13: 0 | N13: 0 | O13: 0 | P13: 0 | Q13: =OFFSET($Q$4,$C13,-$C13) -> 463255.07
B14: =B15-1 -> 2015 | C14: =C13+1 -> 10 | D14: 201766.88 | E14: 510063.02 | F14: 664447.7 | G14: 702988.8 | H14: 0 | I14: 0 | J14: 0 | K14: 0 | L14: 0 | M14: 0 | N14: 0 | O14: 0 | P14: 0 | Q14: =OFFSET($Q$4,$C14,-$C14) -> 702988.8
B15: =B16-1 -> 2016 | C15: =C14+1 -> 11 | D15: 374504.87 | E15: 575921.38 | F15: 700128.91 | G15: 0 | H15: 0 | I15: 0 | J15: 0 | K15: 0 | L15: 0 | M15: 0 | N15: 0 | O15: 0 | P15: 0 | Q15: =OFFSET($Q$4,$C15,-$C15) -> 700128.91
B16: =B17-1 -> 2017 | C16: =C15+1 -> 12 | D16: 336548.29 | E16: 553453.92 | F16: 0 | G16: 0 | H16: 0 | I16: 0 | J16: 0 | K16: 0 | L16: 0 | M16: 0 | N16: 0 | O16: 0 | P16: 0 | Q16: =OFFSET($Q$4,$C16,-$C16) -> 553453.92
B17: 2018 | C17: =C16+1 -> 13 | D17: 138078.27 | E17: 0 | F17: 0 | G17: 0 | H17: 0 | I17: 0 | J17: 0 | K17: 0 | L17: 0 | M17: 0 | N17: 0 | O17: 0 | P17: 0 | Q17: =OFFSET($Q$4,$C17,-$C17) -> 138078.27
B18: Total | Q18: =SUM(Q5:Q17) -> 9560558.5
B21: Triangle 2 Reserving Worksheet - Age-to-Age Loss Development Factors fy,d
B22: AY | C22: AY\Age | D22: 1 | E22: =D22+1 -> 2 | F22: =E22+1 -> 3 | G22: =F22+1 -> 4 | H22: =G22+1 -> 5 | I22: =H22+1 -> 6 | J22: =I22+1 -> 7 | K22: =J22+1 -> 8 | L22: =K22+1 -> 9 | ... P22: =O22+1 -> 13
B23: 2006 | C23: 1 | D23: =E5/D5 -> 1.7553937 | E23: =F5/E5 -> 1.1484683 | F23: =G5/F5 -> 1.0319934 | G23: =H5/G5 -> 1.0162505 | H23: =I5/H5 -> 1.0014697 | I23: =J5/I5 -> 1.0002913 | J23: =K5/J5 -> 1.0000194 | K23: =L5/K5 -> 1.0000028 | ... O23: =P5/O5 -> 1
B24: 2007 | C24: 2 | D24: =E6/D6 -> 2.1252654 | E24: =F6/E6 -> 1.2118134 | F24: =G6/F6 -> 1.082694 | G24: =H6/G6 -> 1.0135921 | H24: =I6/H6 -> 1.0013903 | I24: =J6/I6 -> 1.0002116 | J24: =K6/J6 -> 1.0000343 | K24: =L6/K6 -> 1.0000032 | ... N24: =O6/N6 -> 1
B25: 2008 | C25: 3 | D25: =E7/D7 -> 1.5620403 | E25: =F7/E7 -> 1.1412925 | F25: =G7/F7 -> 1.0668372 | G25: =H7/G7 -> 1.0219989 | H25: =I7/H7 -> 1.0016336 | I25: =J7/I7 -> 1.0002678 | J25: =K7/J7 -> 1.0000439 | K25: =L7/K7 -> 1.0000065 | ... M25: =N7/M7 -> 1.0000001
B26: 2009 | C26: 4 | D26: =E8/D8 -> 2.479217 | E26: =F8/E8 -> 1.1613104 | F26: =G8/F8 -> 1.0694009 | G26: =H8/G8 -> 1.0239713 | H26: =I8/H8 -> 1.001764 | I26: =J8/I8 -> 1.0002875 | J26: =K8/J8 -> 1.0000322 | K26: =L8/K8 -> 1.0000043 | L26: =M8/L8 -> 1.0000005
B27: 2010 | C27: 5 | D27: =E9/D9 -> 1.3888096 | E27: =F9/E9 -> 1.1756723 | F27: =G9/F9 -> 1.0698409 | G27: =H9/G9 -> 1.0110345 | H27: =I9/H9 -> 1.0021479 | I27: =J9/I9 -> 1.0002511 | J27: =K9/J9 -> 1.0000274 | K27: =L9/K9 -> 1.0000032
B28: 2011 | C28: 6 | D28: =E10/D10 -> 1.7110531 | E28: =F10/E10 -> 1.0842614 | F28: =G10/F10 -> 1.0445037 | G28: =H10/G10 -> 1.0071768 | H28: =I10/H10 -> 1.0005222 | I28: =J10/I10 -> 1.0001675 | J28: =K10/J10 -> 1.0000188
B29: 2012 | C29: 7 | D29: =E11/D11 -> 2.2266766 | E29: =F11/E11 -> 1.1966819 | F29: =G11/F11 -> 1.0386365 | G29: =H11/G11 -> 1.009691 | H29: =I11/H11 -> 1.0011401 | I29: =J11/I11 -> 1.0001752
B30: 2013 | C30: 8 | D30: =E12/D12 -> 1.6279602 | E30: =F12/E12 -> 1.3139043 | F30: =G12/F12 -> 1.0724564 | G30: =H12/G12 -> 1.0086182 | H30: =I12/H12 -> 1.0030195
B31: 2014 | C31: 9 | D31: =E13/D13 -> 1.3141691 | E31: =F13/E13 -> 1.1885688 | F31: =G13/F13 -> 1.1068628 | G31: =H13/G13 -> 1.0160766
B32: 2015 | C32: 10 | D32: =E14/D14 -> 2.5279819 | E32: =F14/E14 -> 1.3026777 | F32: =G14/F14 -> 1.0580047
B33: 2016 | C33: 11 | D33: =E15/D15 -> 1.5378208 | E33: =F15/E15 -> 1.2156675
B34: 2017 | C34: 12 | D34: =E16/D16 -> 1.6445008
B35: 2018 | C35: 13
B36: All yr Wt Avg | D36: =SUM(OFFSET(E$5,0,0,$C$35-D$22))/SUM(OFFSET(D$5,0,0,$C$35-D$22)) -> 1.7497756 | E36: =SUM(OFFSET(F$5,0,0,$C$35-E$22))/SUM(OFFSET(E$5,0,0,$C$35-E$22)) -> 1.1781622 | F36: =SUM(OFFSET(G$5,0,0,$C$35-F$22))/SUM(OFFSET(F$5,0,0,$C$35-F$22)) -> 1.0616232 | G36: =SUM(OFFSET(H$5,0,0,$C$35-G$22))/SUM(OFFSET(G$5,0,0,$C$35-G$22)) -> 1.0135313 | H36: =SUM(OFFSET(I$5,0,0,$C$35-H$22))/SUM(OFFSET(H$5,0,0,$C$35-H$22)) -> 1.0015179 | I36: =SUM(OFFSET(J$5,0,0,$C$35-I$22))/SUM(OFFSET(I$5,0,0,$C$35-I$22)) -> 1.0002289 | J36: =SUM(OFFSET(K$5,0,0,$C$35-J$22))/SUM(OFFSET(J$5,0,0,$C$35-J$22)) -> 1.000028 | K36: =SUM(OFFSET(L$5,0,0,$C$35-K$22))/SUM(OFFSET(K$5,0,0,$C$35-K$22)) -> 1.0000039 | ... O36: =SUM(OFFSET(P$5,0,0,$C$35-O$22))/SUM(OFFSET(O$5,0,0,$C$35-O$22)) -> 1 | P36: 1
B37: All yr Simple Avg | D37: =AVERAGE(D23:D35) -> 1.825074 | E37: =AVERAGE(E23:E35) -> 1.1945744 | F37: =AVERAGE(F23:F35) -> 1.064123 | G37: =AVERAGE(G23:G35) -> 1.0142678 | H37: =AVERAGE(H23:H35) -> 1.0016359 | I37: =AVERAGE(I23:I35) -> 1.000236 | J37: =AVERAGE(J23:J35) -> 1.0000294 | K37: =AVERAGE(K23:K35) -> 1.000004 | ... O37: =AVERAGE(O23:O35) -> 1 | P37: 1
B38: Selected ATA | D38: =AVERAGE(D37,D36) -> 1.7874248 | E38: =AVERAGE(E37,E36) -> 1.1863683 | F38: =AVERAGE(F37,F36) -> 1.0628731 | G38: =AVERAGE(G37,G36) -> 1.0138995 | H38: =AVERAGE(H37,H36) -> 1.0015769 | I38: =AVERAGE(I37,I36) -> 1.0002325 | J38: =AVERAGE(J37,J36) -> 1.0000287 | K38: =AVERAGE(K37,K36) -> 1.000004 | ... P38: =AVERAGE(P37,P36) -> 1
B39: ATU | D39: =PRODUCT(D38:$P38) -> 2.289409 | E39: =PRODUCT(E38:$P38) -> 1.2808421 | F39: =PRODUCT(F38:$P38) -> 1.0796328 | G39: =PRODUCT(G38:$P38) -> 1.0157682 | H39: =PRODUCT(H38:$P38) -> 1.0018431 | I39: =PRODUCT(I38:$P38) -> 1.0002658 | J39: =PRODUCT(J38:$P38) -> 1.0000333 | K39: =PRODUCT(K38:$P38) -> 1.0000046 | ... P39: =PRODUCT(P38:$P38) -> 1
B43: Triangle 2 Reserving Worksheet - Triangle of Selected Age to Ultimate Factors Fy,d
B44: Selected based on 50% weight each from all year weighted avg and all year simple avg
B45: AY | C45: AY\Age | D45: 1 | E45: =D45+1 -> 2 | F45: =E45+1 -> 3 | G45: =F45+1 -> 4 | H45: =G45+1 -> 5 | I45: =H45+1 -> 6 | J45: =I45+1 -> 7 | K45: =J45+1 -> 8 | L45: =K45+1 -> 9 | ... P45: =O45+1 -> 13
B46: 2006 | C46: 1 | D46: =D$39 -> 2.289409 | E46: =E$39 -> 1.2808421 | F46: =F$39 -> 1.0796328 | G46: =G$39 -> 1.0157682 | H46: =H$39 -> 1.0018431 | I46: =I$39 -> 1.0002658 | J46: =J$39 -> 1.0000333 | K46: =K$39 -> 1.0000046 | ... P46: =P$39 -> 1
B47: 2007 | C47: 2 | D47: =D$39 -> 2.289409 | E47: =E$39 -> 1.2808421 | F47: =F$39 -> 1.0796328 | G47: =G$39 -> 1.0157682 | H47: =H$39 -> 1.0018431 | I47: =I$39 -> 1.0002658 | J47: =J$39 -> 1.0000333 | K47: =K$39 -> 1.0000046 | ... O47: =O$39 -> 1
B48: 2008 | C48: 3 | D48: =D$39 -> 2.289409 | E48: =E$39 -> 1.2808421 | F48: =F$39 -> 1.0796328 | G48: =G$39 -> 1.0157682 | H48: =H$39 -> 1.0018431 | I48: =I$39 -> 1.0002658 | J48: =J$39 -> 1.0000333 | K48: =K$39 -> 1.0000046 | ... N48: =N$39 -> 1
B49: 2009 | C49: 4 | D49: =D$39 -> 2.289409 | E49: =E$39 -> 1.2808421 | F49: =F$39 -> 1.0796328 | G49: =G$39 -> 1.0157682 | H49: =H$39 -> 1.0018431 | I49: =I$39 -> 1.0002658 | J49: =J$39 -> 1.0000333 | K49: =K$39 -> 1.0000046 | ... M49: =M$39 -> 1.0000001
B50: 2010 | C50: 5 | D50: =D$39 -> 2.289409 | E50: =E$39 -> 1.2808421 | F50: =F$39 -> 1.0796328 | G50: =G$39 -> 1.0157682 | H50: =H$39 -> 1.0018431 | I50: =I$39 -> 1.0002658 | J50: =J$39 -> 1.0000333 | K50: =K$39 -> 1.0000046 | L50: =L$39 -> 1.0000007
B51: 2011 | C51: 6 | D51: =D$39 -> 2.289409 | E51: =E$39 -> 1.2808421 | F51: =F$39 -> 1.0796328 | G51: =G$39 -> 1.0157682 | H51: =H$39 -> 1.0018431 | I51: =I$39 -> 1.0002658 | J51: =J$39 -> 1.0000333 | K51: =K$39 -> 1.0000046
B52: 2012 | C52: 7 | D52: =D$39 -> 2.289409 | E52: =E$39 -> 1.2808421 | F52: =F$39 -> 1.0796328 | G52: =G$39 -> 1.0157682 | H52: =H$39 -> 1.0018431 | I52: =I$39 -> 1.0002658 | J52: =J$39 -> 1.0000333
B53: 2013 | C53: 8 | D53: =D$39 -> 2.289409 | E53: =E$39 -> 1.2808421 | F53: =F$39 -> 1.0796328 | G53: =G$39 -> 1.0157682 | H53: =H$39 -> 1.0018431 | I53: =I$39 -> 1.0002658
B54: 2014 | C54: 9 | D54: =D$39 -> 2.289409 | E54: =E$39 -> 1.2808421 | F54: =F$39 -> 1.0796328 | G54: =G$39 -> 1.0157682 | H54: =H$39 -> 1.0018431
B55: 2015 | C55: 10 | D55: =D$39 -> 2.289409 | E55: =E$39 -> 1.2808421 | F55: =F$39 -> 1.0796328 | G55: =G$39 -> 1.0157682
B56: 2016 | C56: 11 | D56: =D$39 -> 2.289409 | E56: =E$39 -> 1.2808421 | F56: =F$39 -> 1.0796328
B57: 2017 | C57: 12 | D57: =D$39 -> 2.289409 | E57: =E$39 -> 1.2808421
B58: 2018 | C58: 13 | D58: =D$39 -> 2.289409
B60: Triangle 2 Reserving Worksheet - Triangle of Chain-Ladder Ultimate Loss Uchain-ladder
B61: Uchain-ladder = Cy,d x Fy,d
B62: AY | C62: AY\Age | D62: 1 | E62: =D62+1 -> 2 | F62: =E62+1 -> 3 | G62: =F62+1 -> 4 | H62: =G62+1 -> 5 | I62: =H62+1 -> 6 | J62: =I62+1 -> 7 | K62: =J62+1 -> 8 | L62: =K62+1 -> 9 | ... P62: =O62+1 -> 13 | Q62: Diagonal
B63: 2006 | C63: 1 | D63: =D46*D5 -> 688206.81 | E63: =E46*E5 -> 675873.94 | F63: =F46*F5 -> 654282.33 | G63: =G46*G5 -> 635273.4 | H63: =H46*H5 -> 636746.41 | I63: =I46*I5 -> 636678.26 | J63: =J46*J5 -> 636715.7 | K63: =K46*K5 -> 636709.8 | ... P63: =P46*P5 -> 636708.93 | Q63: =OFFSET($Q$62,$C63,-$C63) -> 636708.93
B64: 2007 | C64: 2 | D64: =D47*D6 -> 692089.08 | E64: =E47*E6 -> 822900.62 | F64: =F47*F6 -> 840550.11 | G64: =G47*G6 -> 856224.97 | H64: =H47*H6 -> 855965.37 | I64: =I47*I6 -> 855805.88 | J64: =J47*J6 -> 855787.99 | K64: =K47*K6 -> 855792.81 | ... O64: =O47*O6 -> 855792.22 | Q64: =OFFSET($Q$62,$C64,-$C64) -> 855792.22
B65: 2008 | C65: 3 | D65: =D48*D7 -> 842003.06 | E65: =E48*E7 -> 735831.06 | F65: =F48*F7 -> 707873.35 | G65: =G48*G7 -> 710513.41 | H65: =H48*H7 -> 716189.22 | I65: =I48*I7 -> 716229.8 | J65: =J48*J7 -> 716255.1 | K65: =K48*K7 -> 716266.02 | ... N65: =N48*N7 -> 716267.91 | Q65: =OFFSET($Q$62,$C65,-$C65) -> 716267.91
B66: 2009 | C66: 4 | D66: =D49*D8 -> 648719.77 | E66: =E49*E8 -> 899795.64 | F66: =F49*F8 -> 880790.58 | G66: =G49*G8 -> 886200.06 | H66: =H49*H8 -> 895003.29 | I66: =I49*I8 -> 895170.48 | J66: =J49*J8 -> 895219.77 | K66: =K49*K8 -> 895222.92 | ... M66: =M49*M8 -> 895223.24 | Q66: =OFFSET($Q$62,$C66,-$C66) -> 895223.24
B67: 2010 | C67: 5 | D67: =D50*D9 -> 1405105.4 | E67: =E50*E9 -> 1091751.6 | F67: =F50*F9 -> 1081908.7 | G67: =G50*G9 -> 1089001.3 | H67: =H50*H9 -> 1085924.1 | I67: =I50*I9 -> 1086543.2 | J67: =J50*J9 -> 1086563.4 | K67: =K50*K9 -> 1086562 | L67: =L50*L9 -> 1086561.2 | Q67: =OFFSET($Q$62,$C67,-$C67) -> 1086561.2
B68: 2011 | C68: 6 | D68: =D51*D10 -> 1832845.2 | E68: =E51*E10 -> 1754532.7 | F68: =F51*F10 -> 1603525.7 | G68: =G51*G10 -> 1575812.3 | H68: =H51*H10 -> 1565363.8 | I68: =I51*I10 -> 1563715.5 | J68: =J51*J10 -> 1563613.9 | K68: =K51*K10 -> 1563598.5 | Q68: =OFFSET($Q$62,$C68,-$C68) -> 1563598.5
B69: 2012 | C69: 7 | D69: =D52*D11 -> 506106.37 | E69: =E52*E11 -> 630479.78 | F69: =F52*F11 -> 635960.81 | G69: =G52*G11 -> 621459 | H69: =H52*H11 -> 618879.42 | I69: =I52*I11 -> 618609.5 | J69: =J52*J11 -> 618574.12 | Q69: =OFFSET($Q$62,$C69,-$C69) -> 618574.12
B70: 2013 | C70: 8 | D70: =D53*D12 -> 621455.91 | E70: =E53*E12 -> 566012.88 | F70: =F53*F12 -> 626859.95 | G70: =G53*G12 -> 632511.93 | H70: =H53*H12 -> 629217.22 | I70: =I53*I12 -> 630123.52 | Q70: =OFFSET($Q$62,$C70,-$C70) -> 630123.52
B71: 2014 | C71: 9 | D71: =D54*D13 -> 603736.91 | E71: =E54*E13 -> 443885.75 | F71: =F54*F13 -> 444709.08 | G71: =G54*G13 -> 463114.48 | H71: =H54*H13 -> 464108.89 | Q71: =OFFSET($Q$62,$C71,-$C71) -> 464108.89
B72: 2015 | C72: 10 | D72: =D55*D14 -> 461926.9 | E72: =E55*E14 -> 653310.19 | F72: =F55*F14 -> 717359.52 | G72: =G55*G14 -> 714073.69 | Q72: =OFFSET($Q$62,$C72,-$C72) -> 714073.69
B73: 2016 | C73: 11 | D73: =D56*D15 -> 857394.8 | E73: =E56*E15 -> 737664.35 | F73: =F56*F15 -> 755882.12 | Q73: =OFFSET($Q$62,$C73,-$C73) -> 755882.12
B74: 2017 | C74: 12 | D74: =D57*D16 -> 770496.66 | E74: =E57*E16 -> 708887.08 | Q74: =OFFSET($Q$62,$C74,-$C74) -> 708887.08
B75: 2018 | C75: 13 | D75: =D58*D17 -> 316117.63 | Q75: =OFFSET($Q$62,$C75,-$C75) -> 316117.63
B76: Total | Q76: =SUM(Q63:Q75) -> 9961919
B78: Triangle 2 Reserving Worksheet - Triangle of A Priori Ultimate Loss Ua priori
B79: Externally determined, at 65.6% Loss Ratio
B80: AY | C80: AY\Age | D80: 1 | E80: =D80+1 -> 2 | F80: =E80+1 -> 3 | G80: =F80+1 -> 4 | H80: =G80+1 -> 5 | I80: =H80+1 -> 6 | J80: =I80+1 -> 7 | K80: =J80+1 -> 8 | L80: =K80+1 -> 9 | ... P80: =O80+1 -> 13 | Q80: Diagonal
B81: 2006 | C81: 1 | D81: 524592.59 | E81: 524592.59 | F81: 524592.59 | G81: 524592.59 | H81: 524592.59 | I81: 524592.59 | J81: 524592.59 | K81: 524592.59 | L81: 524592.59 | M81: 524592.59 | N81: 524592.59 | O81: 524592.59 | P81: 524592.59 | Q81: =OFFSET($Q$80,$C81,-$C81) -> 524592.59
B82: 2007 | C82: 2 | D82: 786888.89 | E82: 786888.89 | F82: 786888.89 | G82: 786888.89 | H82: 786888.89 | I82: 786888.89 | J82: 786888.89 | K82: 786888.89 | L82: 786888.89 | M82: 786888.89 | N82: 786888.89 | O82: 786888.89 | Q82: =OFFSET($Q$80,$C82,-$C82) -> 786888.89
B83: 2008 | C83: 3 | D83: 721314.81 | E83: 721314.81 | F83: 721314.81 | G83: 721314.81 | H83: 721314.81 | I83: 721314.81 | J83: 721314.81 | K83: 721314.81 | L83: 721314.81 | M83: 721314.81 | N83: 721314.81 | Q83: =OFFSET($Q$80,$C83,-$C83) -> 721314.81
B84: 2009 | C84: 4 | D84: 852462.96 | E84: 852462.96 | F84: 852462.96 | G84: 852462.96 | H84: 852462.96 | I84: 852462.96 | J84: 852462.96 | K84: 852462.96 | L84: 852462.96 | M84: 852462.96 | Q84: =OFFSET($Q$80,$C84,-$C84) -> 852462.96
B85: 2010 | C85: 5 | D85: 983611.11 | E85: 983611.11 | F85: 983611.11 | G85: 983611.11 | H85: 983611.11 | I85: 983611.11 | J85: 983611.11 | K85: 983611.11 | L85: 983611.11 | Q85: =OFFSET($Q$80,$C85,-$C85) -> 983611.11
B86: 2011 | C86: 6 | D86: 852462.96 | E86: 852462.96 | F86: 852462.96 | G86: 852462.96 | H86: 852462.96 | I86: 852462.96 | J86: 852462.96 | K86: 852462.96 | Q86: =OFFSET($Q$80,$C86,-$C86) -> 852462.96
B87: 2012 | C87: 7 | D87: 524592.59 | E87: 524592.59 | F87: 524592.59 | G87: 524592.59 | H87: 524592.59 | I87: 524592.59 | J87: 524592.59 | Q87: =OFFSET($Q$80,$C87,-$C87) -> 524592.59
B88: 2013 | C88: 8 | D88: 721314.81 | E88: 721314.81 | F88: 721314.81 | G88: 721314.81 | H88: 721314.81 | I88: 721314.81 | Q88: =OFFSET($Q$80,$C88,-$C88) -> 721314.81
B89: 2014 | C89: 9 | D89: 655740.74 | E89: 655740.74 | F89: 655740.74 | G89: 655740.74 | H89: 655740.74 | Q89: =OFFSET($Q$80,$C89,-$C89) -> 655740.74
B90: 2015 | C90: 10 | D90: 590166.67 | E90: 590166.67 | F90: 590166.67 | G90: 590166.67 | Q90: =OFFSET($Q$80,$C90,-$C90) -> 590166.67
B91: 2016 | C91: 11 | D91: 524592.59 | E91: 524592.59 | F91: 524592.59 | Q91: =OFFSET($Q$80,$C91,-$C91) -> 524592.59
B92: 2017 | C92: 12 | D92: 655740.74 | E92: 655740.74 | Q92: =OFFSET($Q$80,$C92,-$C92) -> 655740.74
B93: 2018 | C93: 13 | D93: 459018.52 | Q93: =OFFSET($Q$80,$C93,-$C93) -> 459018.52
B94: Total | Q94: =SUM(Q81:Q93) -> 8852500
B96: Triangle 2 Reserving Worksheet - Triangle of Bornhuetter-Ferguson Ultimate Loss UBF
B97: UBF = Cy,d + Ua priori x (1- Fy,d)
B98: AY | C98: AY\Age | D98: 1 | E98: =D98+1 -> 2 | F98: =E98+1 -> 3 | G98: =F98+1 -> 4 | H98: =G98+1 -> 5 | I98: =H98+1 -> 6 | J98: =I98+1 -> 7 | K98: =J98+1 -> 8 | L98: =K98+1 -> 9 | ... P98: =O98+1 -> 13 | Q98: Diagonal
B99: 2006 | C99: 1 | D99: =D5+D81*(1-1/D46) -> 596058.29 | E99: =E5+E81*(1-1/E46) -> 642703.44 | F99: =F5+F81*(1-1/F46) -> 644716.53 | G99: =G5+G81*(1-1/G46) -> 633555.25 | H99: =H5+H81*(1-1/H46) -> 636540.08 | I99: =I5+I81*(1-1/I46) -> 636648.48 | J99: =J5+J81*(1-1/J46) -> 636711.96 | K99: =K5+K81*(1-1/K46) -> 636709.28 | ... P99: =P5+P81*(1-1/P46) -> 636708.93 | Q99: =OFFSET($Q$98,$C99,-$C99) -> 636708.93
B100: 2007 | C100: 2 | D100: =D6+D82*(1-1/D47) -> 745480.9 | E100: =E6+E82*(1-1/E47) -> 815004.56 | F100: =F6+F82*(1-1/F47) -> 836592.1 | G100: =G6+G82*(1-1/G47) -> 855148.64 | H100: =H6+H82*(1-1/H47) -> 855838.28 | I100: =I6+I82*(1-1/I47) -> 855787.56 | J100: =J6+J82*(1-1/J47) -> 855785.69 | K100: =K6+K82*(1-1/K47) -> 855792.49 | ... O100: =O6+O82*(1-1/O47) -> 855792.22 | Q100: =OFFSET($Q$98,$C100,-$C100) -> 855792.22
B101: 2008 | C101: 3 | D101: =D7+D83*(1-1/D48) -> 774030.71 | E101: =E7+E83*(1-1/E48) -> 732648.18 | F101: =F7+F83*(1-1/F48) -> 708864.78 | G101: =G7+G83*(1-1/G48) -> 710681.09 | H101: =H7+H83*(1-1/H48) -> 716198.65 | I101: =I7+I83*(1-1/I48) -> 716231.15 | J101: =J7+J83*(1-1/J48) -> 716255.27 | K101: =K7+K83*(1-1/K48) -> 716266.04 | ... N101: =N7+N83*(1-1/N48) -> 716267.91 | Q101: =OFFSET($Q$98,$C101,-$C101) -> 716267.91
B102: 2009 | C102: 4 | D102: =D8+D84*(1-1/D49) -> 763469.17 | E102: =E8+E84*(1-1/E49) -> 889417.3 | F102: =F8+F84*(1-1/F49) -> 878701.16 | G102: =G8+G84*(1-1/G49) -> 885676.34 | H102: =H8+H84*(1-1/H49) -> 894925.03 | I102: =I8+I84*(1-1/I49) -> 895159.13 | J102: =J8+J84*(1-1/J49) -> 895218.35 | K102: =K8+K84*(1-1/K49) -> 895222.72 | ... M102: =M8+M84*(1-1/M49) -> 895223.24 | Q102: =OFFSET($Q$98,$C102,-$C102) -> 895223.24
B103: 2010 | C103: 5 | D103: =D9+D85*(1-1/D50) -> 1167717.3 | E103: =E9+E85*(1-1/E50) -> 1068040.4 | F103: =F9+F85*(1-1/F50) -> 1074658.3 | G103: =G9+G85*(1-1/G50) -> 1087365.2 | H103: =H9+H85*(1-1/H50) -> 1085735.8 | I103: =I9+I85*(1-1/I50) -> 1086515.8 | J103: =J9+J85*(1-1/J50) -> 1086560 | K103: =K9+K85*(1-1/K50) -> 1086561.5 | L103: =L9+L85*(1-1/L50) -> 1086561.1 | Q103: =OFFSET($Q$98,$C103,-$C103) -> 1086561.1
B104: 2011 | C104: 6 | D104: =D10+D86*(1-1/D51) -> 1280688 | E104: =E10+E86*(1-1/E51) -> 1556741.6 | F104: =F10+F86*(1-1/F51) -> 1548128 | G104: =G10+G86*(1-1/G51) -> 1564583.4 | H104: =H10+H86*(1-1/H51) -> 1564052.3 | I104: =I10+I86*(1-1/I51) -> 1563526.5 | J104: =J10+J86*(1-1/J51) -> 1563590.2 | K104: =K10+K86*(1-1/K51) -> 1563595.2 | Q104: =OFFSET($Q$98,$C104,-$C104) -> 1563595.2
B105: 2012 | C105: 7 | D105: =D11+D87*(1-1/D52) -> 516517.92 | E105: =E11+E87*(1-1/E52) -> 607262.57 | F105: =F11+F87*(1-1/F52) -> 627746.38 | G105: =G11+G87*(1-1/G52) -> 619955.3 | H105: =H11+H87*(1-1/H52) -> 618705.96 | I105: =I11+I87*(1-1/I52) -> 618584.52 | J105: =J11+J87*(1-1/J52) -> 618570.99 | Q105: =OFFSET($Q$98,$C105,-$C105) -> 618570.99
B106: 2013 | C106: 8 | D106: =D12+D88*(1-1/D53) -> 677697.05 | E106: =E12+E88*(1-1/E53) -> 600064.94 | F106: =F12+F88*(1-1/F53) -> 633826.86 | G106: =G12+G88*(1-1/G53) -> 633890.46 | H106: =H12+H88*(1-1/H53) -> 629386.65 | I106: =I12+I88*(1-1/I53) -> 630147.75 | Q106: =OFFSET($Q$98,$C106,-$C106) -> 630147.75
B107: 2014 | C107: 9 | D107: =D13+D89*(1-1/D54) -> 633025.78 | E107: =E13+E89*(1-1/E54) -> 490337.85 | F107: =F13+F89*(1-1/F54) -> 460274.6 | G107: =G13+G89*(1-1/G54) -> 466104.7 | H107: =H13+H89*(1-1/H54) -> 464461.44 | Q107: =OFFSET($Q$98,$C107,-$C107) -> 464461.44
B108: 2015 | C108: 10 | D108: =D14+D90*(1-1/D55) -> 534152.31 | E108: =E14+E90*(1-1/E55) -> 639465.11 | F108: =F14+F90*(1-1/F55) -> 707977.88 | G108: =G14+G90*(1-1/G55) -> 712150.23 | Q108: =OFFSET($Q$98,$C108,-$C108) -> 712150.23
B109: 2016 | C109: 11 | D109: =D15+D91*(1-1/D56) -> 669958.58 | E109: =E15+E91*(1-1/E56) -> 690945.46 | F109: =F15+F91*(1-1/F56) -> 738822.41 | Q109: =OFFSET($Q$98,$C109,-$C109) -> 738822.41
...

Sheet Triangle 3
B2: Triangle 3 Reserving Worksheet - Paid Losses Cy,d
B3: Source Data
B4: AY | C4: AY\Age | D4: 1 | E4: =D4+1 -> 2 | F4: =E4+1 -> 3 | G4: =F4+1 -> 4 | H4: =G4+1 -> 5 | I4: =H4+1 -> 6 | J4: =I4+1 -> 7 | K4: =J4+1 -> 8 | L4: =K4+1 -> 9 | ... P4: =O4+1 -> 13 | Q4: Diagonal
B5: =B6-1 -> 2006 | C5: 1 | D5: 5171.2797 | E5: 23585.373 | F5: 138184.95 | G5: 145156.36 | H5: 174341.88 | I5: 221978.56 | J5: 227057.76 | K5: 235524.84 | L5: 335484.35 | M5: 370499.24 | N5: 390776.41 | O5: 398495.19 | P5: 402916.32 | Q5: =OFFSET($Q$4,$C5,-$C5) -> 402916.32
B6: =B7-1 -> 2007 | C6: =C5+1 -> 2 | D6: 19432.015 | E6: 83665.095 | F6: 148706.89 | G6: 219260.16 | H6: 251343.6 | I6: 275244.51 | J6: 296473.27 | K6: 348417.17 | L6: 371269.19 | M6: 465133.05 | N6: 529084.02 | O6: 551245.13 | P6: 0 | Q6: =OFFSET($Q$4,$C6,-$C6) -> 551245.13
B7: =B8-1 -> 2008 | C7: =C6+1 -> 3 | D7: 10401.723 | E7: 144043.95 | F7: 341201.03 | G7: 453323.25 | H7: 475741.28 | I7: 639639.5 | J7: 712857.34 | K7: 802187.6 | L7: 893402.6 | M7: 935904.62 | N7: 971016.66 | O7: 0 | P7: 0 | Q7: =OFFSET($Q$4,$C7,-$C7) -> 971016.66
B8: =B9-1 -> 2009 | C8: =C7+1 -> 4 | D8: 42766.334 | E8: 179109.93 | F8: 370093.15 | G8: 517389.48 | H8: 553073.27 | I8: 580422.29 | J8: 603298.25 | K8: 744222.26 | L8: 754075.95 | M8: 810125.7 | N8: 0 | O8: 0 | P8: 0 | Q8: =OFFSET($Q$4,$C8,-$C8) -> 810125.7
B9: =B10-1 -> 2010 | C9: =C8+1 -> 5 | D9: 39305.186 | E9: 209793.33 | F9: 380512.81 | G9: 430632.02 | H9: 726092.29 | I9: 794217.59 | J9: 939679.26 | K9: 1048194.8 | L9: 1122043.1 | M9: 0 | N9: 0 | O9: 0 | P9: 0 | Q9: =OFFSET($Q$4,$C9,-$C9) -> 1122043.1
B10: =B11-1 -> 2011 | C10: =C9+1 -> 6 | D10: 13132.337 | E10: 47574.425 | F10: 70860.804 | G10: 128810.39 | H10: 273115.1 | I10: 317427.32 | J10: 391096.21 | K10: 499537.37 | L10: 0 | M10: 0 | N10: 0 | O10: 0 | P10: 0 | Q10: =OFFSET($Q$4,$C10,-$C10) -> 499537.37
B11: =B12-1 -> 2012 | C11: =C10+1 -> 7 | D11: 2050.6953 | E11: 97082.415 | F11: 177514.92 | G11: 189613.89 | H11: 264483.82 | I11: 284147.55 | J11: 330159.75 | K11: 0 | L11: 0 | M11: 0 | N11: 0 | O11: 0 | P11: 0 | Q11: =OFFSET($Q$4,$C11,-$C11) -> 330159.75
B12: =B13-1 -> 2013 | C12: =C11+1 -> 8 | D12: 9462.8995 | E12: 101477.92 | F12: 206596.77 | G12: 235022.46 | H12: 276652.02 | I12: 353992.72 | J12: 0 | K12: 0 | L12: 0 | M12: 0 | N12: 0 | O12: 0 | P12: 0 | Q12: =OFFSET($Q$4,$C12,-$C12) -> 353992.72
B13: =B14-1 -> 2014 | C13: =C12+1 -> 9 | D13: 9525.5916 | E13: 15763.339 | F13: 145017.81 | G13: 179525.93 | H13: 197347.45 | I13: 0 | J13: 0 | K13: 0 | L13: 0 | M13: 0 | N13: 0 | O13: 0 | P13: 0 | Q13: =OFFSET($Q$4,$C13,-$C13) -> 197347.45
B14: =B15-1 -> 2015 | C14: =C13+1 -> 10 | D14: 5631.977 | E14: 108154.05 | F14: 121627.35 | G14: 188197.62 | H14: 0 | I14: 0 | J14: 0 | K14: 0 | L14: 0 | M14: 0 | N14: 0 | O14: 0 | P14: 0 | Q14: =OFFSET($Q$4,$C14,-$C14) -> 188197.62
B15: =B16-1 -> 2016 | C15: =C14+1 -> 11 | D15: 2178.1097 | E15: 76989.593 | F15: 147458.73 | G15: 0 | H15: 0 | I15: 0 | J15: 0 | K15: 0 | L15: 0 | M15: 0 | N15: 0 | O15: 0 | P15: 0 | Q15: =OFFSET($Q$4,$C15,-$C15) -> 147458.73
B16: =B17-1 -> 2017 | C16: =C15+1 -> 12 | D16: 18683.701 | E16: 79252.333 | F16: 0 | G16: 0 | H16: 0 | I16: 0 | J16: 0 | K16: 0 | L16: 0 | M16: 0 | N16: 0 | O16: 0 | P16: 0 | Q16: =OFFSET($Q$4,$C16,-$C16) -> 79252.333
B17: 2018 | C17: =C16+1 -> 13 | D17: 5242.3538 | E17: 0 | F17: 0 | G17: 0 | H17: 0 | I17: 0 | J17: 0 | K17: 0 | L17: 0 | M17: 0 | N17: 0 | O17: 0 | P17: 0 | Q17: =OFFSET($Q$4,$C17,-$C17) -> 5242.3538
B18: Total | Q18: =SUM(Q5:Q17) -> 5658535.3
B21: Triangle 3 Reserving Worksheet - Age-to-Age Loss Development Factors fy,d
B22: AY | C22: AY\Age | D22: 1 | E22: =D22+1 -> 2 | F22: =E22+1 -> 3 | G22: =F22+1 -> 4 | H22: =G22+1 -> 5 | I22: =H22+1 -> 6 | J22: =I22+1 -> 7 | K22: =J22+1 -> 8 | L22: =K22+1 -> 9 | ... P22: =O22+1 -> 13
B23: 2006 | C23: 1 | D23: =E5/D5 -> 4.5608388 | E23: =F5/E5 -> 5.8589257 | F23: =G5/F5 -> 1.0504499 | G23: =H5/G5 -> 1.2010627 | H23: =I5/H5 -> 1.2732371 | I23: =J5/I5 -> 1.0228815 | J23: =K5/J5 -> 1.0372904 | K23: =L5/K5 -> 1.4244118 | ... O23: =P5/O5 -> 1.0110946
B24: 2007 | C24: 2 | D24: =E6/D6 -> 4.3055286 | E24: =F6/E6 -> 1.7774065 | F24: =G6/F6 -> 1.4744453 | G24: =H6/G6 -> 1.1463259 | H24: =I6/H6 -> 1.0950926 | I24: =J6/I6 -> 1.0771269 | J24: =K6/J6 -> 1.175206 | K24: =L6/K6 -> 1.0655881 | ... N24: =O6/N6 -> 1.0418858
B25: 2008 | C25: 3 | D25: =E7/D7 -> 13.848086 | E25: =F7/E7 -> 2.3687286 | F25: =G7/F7 -> 1.3286104 | G25: =H7/G7 -> 1.0494526 | H25: =I7/H7 -> 1.3445112 | I25: =J7/I7 -> 1.1144674 | J25: =K7/J7 -> 1.1253129 | K25: =L7/K7 -> 1.1137078 | ... M25: =N7/M7 -> 1.0375167
B26: 2009 | C26: 4 | D26: =E8/D8 -> 4.1881057 | E26: =F8/E8 -> 2.0662906 | F26: =G8/F8 -> 1.397998 | G26: =H8/G8 -> 1.0689689 | H26: =I8/H8 -> 1.0494492 | I26: =J8/I8 -> 1.0394126 | J26: =K8/J8 -> 1.2335893 | K26: =L8/K8 -> 1.0132402 | L26: =M8/L8 -> 1.0743291
B27: 2010 | C27: 5 | D27: =E9/D9 -> 5.3375482 | E27: =F9/E9 -> 1.8137508 | F27: =G9/F9 -> 1.1317149 | G27: =H9/G9 -> 1.6861085 | H27: =I9/H9 -> 1.0938246 | I27: =J9/I9 -> 1.1831509 | J27: =K9/J9 -> 1.1154814 | K27: =L9/K9 -> 1.0704529
B28: 2011 | C28: 6 | D28: =E10/D10 -> 3.6226929 | E28: =F10/E10 -> 1.4894726 | F28: =G10/F10 -> 1.8177947 | G28: =H10/G10 -> 2.1202878 | H28: =I10/H10 -> 1.1622474 | I28: =J10/I10 -> 1.2320811 | J28: =K10/J10 -> 1.2772749
B29: 2012 | C29: 7 | D29: =E11/D11 -> 47.341218 | E29: =F11/E11 -> 1.8284971 | F29: =G11/F11 -> 1.0681575 | G29: =H11/G11 -> 1.3948547 | H29: =I11/H11 -> 1.0743476 | I29: =J11/I11 -> 1.1619306
B30: 2013 | C30: 8 | D30: =E12/D12 -> 10.723767 | E30: =F12/E12 -> 2.035879 | F30: =G12/F12 -> 1.1375902 | G30: =H12/G12 -> 1.1771301 | H30: =I12/H12 -> 1.2795595
B31: 2014 | C31: 9 | D31: =E13/D13 -> 1.654841 | E31: =F13/E13 -> 9.1996882 | F31: =G13/F13 -> 1.2379579 | G31: =H13/G13 -> 1.0992699
B32: 2015 | C32: 10 | D32: =E14/D14 -> 19.203568 | E32: =F14/E14 -> 1.1245751 | F32: =G14/F14 -> 1.5473298
B33: 2016 | C33: 11 | D33: =E15/D15 -> 35.346977 | E33: =F15/E15 -> 1.9153073
B34: 2017 | C34: 12 | D34: =E16/D16 -> 4.2417899
B35: 2018 | C35: 13
B36: All yr Wt Avg | D36: =SUM(OFFSET(E$5,0,0,$C$35-D$22))/SUM(OFFSET(D$5,0,0,$C$35-D$22)) -> 6.5628425 | E36: =SUM(OFFSET(F$5,0,0,$C$35-E$22))/SUM(OFFSET(E$5,0,0,$C$35-E$22)) -> 2.0674151 | F36: =SUM(OFFSET(G$5,0,0,$C$35-F$22))/SUM(OFFSET(F$5,0,0,$C$35-F$22)) -> 1.2792984 | G36: =SUM(OFFSET(H$5,0,0,$C$35-G$22))/SUM(OFFSET(G$5,0,0,$C$35-G$22)) -> 1.2775233 | H36: =SUM(OFFSET(I$5,0,0,$C$35-H$22))/SUM(OFFSET(H$5,0,0,$C$35-H$22)) -> 1.15768 | I36: =SUM(OFFSET(J$5,0,0,$C$35-I$22))/SUM(OFFSET(I$5,0,0,$C$35-I$22)) -> 1.1244892 | J36: =SUM(OFFSET(K$5,0,0,$C$35-J$22))/SUM(OFFSET(J$5,0,0,$C$35-J$22)) -> 1.1601098 | K36: =SUM(OFFSET(L$5,0,0,$C$35-K$22))/SUM(OFFSET(K$5,0,0,$C$35-K$22)) -> 1.0936681 | ... O36: =SUM(OFFSET(P$5,0,0,$C$35-O$22))/SUM(OFFSET(O$5,0,0,$C$35-O$22)) -> 1.0110946 | P36: 1
B37: All yr Simple Avg | D37: =AVERAGE(D23:D35) -> 12.86458 | E37: =AVERAGE(E23:E35) -> 2.8616838 | F37: =AVERAGE(F23:F35) -> 1.3192048 | G37: =AVERAGE(G23:G35) -> 1.3270512 | H37: =AVERAGE(H23:H35) -> 1.1715336 | I37: =AVERAGE(I23:I35) -> 1.1187216 | J37: =AVERAGE(J23:J35) -> 1.1606925 | K37: =AVERAGE(K23:K35) -> 1.1374802 | ... O37: =AVERAGE(O23:O35) -> 1.0110946 | P37: 1
B38: Selected ATA | D38: =AVERAGE(D37,D36) -> 9.7137113 | E38: =AVERAGE(E37,E36) -> 2.4645494 | F38: =AVERAGE(F37,F36) -> 1.2992516 | G38: =AVERAGE(G37,G36) -> 1.3022872 | H38: =AVERAGE(H37,H36) -> 1.1646068 | I38: =AVERAGE(I37,I36) -> 1.1216054 | J38: =AVERAGE(J37,J36) -> 1.1604011 | K38: =AVERAGE(K37,K36) -> 1.1155742 | ... P38: =AVERAGE(P37,P36) -> 1
B39: ATU | D39: =PRODUCT(D38:$P38) -> 84.873217 | E39: =PRODUCT(E38:$P38) -> 8.7374655 | F39: =PRODUCT(F38:$P38) -> 3.5452588 | G39: =PRODUCT(G38:$P38) -> 2.728693 | H39: =PRODUCT(H38:$P38) -> 2.0953081 | I39: =PRODUCT(I38:$P38) -> 1.7991549 | J39: =PRODUCT(J38:$P38) -> 1.604089 | K39: =PRODUCT(K38:$P38) -> 1.3823574 | ... P39: =PRODUCT(P38:$P38) -> 1
B43: Triangle 3 Reserving Worksheet - Triangle of Selected Age to Ultimate Factors Fy,d
B44: Selected based on 50% weight each from all year weighted avg and all year simple avg
B45: AY | C45: AY\Age | D45: 1 | E45: =D45+1 -> 2 | F45: =E45+1 -> 3 | G45: =F45+1 -> 4 | H45: =G45+1 -> 5 | I45: =H45+1 -> 6 | J45: =I45+1 -> 7 | K45: =J45+1 -> 8 | L45: =K45+1 -> 9 | ... P45: =O45+1 -> 13
B46: 2006 | C46: 1 | D46: =D$39 -> 84.873217 | E46: =E$39 -> 8.7374655 | F46: =F$39 -> 3.5452588 | G46: =G$39 -> 2.728693 | H46: =H$39 -> 2.0953081 | I46: =I$39 -> 1.7991549 | J46: =J$39 -> 1.604089 | K46: =K$39 -> 1.3823574 | ... P46: =P$39 -> 1
B47: 2007 | C47: 2 | D47: =D$39 -> 84.873217 | E47: =E$39 -> 8.7374655 | F47: =F$39 -> 3.5452588 | G47: =G$39 -> 2.728693 | H47: =H$39 -> 2.0953081 | I47: =I$39 -> 1.7991549 | J47: =J$39 -> 1.604089 | K47: =K$39 -> 1.3823574 | ... O47: =O$39 -> 1.0110946
B48: 2008 | C48: 3 | D48: =D$39 -> 84.873217 | E48: =E$39 -> 8.7374655 | F48: =F$39 -> 3.5452588 | G48: =G$39 -> 2.728693 | H48: =H$39 -> 2.0953081 | I48: =I$39 -> 1.7991549 | J48: =J$39 -> 1.604089 | K48: =K$39 -> 1.3823574 | ... N48: =N$39 -> 1.0430968
B49: 2009 | C49: 4 | D49: =D$39 -> 84.873217 | E49: =E$39 -> 8.7374655 | F49: =F$39 -> 3.5452588 | G49: =G$39 -> 2.728693 | H49: =H$39 -> 2.0953081 | I49: =I$39 -> 1.7991549 | J49: =J$39 -> 1.604089 | K49: =K$39 -> 1.3823574 | ... M49: =M$39 -> 1.1181705
B50: 2010 | C50: 5 | D50: =D$39 -> 84.873217 | E50: =E$39 -> 8.7374655 | F50: =F$39 -> 3.5452588 | G50: =G$39 -> 2.728693 | H50: =H$39 -> 2.0953081 | I50: =I$39 -> 1.7991549 | J50: =J$39 -> 1.604089 | K50: =K$39 -> 1.3823574 | L50: =L$39 -> 1.2391443
B51: 2011 | C51: 6 | D51: =D$39 -> 84.873217 | E51: =E$39 -> 8.7374655 | F51: =F$39 -> 3.5452588 | G51: =G$39 -> 2.728693 | H51: =H$39 -> 2.0953081 | I51: =I$39 -> 1.7991549 | J51: =J$39 -> 1.604089 | K51: =K$39 -> 1.3823574
B52: 2012 | C52: 7 | D52: =D$39 -> 84.873217 | E52: =E$39 -> 8.7374655 | F52: =F$39 -> 3.5452588 | G52: =G$39 -> 2.728693 | H52: =H$39 -> 2.0953081 | I52: =I$39 -> 1.7991549 | J52: =J$39 -> 1.604089
B53: 2013 | C53: 8 | D53: =D$39 -> 84.873217 | E53: =E$39 -> 8.7374655 | F53: =F$39 -> 3.5452588 | G53: =G$39 -> 2.728693 | H53: =H$39 -> 2.0953081 | I53: =I$39 -> 1.7991549
B54: 2014 | C54: 9 | D54: =D$39 -> 84.873217 | E54: =E$39 -> 8.7374655 | F54: =F$39 -> 3.5452588 | G54: =G$39 -> 2.728693 | H54: =H$39 -> 2.0953081
B55: 2015 | C55: 10 | D55: =D$39 -> 84.873217 | E55: =E$39 -> 8.7374655 | F55: =F$39 -> 3.5452588 | G55: =G$39 -> 2.728693
B56: 2016 | C56: 11 | D56: =D$39 -> 84.873217 | E56: =E$39 -> 8.7374655 | F56: =F$39 -> 3.5452588
B57: 2017 | C57: 12 | D57: =D$39 -> 84.873217 | E57: =E$39 -> 8.7374655
B58: 2018 | C58: 13 | D58: =D$39 -> 84.873217
B60: Triangle 3 Reserving Worksheet - Triangle of Chain-Ladder Ultimate Loss Uchain-ladder
B61: Uchain-ladder = Cy,d x Fy,d
B62: AY | C62: AY\Age | D62: 1 | E62: =D62+1 -> 2 | F62: =E62+1 -> 3 | G62: =F62+1 -> 4 | H62: =G62+1 -> 5 | I62: =H62+1 -> 6 | J62: =I62+1 -> 7 | K62: =J62+1 -> 8 | L62: =K62+1 -> 9 | ... P62: =O62+1 -> 13 | Q62: Diagonal
B63: 2006 | C63: 1 | D63: =D46*D5 -> 438903.14 | E63: =E46*E5 -> 206076.38 | F63: =F46*F5 -> 489901.39 | G63: =G46*G5 -> 396087.13 | H63: =H46*H5 -> 365299.95 | I63: =I46*I5 -> 399373.82 | J63: =J46*J5 -> 364220.87 | K63: =K46*K5 -> 325579.49 | ... P63: =P46*P5 -> 402916.32 | Q63: =OFFSET($Q$62,$C63,-$C63) -> 402916.32
B64: 2007 | C64: 2 | D64: =D47*D6 -> 1649257.6 | E64: =E47*E6 -> 731020.89 | F64: =F47*F6 -> 527204.4 | G64: =G47*G6 -> 598293.66 | H64: =H47*H6 -> 526642.27 | I64: =I47*I6 -> 495207.51 | J64: =J47*J6 -> 475569.52 | K64: =K47*K6 -> 481637.04 | ... O64: =O47*O6 -> 557360.97 | Q64: =OFFSET($Q$62,$C64,-$C64) -> 557360.97
B65: 2008 | C65: 3 | D65: =D48*D7 -> 882827.7 | E65: =E48*E7 -> 1258579.1 | F65: =F48*F7 -> 1209645.9 | G65: =G48*G7 -> 1236979.9 | H65: =H48*H7 -> 996824.53 | I65: =I48*I7 -> 1150810.6 | J65: =J48*J7 -> 1143486.7 | K65: =K48*K7 -> 1108909.9 | ... N65: =N48*N7 -> 1012864.4 | Q65: =OFFSET($Q$62,$C65,-$C65) -> 1012864.4
B66: 2009 | C66: 4 | D66: =D49*D8 -> 3629716.3 | E66: =E49*E8 -> 1564966.8 | F66: =F49*F8 -> 1312076 | G66: =G49*G8 -> 1411797 | H66: =H49*H8 -> 1158858.9 | I66: =I49*I8 -> 1044269.6 | J66: =J49*J8 -> 967744.11 | K66: =K49*K8 -> 1028781.1 | ... M66: =M49*M8 -> 905858.69 | Q66: =OFFSET($Q$62,$C66,-$C66) -> 905858.69
B67: 2010 | C67: 5 | D67: =D50*D9 -> 3335957.6 | E67: =E50*E9 -> 1833062 | F67: =F50*F9 -> 1349016.4 | G67: =G50*G9 -> 1175062.6 | H67: =H50*H9 -> 1521387 | I67: =I50*I9 -> 1428920.5 | J67: =J50*J9 -> 1507329.2 | K67: =K50*K9 -> 1448979.8 | L67: =L50*L9 -> 1390373.4 | Q67: =OFFSET($Q$62,$C67,-$C67) -> 1390373.4
B68: 2011 | C68: 6 | D68: =D51*D10 -> 1114583.7 | E68: =E51*E10 -> 415679.9 | F68: =F51*F10 -> 251219.89 | G68: =G51*G10 -> 351484.01 | H68: =H51*H10 -> 572260.28 | I68: =I51*I10 -> 571100.93 | J68: =J51*J10 -> 627353.15 | K68: =K51*K10 -> 690539.15 | Q68: =OFFSET($Q$62,$C68,-$C68) -> 690539.15
B69: 2012 | C69: 7 | D69: =D52*D11 -> 174049.11 | E69: =E52*E11 -> 848254.26 | F69: =F52*F11 -> 629336.32 | G69: =G52*G11 -> 517398.09 | H69: =H52*H11 -> 554175.08 | I69: =I52*I11 -> 511225.47 | J69: =J52*J11 -> 529605.63 | Q69: =OFFSET($Q$62,$C69,-$C69) -> 529605.63
B70: 2013 | C70: 8 | D70: =D53*D12 -> 803146.73 | E70: =E53*E12 -> 886659.87 | F70: =F53*F12 -> 732439.03 | G70: =G53*G12 -> 641304.14 | H70: =H53*H12 -> 579671.22 | I70: =I53*I12 -> 636887.75 | Q70: =OFFSET($Q$62,$C70,-$C70) -> 636887.75
B71: 2014 | C71: 9 | D71: =D54*D13 -> 808467.61 | E71: =E54*E13 -> 137731.63 | F71: =F54*F13 -> 514125.65 | G71: =G54*G13 -> 489871.15 | H71: =H54*H13 -> 413503.7 | Q71: =OFFSET($Q$62,$C71,-$C71) -> 413503.7
B72: 2015 | C72: 10 | D72: =D55*D14 -> 478004 | E72: =E55*E14 -> 944992.31 | F72: =F55*F14 -> 431200.44 | G72: =G55*G14 -> 513533.52 | Q72: =OFFSET($Q$62,$C72,-$C72) -> 513533.52
B73: 2016 | C73: 11 | D73: =D56*D15 -> 184863.18 | E73: =E56*E15 -> 672693.91 | F73: =F56*F15 -> 522779.36 | Q73: =OFFSET($Q$62,$C73,-$C73) -> 522779.36
B74: 2017 | C74: 12 | D74: =D57*D16 -> 1585745.8 | E74: =E57*E16 -> 692464.53 | Q74: =OFFSET($Q$62,$C74,-$C74) -> 692464.53
B75: 2018 | C75: 13 | D75: =D58*D17 -> 444935.43 | Q75: =OFFSET($Q$62,$C75,-$C75) -> 444935.43
B76: Total | Q76: =SUM(Q63:Q75) -> 8713622.8
B78: Triangle 3 Reserving Worksheet - Triangle of A Priori Ultimate Loss Ua priori
B79: Externally determined, at 65.6% Loss Ratio
B80: AY | C80: AY\Age | D80: 1 | E80: =D80+1 -> 2 | F80: =E80+1 -> 3 | G80: =F80+1 -> 4 | H80: =G80+1 -> 5 | I80: =H80+1 -> 6 | J80: =I80+1 -> 7 | K80: =J80+1 -> 8 | L80: =K80+1 -> 9 | ... P80: =O80+1 -> 13 | Q80: Diagonal
B81: 2006 | C81: 1 | D81: 524592.59 | E81: 524592.59 | F81: 524592.59 | G81: 524592.59 | H81: 524592.59 | I81: 524592.59 | J81: 524592.59 | K81: 524592.59 | L81: 524592.59 | M81: 524592.59 | N81: 524592.59 | O81: 524592.59 | P81: 524592.59 | Q81: =OFFSET($Q$80,$C81,-$C81) -> 524592.59
B82: 2007 | C82: 2 | D82: 786888.89 | E82: 786888.89 | F82: 786888.89 | G82: 786888.89 | H82: 786888.89 | I82: 786888.89 | J82: 786888.89 | K82: 786888.89 | L82: 786888.89 | M82: 786888.89 | N82: 786888.89 | O82: 786888.89 | Q82: =OFFSET($Q$80,$C82,-$C82) -> 786888.89
B83: 2008 | C83: 3 | D83: 721314.81 | E83: 721314.81 | F83: 721314.81 | G83: 721314.81 | H83: 721314.81 | I83: 721314.81 | J83: 721314.81 | K83: 721314.81 | L83: 721314.81 | M83: 721314.81 | N83: 721314.81 | Q83: =OFFSET($Q$80,$C83,-$C83) -> 721314.81
B84: 2009 | C84: 4 | D84: 852462.96 | E84: 852462.96 | F84: 852462.96 | G84: 852462.96 | H84: 852462.96 | I84: 852462.96 | J84: 852462.96 | K84: 852462.96 | L84: 852462.96 | M84: 852462.96 | Q84: =OFFSET($Q$80,$C84,-$C84) -> 852462.96
B85: 2010 | C85: 5 | D85: 983611.11 | E85: 983611.11 | F85: 983611.11 | G85: 983611.11 | H85: 983611.11 | I85: 983611.11 | J85: 983611.11 | K85: 983611.11 | L85: 983611.11 | Q85: =OFFSET($Q$80,$C85,-$C85) -> 983611.11
B86: 2011 | C86: 6 | D86: 852462.96 | E86: 852462.96 | F86: 852462.96 | G86: 852462.96 | H86: 852462.96 | I86: 852462.96 | J86: 852462.96 | K86: 852462.96 | Q86: =OFFSET($Q$80,$C86,-$C86) -> 852462.96
B87: 2012 | C87: 7 | D87: 524592.59 | E87: 524592.59 | F87: 524592.59 | G87: 524592.59 | H87: 524592.59 | I87: 524592.59 | J87: 524592.59 | Q87: =OFFSET($Q$80,$C87,-$C87) -> 524592.59
B88: 2013 | C88: 8 | D88: 721314.81 | E88: 721314.81 | F88: 721314.81 | G88: 721314.81 | H88: 721314.81 | I88: 721314.81 | Q88: =OFFSET($Q$80,$C88,-$C88) -> 721314.81
B89: 2014 | C89: 9 | D89: 655740.74 | E89: 655740.74 | F89: 655740.74 | G89: 655740.74 | H89: 655740.74 | Q89: =OFFSET($Q$80,$C89,-$C89) -> 655740.74
B90: 2015 | C90: 10 | D90: 590166.67 | E90: 590166.67 | F90: 590166.67 | G90: 590166.67 | Q90: =OFFSET($Q$80,$C90,-$C90) -> 590166.67
B91: 2016 | C91: 11 | D91: 524592.59 | E91: 524592.59 | F91: 524592.59 | Q91: =OFFSET($Q$80,$C91,-$C91) -> 524592.59
B92: 2017 | C92: 12 | D92: 655740.74 | E92: 655740.74 | Q92: =OFFSET($Q$80,$C92,-$C92) -> 655740.74
B93: 2018 | C93: 13 | D93: 459018.52 | Q93: =OFFSET($Q$80,$C93,-$C93) -> 459018.52
B94: Total | Q94: =SUM(Q81:Q93) -> 8852500
B96: Triangle 3 Reserving Worksheet - Triangle of Bornhuetter-Ferguson Ultimate Loss UBF
B97: UBF = Cy,d + Ua priori x (1- Fy,d)
B98: AY | C98: AY\Age | D98: 1 | E98: =D98+1 -> 2 | F98: =E98+1 -> 3 | G98: =F98+1 -> 4 | H98: =G98+1 -> 5 | I98: =H98+1 -> 6 | J98: =I98+1 -> 7 | K98: =J98+1 -> 8 | L98: =K98+1 -> 9 | ... P98: =O98+1 -> 13 | Q98: Diagonal
B99: 2006 | C99: 1 | D99: =D5+D81*(1-1/D46) -> 523582.98 | E99: =E5+E81*(1-1/E46) -> 488138.52 | F99: =F5+F81*(1-1/F46) -> 514807.35 | G99: =G5+G81*(1-1/G46) -> 477498.45 | H99: =H5+H81*(1-1/H46) -> 448569.1 | I99: =I5+I81*(1-1/I46) -> 454993.93 | J99: =J5+J81*(1-1/J46) -> 424615.77 | K99: =K5+K81*(1-1/K46) -> 380626.13 | ... P99: =P5+P81*(1-1/P46) -> 402916.32 | Q99: =OFFSET($Q$98,$C99,-$C99) -> 402916.32
B100: 2007 | C100: 2 | D100: =D6+D82*(1-1/D47) -> 797049.56 | E100: =E6+E82*(1-1/E47) -> 780494.81 | F100: =F6+F82*(1-1/F47) -> 713640.5 | G100: =G6+G82*(1-1/G47) -> 717773.3 | H100: =H6+H82*(1-1/H47) -> 662684.42 | I100: =I6+I82*(1-1/I47) -> 624767.57 | J100: =J6+J82*(1-1/J47) -> 592810.28 | K100: =K6+K82*(1-1/K47) -> 566069.11 | ... O100: =O6+O82*(1-1/O47) -> 559879.54 | Q100: =OFFSET($Q$98,$C100,-$C100) -> 559879.54
B101: 2008 | C101: 3 | D101: =D7+D83*(1-1/D48) -> 723217.8 | E101: =E7+E83*(1-1/E48) -> 782804.53 | F101: =F7+F83*(1-1/F48) -> 859056.84 | G101: =G7+G83*(1-1/G48) -> 910293.62 | H101: =H7+H83*(1-1/H48) -> 852803.7 | I101: =I7+I83*(1-1/I48) -> 960035.63 | J101: =J7+J83*(1-1/J48) -> 984499.6 | K101: =K7+K83*(1-1/K48) -> 1001701.9 | ... N101: =N7+N83*(1-1/N48) -> 1000818.7 | Q101: =OFFSET($Q$98,$C101,-$C101) -> 1000818.7
B102: 2009 | C102: 4 | D102: =D8+D84*(1-1/D49) -> 885185.34 | E102: =E8+E84*(1-1/E49) -> 934008.79 | F102: =F8+F84*(1-1/F49) -> 982104.57 | G102: =G8+G84*(1-1/G49) -> 1057445.4 | H102: =H8+H84*(1-1/H49) -> 998692.5 | I102: =I8+I84*(1-1/I49) -> 959072.27 | J102: =J8+J84*(1-1/J49) -> 924330.01 | K102: =K8+K84*(1-1/K49) -> 980011.86 | ... M102: =M8+M84*(1-1/M49) -> 900215.72 | Q102: =OFFSET($Q$98,$C102,-$C102) -> 900215.72
B103: 2010 | C103: 5 | D103: =D9+D85*(1-1/D50) -> 1011327.1 | E103: =E9+E85*(1-1/E50) -> 1080830.5 | F103: =F9+F85*(1-1/F50) -> 1086679.8 | G103: =G9+G85*(1-1/G50) -> 1053773.4 | H103: =H9+H85*(1-1/H50) -> 1240268.3 | I103: =I9+I85*(1-1/I50) -> 1231121.4 | J103: =J9+J85*(1-1/J50) -> 1310100.5 | K103: =K9+K85*(1-1/K50) -> 1320259.7 | L103: =L9+L85*(1-1/L50) -> 1311871.7 | Q103: =OFFSET($Q$98,$C103,-$C103) -> 1311871.7
B104: 2011 | C104: 6 | D104: =D10+D86*(1-1/D51) -> 855551.34 | E104: =E10+E86*(1-1/E51) -> 802473.29 | F104: =F10+F86*(1-1/F51) -> 682872.22 | G104: =G10+G86*(1-1/G51) -> 668866.29 | H104: =H10+H86*(1-1/H51) -> 718734.33 | I104: =I10+I86*(1-1/I51) -> 696077.3 | J104: =J10+J86*(1-1/J51) -> 712127.98 | K104: =K10+K86*(1-1/K51) -> 735326.97 | Q104: =OFFSET($Q$98,$C104,-$C104) -> 735326.97
B105: 2012 | C105: 7 | D105: =D11+D87*(1-1/D52) -> 520462.39 | E105: =E11+E87*(1-1/E52) -> 561635.56 | F105: =F11+F87*(1-1/F52) -> 554137.33 | G105: =G11+G87*(1-1/G52) -> 521955.98 | H105: =H11+H87*(1-1/H52) -> 538711.04 | I105: =I11+I87*(1-1/I52) -> 517162.92 | J105: =J11+J87*(1-1/J52) -> 527717.76 | Q105: =OFFSET($Q$98,$C105,-$C105) -> 527717.76
B106: 2013 | C106: 8 | D106: =D12+D88*(1-1/D53) -> 722278.98 | E106: =E12+E88*(1-1/E53) -> 740238.5 | F106: =F12+F88*(1-1/F53) -> 724452.59 | G106: =G12+G88*(1-1/G53) -> 691992.84 | H106: =H12+H88*(1-1/H53) -> 653714.45 | I106: =I12+I88*(1-1/I53) -> 674388.86 | Q106: =OFFSET($Q$98,$C106,-$C106) -> 674388.86
B107: 2014 | C107: 9 | D107: =D13+D89*(1-1/D54) -> 657540.21 | E107: =E13+E89*(1-1/E54) -> 596454.77 | F107: =F13+F89*(1-1/F54) -> 615795.82 | G107: =G13+G89*(1-1/G54) -> 594953.55 | H107: =H13+H89*(1-1/H54) -> 540131.47 | Q107: =OFFSET($Q$98,$C107,-$C107) -> 540131.47
B108: 2015 | C108: 10 | D108: =D14+D90*(1-1/D55) -> 588845.13 | E108: =E14+E90*(1-1/E55) -> 630776.34 | F108: =F14+F90*(1-1/F55) -> 545327.56 | G108: =G14+G90*(1-1/G55) -> 562082.47 | Q108: =OFFSET($Q$98,$C108,-$C108) -> 562082.47
B109: 2016 | C109: 11 | D109: =D15+D91*(1-1/D56) -> 520589.81 | E109: =E15+E91*(1-1/E56) -> 541542.74 | F109: =F15+F91*(1-1/F56) -> 524081.14 | Q109: =OFFSET($Q$98,$C109,-$C109) -> 524081.14
...

Sheet Study1 FR RK
B1: Study 1 | I1: # Active AYs | J1: =COUNTIF(E40:E52, ">0") -> 13 | L1: # of AYs | M1: =COUNT(B40:B52) -> 13
B3: =$B$1 -> Study 1
B4: =$B$1&" Feng-Robbin and Rehman-Klugman Standard Errors, All AYs Combined" -> Study 1 Feng-Robbin and Rehman-Klugman Standard Errors, All AYs Combined
B5: Method | D5: Run-off Mean | E5: 1 Yr Mean | F5: Run-off Variance | G5: 1 Yr Variance | H5: Total Run-off Standard Error | I5: Total Run-off CV of Reserve | J5: 1-year Standard Error | K5: 1-year CV of Reserve | L5: Parameter Error Ult | M5: Parameter Error 1 Yr | N5: Total Incl. Para Ult | O5: Total Incl. Para 1 Yr
D6: ω | E6: α | F6: λ2 | G6: θ2
D7: Eq. (3.13) | E7: Eq. (3.19) | F7: Eq. (3.14) | G7: Eq. (3.20) | H7: Eq. (3.15) | J7: Eq. (3.21)
B8: Feng-Robbin
B9: Full Adjustment | D9: =SUMPRODUCT(J40:J52, L40:L52) -> 0.0022268117 | E9: =SUMPRODUCT(J40:J52, M40:M52) -> 0.001782332 | F9: {=MMULT(TRANSPOSE(S183:S195), MMULT(D183:P195, S183:S195))} -> 3.6652213e-05 | G9: {=MMULT(TRANSPOSE(R183:R195), MMULT(D183:P195, R183:R195))} -> 1.3455233e-05 | H9: =$E$53*SQRT(EXP(2*D9+2*F9)-EXP(2*D9+F9)) -> 19577.57 | I9: =IFERROR(H9/$G$53,"") -> 0.17307669 | J9: =$E$53*SQRT(EXP(2*E9+2*G9)-EXP(2*E9+G9)) -> 11856.423 | K9: =IFERROR(J9/$G$53,"") -> 0.10481743 | L9: =SQRT(SUMSQ(L18:L31)) -> 6135.9562 | M9: =SQRT(SUMSQ(M18:M31)) -> 5047.9075 | N9: =SQRT(L9^2+H9^2) -> 20516.608 | O9: =SQRT(M9^2+J9^2) -> 12886.277
B10: Diagonal Calibrated | D10: =SUMPRODUCT(J40:J52, L40:L52) -> 0.0022268117 | E10: =SUMPRODUCT(J40:J52, M40:M52) -> 0.001782332 | F10: {=MMULT(TRANSPOSE(S166:S178), MMULT(D166:P178, S166:S178))} -> 3.746034e-05 | G10: {=MMULT(TRANSPOSE(R166:R178), MMULT(D166:P178, R166:R178))} -> 1.3525647e-05 | H10: =$E$53*SQRT(EXP(2*D10+2*F10)-EXP(2*D10+F10)) -> 19792.233 | I10: =IFERROR(H10/$G$53,"") -> 0.17497444 | J10: =$E$53*SQRT(EXP(2*E10+2*G10)-EXP(2*E10+G10)) -> 11887.407 | K10: =IFERROR(J10/$G$53,"") -> 0.10509134 | L10: =L9 -> 6135.9562 | M10: =M9 -> 5047.9075 | N10: =SQRT(L10^2+H10^2) -> 20721.546 | O10: =SQRT(M10^2+J10^2) -> 12914.791
B11: Fill-in | D11: =SUMPRODUCT(J40:J52, L40:L52) -> 0.0022268117 | E11: =SUMPRODUCT(J40:J52, M40:M52) -> 0.001782332 | F11: {=MMULT(TRANSPOSE(S149:S161), MMULT(D149:P161, S149:S161))} -> 3.0694791e-05 | G11: {=MMULT(TRANSPOSE(R149:R161), MMULT(D149:P161, R149:R161))} -> 1.2906928e-05 | H11: =$E$53*SQRT(EXP(2*D11+2*F11)-EXP(2*D11+F11)) -> 17915.919 | I11: =IFERROR(H11/$G$53,"") -> 0.15838676 | J11: =$E$53*SQRT(EXP(2*E11+2*G11)-EXP(2*E11+G11)) -> 11612.329 | K11: =IFERROR(J11/$G$53,"") -> 0.1026595 | L11: =L9 -> 6135.9562 | M11: =M9 -> 5047.9075 | N11: =SQRT(L11^2+H11^2) -> 18937.531 | O11: =SQRT(M11^2+J11^2) -> 12662.052
B12: Rehman-Klugman
B13: λ2 using Eq. (7.01) | D13: =SUMPRODUCT(J40:J52, L40:L52) -> 0.0022268117 | E13: n/a | F13: =SUMPRODUCT(J40:J52,J40:J52,T132:T144) -> 1.9347028e-05 | G13: n/a | H13: =$E$53*SQRT(EXP(2*D13+2*F13)-EXP(2*D13+F13)) -> 14223.621 | I13: =IFERROR(H13/$G$53,"") -> 0.12574478 | J13: n/a | K13: n/a | L13: n/a | M13: n/a | N13: n/a | O13: n/a
B15: =$B$1 -> Study 1
B16: =$B$1&" Feng-Robbin Standard Errors by Accident Year" -> Study 1 Feng-Robbin Standard Errors by Accident Year
B17: AY | C17: AY # | D17: Dev Age | E17: Diagonal Ult | F17: Paid | G17: Reserve | H17: Total Run-off Standard Error | I17: Total Run-off CV of Reserve | J17: 1-year Standard Error | K17: 1-year CV of Reserve | L17: Parameter Error Ult | M17: Parameter Error 1 Yr | N17: Total Incl. Para Ult | O17: Total Incl. Para 1 Yr
C18: y | D18: d | E18: Uy, Y-d+1 | F18: Cy, Y-d+1 | G18: Uy, Y-d+1-Cy, Y-d+1 | H18: Eq. (3.12) | J18: Eq. (3.18) | L18: Eq. (6.02) | M18: Eq. (6.01)
B19: =B40 -> 2006 | C19: =$C$40 -> 1 | D19: =$M$1-C19+1 -> 13 | E19: =Q59 -> 223558 | F19: 223558 | G19: =+E19-F19 -> 0 | H19: =E40*SQRT(EXP(2*L40+2*N40)-EXP(2*L40+N40)) -> 0 | I19: =IFERROR(H19/G40,"") | J19: =E40*SQRT(EXP(2*M40+2*O40)-EXP(2*M40+O40)) -> 0 | K19: =IFERROR(J19/G40,"") | L19: =ABS(I40-1)*$E40 -> 0 | M19: =ABS(H40-1)*$E40 -> 0 | N19: =SQRT(L19^2+H19^2) -> 0 | O19: =SQRT(M19^2+J19^2) -> 0
B20: =B41 -> 2007 | C20: =C19+1 -> 2 | D20: =$M$1-C20+1 -> 12 | E20: =Q60 -> 224036 | F20: 224036 | G20: =+E20-F20 -> 0 | H20: =E41*SQRT(EXP(2*L41+2*N41)-EXP(2*L41+N41)) -> 0 | I20: =IFERROR(H20/G41,"") | J20: =E41*SQRT(EXP(2*M41+2*O41)-EXP(2*M41+O41)) -> 0 | K20: =IFERROR(J20/G41,"") | L20: =ABS(I41-1)*$E41 -> 0 | M20: =ABS(H41-1)*E41 -> 0 | N20: =SQRT(L20^2+H20^2) -> 0 | O20: =SQRT(M20^2+J20^2) -> 0
B21: =B42 -> 2008 | C21: =C20+1 -> 3 | D21: =$M$1-C21+1 -> 11 | E21: =Q61 -> 223697 | F21: 223697 | G21: =+E21-F21 -> 0 | H21: =E42*SQRT(EXP(2*L42+2*N42)-EXP(2*L42+N42)) -> 0 | I21: =IFERROR(H21/G42,"") | J21: =E42*SQRT(EXP(2*M42+2*O42)-EXP(2*M42+O42)) -> 0 | K21: =IFERROR(J21/G42,"") | L21: =ABS(I42-1)*$E42 -> 0 | M21: =ABS(H42-1)*E42 -> 0 | N21: =SQRT(L21^2+H21^2) -> 0 | O21: =SQRT(M21^2+J21^2) -> 0
B22: =B43 -> 2009 | C22: =C21+1 -> 4 | D22: =$M$1-C22+1 -> 10 | E22: =Q62 -> 214445 | F22: 214459 | G22: =+E22-F22 -> -14 | H22: =E43*SQRT(EXP(2*L43+2*N43)-EXP(2*L43+N43)) -> 42.964498 | I22: =IFERROR(H22/G43,"") -> -3.0688927 | J22: =E43*SQRT(EXP(2*M43+2*O43)-EXP(2*M43+O43)) -> 42.964498 | K22: =IFERROR(J22/G43,"") -> -3.0688927 | L22: =ABS(I43-1)*$E43 -> 8.3060639 | M22: =ABS(H43-1)*E43 -> 8.3060639 | N22: =SQRT(L22^2+H22^2) -> 43.760013 | O22: =SQRT(M22^2+J22^2) -> 43.760013
B23: =B44 -> 2010 | C23: =C22+1 -> 5 | D23: =$M$1-C23+1 -> 9 | E23: =Q63 -> 221628 | F23: 221616 | G23: =+E23-F23 -> 12 | H23: =E44*SQRT(EXP(2*L44+2*N44)-EXP(2*L44+N44)) -> 131.24647 | I23: =IFERROR(H23/G44,"") -> 10.937206 | J23: =E44*SQRT(EXP(2*M44+2*O44)-EXP(2*M44+O44)) -> 89.364783 | K23: =IFERROR(J23/G44,"") -> 7.4470652 | L23: =ABS(I44-1)*$E44 -> 39.117287 | M23: =ABS(H44-1)*E44 -> 30.531823 | N23: =SQRT(L23^2+H23^2) -> 136.95181 | O23: =SQRT(M23^2+J23^2) -> 94.436522
B24: =B45 -> 2011 | C24: =C23+1 -> 6 | D24: =$M$1-C24+1 -> 8 | E24: =Q64 -> 294673 | F24: 294705 | G24: =+E24-F24 -> -32 | H24: =E45*SQRT(EXP(2*L45+2*N45)-EXP(2*L45+N45)) -> 248.42713 | I24: =IFERROR(H24/G45,"") -> -7.7633478 | J24: =E45*SQRT(EXP(2*M45+2*O45)-EXP(2*M45+O45)) -> 104.70051 | K24: =IFERROR(J24/G45,"") -> -3.2718911 | L24: =ABS(I45-1)*$E45 -> 77.831982 | M24: =ABS(H45-1)*E45 -> 25.817713 | N24: =SQRT(L24^2+H24^2) -> 260.33412 | O24: =SQRT(M24^2+J24^2) -> 107.83669
B25: =B46 -> 2012 | C25: =C24+1 -> 7 | D25: =$M$1-C25+1 -> 7 | E25: =Q65 -> 269763 | F25: 269720 | G25: =+E25-F25 -> 43 | H25: =E46*SQRT(EXP(2*L46+2*N46)-EXP(2*L46+N46)) -> 399.76387 | I25: =IFERROR(H25/G46,"") -> 9.2968342 | J25: =E46*SQRT(EXP(2*M46+2*O46)-EXP(2*M46+O46)) -> 366.87295 | K25: =IFERROR(J25/G46,"") -> 8.531929 | L25: =ABS(I46-1)*$E46 -> 129.01257 | M25: =ABS(H46-1)*E46 -> 57.744818 | N25: =SQRT(L25^2+H25^2) -> 420.06594 | O25: =SQRT(M25^2+J25^2) -> 371.38959
B26: =B47 -> 2013 | C26: =C25+1 -> 8 | D26: =$M$1-C26+1 -> 6 | E26: =Q66 -> 271810 | F26: 271688 | G26: =+E26-F26 -> 122 | H26: =E47*SQRT(EXP(2*L47+2*N47)-EXP(2*L47+N47)) -> 563.30158 | I26: =IFERROR(H26/G47,"") -> 4.6172261 | J26: =E47*SQRT(EXP(2*M47+2*O47)-EXP(2*M47+O47)) -> 222.06832 | K26: =IFERROR(J26/G47,"") -> 1.8202321 | L26: =ABS(I47-1)*$E47 -> 183.69844 | M26: =ABS(H47-1)*E47 -> 53.681224 | N26: =SQRT(L26^2+H26^2) -> 592.49792 | O26: =SQRT(M26^2+J26^2) -> 228.46447
B27: =B48 -> 2014 | C27: =C26+1 -> 9 | D27: =$M$1-C27+1 -> 5 | E27: =Q67 -> 247245 | F27: 245940 | G27: =+E27-F27 -> 1305 | H27: =E48*SQRT(EXP(2*L48+2*N48)-EXP(2*L48+N48)) -> 1807.5616 | I27: =IFERROR(H27/G48,"") -> 1.3851047 | J27: =E48*SQRT(EXP(2*M48+2*O48)-EXP(2*M48+O48)) -> 1484.8619 | K27: =IFERROR(J27/G48,"") -> 1.1378252 | L27: =ABS(I48-1)*$E48 -> 231.12935 | M27: =ABS(H48-1)*E48 -> 397.95697 | N27: =SQRT(L27^2+H27^2) -> 1822.2787 | O27: =SQRT(M27^2+J27^2) -> 1537.2653
B28: =B49 -> 2015 | C28: =C27+1 -> 10 | D28: =$M$1-C28+1 -> 4 | E28: =Q68 -> 267747 | F28: 264755 | G28: =+E28-F28 -> 2992 | H28: =E49*SQRT(EXP(2*L49+2*N49)-EXP(2*L49+N49)) -> 2601.515 | I28: =IFERROR(H28/G49,"") -> 0.86949032 | J28: =E49*SQRT(EXP(2*M49+2*O49)-EXP(2*M49+O49)) -> 1923.0794 | K28: =IFERROR(J28/G49,"") -> 0.64274045 | L28: =ABS(I49-1)*$E49 -> 349.05528 | M28: =ABS(H49-1)*E49 -> 98.85268 | N28: =SQRT(L28^2+H28^2) -> 2624.8276 | O28: =SQRT(M28^2+J28^2) -> 1925.6184
B29: =B50 -> 2016 | C29: =C28+1 -> 11 | D29: =$M$1-C29+1 -> 3 | E29: =Q69 -> 245398 | F29: 239800 | G29: =+E29-F29 -> 5598 | H29: =E50*SQRT(EXP(2*L50+2*N50)-EXP(2*L50+N50)) -> 3615.9791 | I29: =IFERROR(H29/G50,"") -> 0.64594124 | J29: =E50*SQRT(EXP(2*M50+2*O50)-EXP(2*M50+O50)) -> 3114.2269 | K29: =IFERROR(J29/G50,"") -> 0.55631062 | L29: =ABS(I50-1)*$E50 -> 263.78039 | M29: =ABS(H50-1)*E50 -> 584.46177 | N29: =SQRT(L29^2+H29^2) -> 3625.5875 | O29: =SQRT(M29^2+J29^2) -> 3168.5966
B30: =B51 -> 2017 | C30: =C29+1 -> 12 | D30: =$M$1-C30+1 -> 2 | E30: =Q70 -> 259549 | F30: 246019 | G30: =+E30-F30 -> 13530 | H30: =E51*SQRT(EXP(2*L51+2*N51)-EXP(2*L51+N51)) -> 6082.6469 | I30: =IFERROR(H30/G51,"") -> 0.4495674 | J30: =E51*SQRT(EXP(2*M51+2*O51)-EXP(2*M51+O51)) -> 5530.9073 | K30: =IFERROR(J30/G51,"") -> 0.40878842 | L30: =ABS(I51-1)*$E51 -> 1050.0167 | M30: =ABS(H51-1)*E51 -> 770.19738 | N30: =SQRT(L30^2+H30^2) -> 6172.6112 | O30: =SQRT(M30^2+J30^2) -> 5584.2761
B31: =B52 -> 2018 | C31: =C30+1 -> 13 | D31: =$M$1-C31+1 -> 1 | E31: =Q71 -> 262936 | F31: 173377 | G31: =+E31-F31 -> 89559 | H31: =E52*SQRT(EXP(2*L52+2*N52)-EXP(2*L52+N52)) -> 12199.505 | I31: =IFERROR(H31/G52,"") -> 0.13621752 | J31: =E52*SQRT(EXP(2*M52+2*O52)-EXP(2*M52+O52)) -> 8499.5855 | K31: =IFERROR(J31/G52,"") -> 0.094904872 | L31: =ABS(I52-1)*$E52 -> 6020.3436 | M31: =ABS(H52-1)*E52 -> 4936.6532 | N31: =SQRT(L31^2+H31^2) -> 13604.134 | O31: =SQRT(M31^2+J31^2) -> 9829.2166
B32: Total All AYs | E32: =SUM(E19:E31) -> 3226485 | F32: =SUM(F19:F31) -> 3113370 | G32: =SUM(G19:G31) -> 113115
B35: =$B$1 -> Study 1
B36: =$B$1&" Feng-Robbin Parameters by Accident Year" -> Study 1 Feng-Robbin Parameters by Accident Year
B37: AY | C37: AY # | D37: Dev Age | E37: Diagonal Ult | F37: Paid | G37: Reserve | H37: ATA UDF | I37: ATU UDF | J37: Weight | K37: Cumulative Weight by Age | L37: Run-off Mean | M37: 1 Yr Mean | N37: Run-off Variance | O37: 1 Yr Variance
C38: y | D38: d | E38: Uy, Y-d+1 | F38: Cy, Y-d+1 | G38: Uy, Y-d+1-Cy, Y-d+1 | H38: gd | I38: Gd | J38: ry | K38: Rd | L38: ωy | M38: αy | N38: λy2 | O38: θy2
H39: Eq. (3.03) | I39: Eq. (3.04) | J39: Eq. (3.05) | K39: Eq. (3.06) | L39: Eq. (3.10) | M39: Eq. (3.16) | N39: Eq. (3.11) | O39: Eq. (3.17)
B40: =B59 -> 2006 | C40: =C59 -> 1 | D40: =$M$1-C40+1 -> 13 | E40: =Q59 -> 223558 | F40: {=F19:F31} -> 223558 | G40: =+E40-F40 -> 0 | H40: =INDEX($D$89:$P$89, 0, $M$1+1-C40) -> 1 | I40: =INDEX($D$90:$P$90, 0, $M$1+1-C40) -> 1 | J40: =E40/$E$53 -> 0.069288405 | K40: =SUM(J40:J$52) -> 1 | L40: =SUM($M$40:$M40) -> 0 | M40: =INDEX($D$125:$P$125, 0, $M$1+1-C40) -> 0 | N40: =SUM(OFFSET($P$195, 0, 0, -$C40, -$C40)) -> 0 | O40: =INDEX($D$108:$P$108, 0, $M$1+1-C40) -> 0
B41: =B60 -> 2007 | C41: =C60 -> 2 | D41: =$M$1-C41+1 -> 12 | E41: =Q60 -> 224036 | F41: 224036 | G41: =+E41-F41 -> 0 | H41: =INDEX($D$89:$P$89, 0, $M$1+1-C41) -> 1 | I41: =INDEX($D$90:$P$90, 0, $M$1+1-C41) -> 1 | J41: =E41/$E$53 -> 0.069436554 | K41: =SUM(J41:J$52) -> 0.93071159 | L41: =SUM($M$40:$M41) -> 0 | M41: =INDEX($D$125:$P$125, 0, $M$1+1-C41) -> 0 | N41: =SUM(OFFSET($P$195, 0, 0, -$C41, -$C41)) -> 0 | O41: =INDEX($D$108:$P$108, 0, $M$1+1-C41) -> 0
B42: =B61 -> 2008 | C42: =C61 -> 3 | D42: =$M$1-C42+1 -> 11 | E42: =Q61 -> 223697 | F42: 223697 | G42: =+E42-F42 -> 0 | H42: =INDEX($D$89:$P$89, 0, $M$1+1-C42) -> 1 | I42: =INDEX($D$90:$P$90, 0, $M$1+1-C42) -> 1 | J42: =E42/$E$53 -> 0.069331486 | K42: =SUM(J42:J$52) -> 0.86127504 | L42: =SUM($M$40:$M42) -> 0 | M42: =INDEX($D$125:$P$125, 0, $M$1+1-C42) -> 0 | N42: =SUM(OFFSET($P$195, 0, 0, -$C42, -$C42)) -> 0 | O42: =INDEX($D$108:$P$108, 0, $M$1+1-C42) -> 0
B43: =B62 -> 2009 | C43: =C62 -> 4 | D43: =$M$1-C43+1 -> 10 | E43: =Q62 -> 214445 | F43: 214459 | G43: =+E43-F43 -> -14 | H43: =INDEX($D$89:$P$89, 0, $M$1+1-C43) -> 1.0000387 | I43: =INDEX($D$90:$P$90, 0, $M$1+1-C43) -> 1.0000387 | J43: =E43/$E$53 -> 0.066463969 | K43: =SUM(J43:J$52) -> 0.79194355 | L43: =SUM($M$40:$M43) -> 3.8645017e-05 | M43: =INDEX($D$125:$P$125, 0, $M$1+1-C43) -> 3.8645017e-05 | N43: =SUM(OFFSET($P$195, 0, 0, -$C43, -$C43)) -> 4.0137844e-08 | O43: =INDEX($D$108:$P$108, 0, $M$1+1-C43) -> 4.0137844e-08
B44: =B63 -> 2010 | C44: =C63 -> 5 | D44: =$M$1-C44+1 -> 9 | E44: =Q63 -> 221628 | F44: 221616 | G44: =+E44-F44 -> 12 | H44: =INDEX($D$89:$P$89, 0, $M$1+1-C44) -> 1.0001378 | I44: =INDEX($D$90:$P$90, 0, $M$1+1-C44) -> 1.0001765 | J44: =E44/$E$53 -> 0.068690231 | K44: =SUM(J44:J$52) -> 0.72547959 | L44: =SUM($M$40:$M44) -> 0.0001737915 | M44: =INDEX($D$125:$P$125, 0, $M$1+1-C44) -> 0.00013514648 | N44: =SUM(OFFSET($P$195, 0, 0, -$C44, -$C44)) -> 3.5057005e-07 | O44: =INDEX($D$108:$P$108, 0, $M$1+1-C44) -> 1.6254217e-07
B45: =B64 -> 2011 | C45: =C64 -> 6 | D45: =$M$1-C45+1 -> 8 | E45: =Q64 -> 294673 | F45: 294705 | G45: =+E45-F45 -> -32 | H45: =INDEX($D$89:$P$89, 0, $M$1+1-C45) -> 1.0000876 | I45: =INDEX($D$90:$P$90, 0, $M$1+1-C45) -> 1.0002641 | J45: =E45/$E$53 -> 0.091329419 | K45: =SUM(J45:J$52) -> 0.65678935 | L45: =SUM($M$40:$M45) -> 0.00026388166 | M45: =INDEX($D$125:$P$125, 0, $M$1+1-C45) -> 9.0090164e-05 | N45: =SUM(OFFSET($P$195, 0, 0, -$C45, -$C45)) -> 7.1037503e-07 | O45: =INDEX($D$108:$P$108, 0, $M$1+1-C45) -> 1.2622303e-07
B46: =B65 -> 2012 | C46: =C65 -> 7 | D46: =$M$1-C46+1 -> 7 | E46: =Q65 -> 269763 | F46: 269720 | G46: =+E46-F46 -> 43 | H46: =INDEX($D$89:$P$89, 0, $M$1+1-C46) -> 1.0002141 | I46: =INDEX($D$90:$P$90, 0, $M$1+1-C46) -> 1.0004782 | J46: =E46/$E$53 -> 0.083608943 | K46: =SUM(J46:J$52) -> 0.56545994 | L46: =SUM($M$40:$M46) -> 0.00049993295 | M46: =INDEX($D$125:$P$125, 0, $M$1+1-C46) -> 0.00023605128 | N46: =SUM(OFFSET($P$195, 0, 0, -$C46, -$C46)) -> 2.1938486e-06 | O46: =INDEX($D$108:$P$108, 0, $M$1+1-C46) -> 1.8486742e-06
B47: =B66 -> 2013 | C47: =C66 -> 8 | D47: =$M$1-C47+1 -> 6 | E47: =Q66 -> 271810 | F47: 271688 | G47: =+E47-F47 -> 122 | H47: =INDEX($D$89:$P$89, 0, $M$1+1-C47) -> 1.0001975 | I47: =INDEX($D$90:$P$90, 0, $M$1+1-C47) -> 1.0006758 | J47: =E47/$E$53 -> 0.084243379 | K47: =SUM(J47:J$52) -> 0.48185099 | L47: =SUM($M$40:$M47) -> 0.00067070271 | M47: =INDEX($D$125:$P$125, 0, $M$1+1-C47) -> 0.00017076976 | N47: =SUM(OFFSET($P$195, 0, 0, -$C47, -$C47)) -> 4.2890955e-06 | O47: =INDEX($D$108:$P$108, 0, $M$1+1-C47) -> 6.6725769e-07
B48: =B67 -> 2014 | C48: =C67 -> 9 | D48: =$M$1-C48+1 -> 5 | E48: =Q67 -> 247245 | F48: 245940 | G48: =+E48-F48 -> 1305 | H48: =INDEX($D$89:$P$89, 0, $M$1+1-C48) -> 0.99839043 | I48: =INDEX($D$90:$P$90, 0, $M$1+1-C48) -> 0.99906518 | J48: =E48/$E$53 -> 0.076629831 | K48: =SUM(J48:J$52) -> 0.39760761 | L48: =SUM($M$40:$M48) -> -0.00090782003 | M48: =INDEX($D$125:$P$125, 0, $M$1+1-C48) -> -0.0015785227 | N48: =SUM(OFFSET($P$195, 0, 0, -$C48, -$C48)) -> 5.3540797e-05 | O48: =INDEX($D$108:$P$108, 0, $M$1+1-C48) -> 3.617967e-05
B49: =B68 -> 2015 | C49: =C68 -> 10 | D49: =$M$1-C49+1 -> 4 | E49: =Q68 -> 267747 | F49: 264755 | G49: =+E49-F49 -> 2992 | H49: =INDEX($D$89:$P$89, 0, $M$1+1-C49) -> 0.9996308 | I49: =INDEX($D$90:$P$90, 0, $M$1+1-C49) -> 0.99869632 | J49: =E49/$E$53 -> 0.082984114 | K49: =SUM(J49:J$52) -> 0.32097778 | L49: =SUM($M$40:$M49) -> -0.0011111406 | M49: =INDEX($D$125:$P$125, 0, $M$1+1-C49) -> -0.00020332052 | N49: =SUM(OFFSET($P$195, 0, 0, -$C49, -$C49)) -> 9.4603444e-05 | O49: =INDEX($D$108:$P$108, 0, $M$1+1-C49) -> 5.1604574e-05
B50: =B69 -> 2016 | C50: =C69 -> 11 | D50: =$M$1-C50+1 -> 3 | E50: =Q69 -> 245398 | F50: 239800 | G50: =+E50-F50 -> 5598 | H50: =INDEX($D$89:$P$89, 0, $M$1+1-C50) -> 1.0023817 | I50: =INDEX($D$90:$P$90, 0, $M$1+1-C50) -> 1.0010749 | J50: =E50/$E$53 -> 0.076057381 | K50: =SUM(J50:J$52) -> 0.23799367 | L50: =SUM($M$40:$M50) -> 0.0015458891 | M50: =INDEX($D$125:$P$125, 0, $M$1+1-C50) -> 0.0026570297 | N50: =SUM(OFFSET($P$195, 0, 0, -$C50, -$C50)) -> 0.00021638446 | O50: =INDEX($D$108:$P$108, 0, $M$1+1-C50) -> 0.00016015712
B51: =B70 -> 2017 | C51: =C70 -> 12 | D51: =$M$1-C51+1 -> 2 | E51: =Q70 -> 259549 | F51: 246019 | G51: =+E51-F51 -> 13530 | H51: =INDEX($D$89:$P$89, 0, $M$1+1-C51) -> 1.0029674 | I51: =INDEX($D$90:$P$90, 0, $M$1+1-C51) -> 1.0040455 | J51: =E51/$E$53 -> 0.080443269 | K51: =SUM(J51:J$52) -> 0.16193629 | L51: =SUM($M$40:$M51) -> 0.0042441295 | M51: =INDEX($D$125:$P$125, 0, $M$1+1-C51) -> 0.0026982403 | N51: =SUM(OFFSET($P$195, 0, 0, -$C51, -$C51)) -> 0.00054413369 | O51: =INDEX($D$108:$P$108, 0, $M$1+1-C51) -> 0.00045135301
B52: =B71 -> 2018 | C52: =C71 -> 13 | D52: =$M$1-C52+1 -> 1 | E52: =Q71 -> 262936 | F52: 173377 | G52: =+E52-F52 -> 89559 | H52: =INDEX($D$89:$P$89, 0, $M$1+1-C52) -> 1.0187751 | I52: =INDEX($D$90:$P$90, 0, $M$1+1-C52) -> 1.0228966 | J52: =E52/$E$53 -> 0.081493018 | K52: =SUM(J52:J$52) -> 0.081493018 | L52: =SUM($M$40:$M52) -> 0.021998073 | M52: =INDEX($D$125:$P$125, 0, $M$1+1-C52) -> 0.017753943 | N52: =SUM(OFFSET($P$195, 0, 0, -$C52, -$C52)) -> 0.0020537099 | O52: =INDEX($D$108:$P$108, 0, $M$1+1-C52) -> 0.0010069746
B53: Total All AYs | E53: =SUM(E40:E52) -> 3226485 | F53: =SUM(F40:F52) -> 3113370 | G53: =SUM(G40:G52) -> 113115
B56: =$B$1 -> Study 1
B57: Feng-Robbin Triangle of Ultimate Losses Uy,d
A58: Include? | B58: AY | C58: AY # | D58: 1 | E58: =D58+1 -> 2 | F58: =E58+1 -> 3 | G58: =F58+1 -> 4 | H58: =G58+1 -> 5 | I58: =H58+1 -> 6 | J58: =I58+1 -> 7 | K58: =J58+1 -> 8 | L58: =K58+1 -> 9 | ... P58: =O58+1 -> 13 | Q58: Diagonal
A59: 1 | B59: =B60-1 -> 2006 | C59: 1 | D59: 233927 | E59: 225734 | F59: 224101 | G59: 223193 | H59: 222383 | I59: 223724 | J59: 223743 | K59: 223765 | L59: 223669 | M59: 223601 | N59: 223558 | O59: 223558 | P59: 223558 | Q59: =OFFSET($Q$58,$C59,-$C59) -> 223558
A60: 1 | B60: =B61-1 -> 2007 | C60: =C59+1 -> 2 | D60: 230176 | E60: 224714 | F60: 222707 | G60: 221871 | H60: 225215 | I60: 223977 | J60: 224027 | K60: 223933 | L60: 223907 | M60: 224004 | N60: 224036 | O60: 224036 | Q60: =OFFSET($Q$58,$C60,-$C60) -> 224036
A61: 1 | B61: =B62-1 -> 2008 | C61: =C60+1 -> 3 | D61: 225361 | E61: 219714 | F61: 217321 | G61: 223774 | H61: 225325 | I61: 223809 | J61: 223680 | K61: 223450 | L61: 223544 | M61: 223660 | N61: 223697 | Q61: =OFFSET($Q$58,$C61,-$C61) -> 223697
A62: 1 | B62: =B63-1 -> 2009 | C62: =C61+1 -> 4 | D62: 211284 | E62: 215963 | F62: 218664 | G62: 217849 | H62: 215981 | I62: 214561 | J62: 214391 | K62: 214395 | L62: 214468 | M62: 214445 | Q62: =OFFSET($Q$58,$C62,-$C62) -> 214445
A63: 1 | B63: =B64-1 -> 2010 | C63: =C62+1 -> 5 | D63: 212024 | E63: 221439 | F63: 220313 | G63: 218938 | H63: 218873 | I63: 220610 | J63: 220938 | K63: 221576 | L63: 221628 | Q63: =OFFSET($Q$58,$C63,-$C63) -> 221628
A64: 1 | B64: =B65-1 -> 2011 | C64: =C63+1 -> 6 | D64: 289863 | E64: 298147 | F64: 295716 | G64: 293527 | H64: 293758 | I64: 294427 | J64: 294713 | K64: 294673 | Q64: =OFFSET($Q$58,$C64,-$C64) -> 294673
A65: 1 | B65: =B66-1 -> 2012 | C65: =C64+1 -> 7 | D65: 268568 | E65: 273222 | F65: 272219 | G65: 272657 | H65: 271057 | I65: 269817 | J65: 269763 | Q65: =OFFSET($Q$58,$C65,-$C65) -> 269763
A66: 1 | B66: =B67-1 -> 2013 | C66: =C65+1 -> 8 | D66: 261945 | E66: 275360 | F66: 274935 | G66: 274262 | H66: 273275 | I66: 271810 | Q66: =OFFSET($Q$58,$C66,-$C66) -> 271810
A67: 1 | B67: =B68-1 -> 2014 | C67: =C66+1 -> 9 | D67: 232400 | E67: 241510 | F67: 242330 | G67: 247851 | H67: 247245 | Q67: =OFFSET($Q$58,$C67,-$C67) -> 247245
A68: 1 | B68: =B69-1 -> 2015 | C68: =C67+1 -> 10 | D68: 235521 | E68: 251022 | F68: 267514 | G68: 267747 | Q68: =OFFSET($Q$58,$C68,-$C68) -> 267747
A69: 1 | B69: =B70-1 -> 2016 | C69: =C68+1 -> 11 | D69: 239385 | E69: 246401 | F69: 245398 | Q69: =OFFSET($Q$58,$C69,-$C69) -> 245398
A70: 1 | B70: =B71-1 -> 2017 | C70: =C69+1 -> 12 | D70: 257904 | E70: 259549 | Q70: =OFFSET($Q$58,$C70,-$C70) -> 259549
A71: 1 | B71: 2018 | C71: =C70+1 -> 13 | D71: 262936 | Q71: =OFFSET($Q$58,$C71,-$C71) -> 262936
B72: Total | Q72: =SUM(Q59:Q71) -> 3226485
B74: =$B$1 -> Study 1
B75: Feng-Robbin Triangle of Ultimate Development Factors (UDF) gy,d
B76: AY | C76: AY # | D76: =D58&" - "&E58 -> 1 - 2 | E76: =E58&" - "&F58 -> 2 - 3 | F76: =F58&" - "&G58 -> 3 - 4 | G76: =G58&" - "&H58 -> 4 - 5 | H76: =H58&" - "&I58 -> 5 - 6 | I76: =I58&" - "&J58 -> 6 - 7 | J76: =J58&" - "&K58 -> 7 - 8 | K76: =K58&" - "&L58 -> 8 - 9 | ... O76: =O58&" - "&P58 -> 12 - 13 | P76: =P58&" - Ult" -> 13 - Ult
B77: =B78-1 -> 2006 | C77: 1 | D77: =IF(ISERROR(E59/D59),"",IF(E59/D59=0,"",E59/D59)) -> 0.96497625 | E77: =IF(ISERROR(F59/E59),"",IF(F59/E59=0,"",F59/E59)) -> 0.99276582 | F77: =IF(ISERROR(G59/F59),"",IF(G59/F59=0,"",G59/F59)) -> 0.99594826 | G77: =IF(ISERROR(H59/G59),"",IF(H59/G59=0,"",H59/G59)) -> 0.99637085 | H77: =IF(ISERROR(I59/H59),"",IF(I59/H59=0,"",I59/H59)) -> 1.0060301 | I77: =IF(ISERROR(J59/I59),"",IF(J59/I59=0,"",J59/I59)) -> 1.0000849 | J77: =IF(ISERROR(K59/J59),"",IF(K59/J59=0,"",K59/J59)) -> 1.0000983 | K77: =IF(ISERROR(L59/K59),"",IF(L59/K59=0,"",L59/K59)) -> 0.99957098 | ... O77: =IF(ISERROR(P59/O59),"",IF(P59/O59=0,"",P59/O59)) -> 1 | P77: =IF(ISERROR(#REF!/P59),"",IF(#REF!/P59=0,"",#REF!/P59))
B78: =B79-1 -> 2007 | C78: =C77+1 -> 2 | D78: =IF(ISERROR(E60/D60),"",IF(E60/D60=0,"",E60/D60)) -> 0.97627033 | E78: =IF(ISERROR(F60/E60),"",IF(F60/E60=0,"",F60/E60)) -> 0.99106865 | F78: =IF(ISERROR(G60/F60),"",IF(G60/F60=0,"",G60/F60)) -> 0.99624619 | G78: =IF(ISERROR(H60/G60),"",IF(H60/G60=0,"",H60/G60)) -> 1.0150718 | H78: =IF(ISERROR(I60/H60),"",IF(I60/H60=0,"",I60/H60)) -> 0.99450303 | I78: =IF(ISERROR(J60/I60),"",IF(J60/I60=0,"",J60/I60)) -> 1.0002232 | J78: =IF(ISERROR(K60/J60),"",IF(K60/J60=0,"",K60/J60)) -> 0.99958041 | K78: =IF(ISERROR(L60/K60),"",IF(L60/K60=0,"",L60/K60)) -> 0.99988389 | ... O78: =IF(ISERROR(P60/O60),"",IF(P60/O60=0,"",P60/O60)) | P78: =IF(ISERROR(#REF!/P60),"",IF(#REF!/P60=0,"",#REF!/P60))
B79: =B80-1 -> 2008 | C79: =C78+1 -> 3 | D79: =IF(ISERROR(E61/D61),"",IF(E61/D61=0,"",E61/D61)) -> 0.97494243 | E79: =IF(ISERROR(F61/E61),"",IF(F61/E61=0,"",F61/E61)) -> 0.98910857 | F79: =IF(ISERROR(G61/F61),"",IF(G61/F61=0,"",G61/F61)) -> 1.0296934 | G79: =IF(ISERROR(H61/G61),"",IF(H61/G61=0,"",H61/G61)) -> 1.0069311 | H79: =IF(ISERROR(I61/H61),"",IF(I61/H61=0,"",I61/H61)) -> 0.99327194 | I79: =IF(ISERROR(J61/I61),"",IF(J61/I61=0,"",J61/I61)) -> 0.99942362 | J79: =IF(ISERROR(K61/J61),"",IF(K61/J61=0,"",K61/J61)) -> 0.99897175 | K79: =IF(ISERROR(L61/K61),"",IF(L61/K61=0,"",L61/K61)) -> 1.0004207 | ... O79: =IF(ISERROR(P61/O61),"",IF(P61/O61=0,"",P61/O61)) | P79: =IF(ISERROR(#REF!/P61),"",IF(#REF!/P61=0,"",#REF!/P61))
B80: =B81-1 -> 2009 | C80: =C79+1 -> 4 | D80: =IF(ISERROR(E62/D62),"",IF(E62/D62=0,"",E62/D62)) -> 1.0221455 | E80: =IF(ISERROR(F62/E62),"",IF(F62/E62=0,"",F62/E62)) -> 1.0125068 | F80: =IF(ISERROR(G62/F62),"",IF(G62/F62=0,"",G62/F62)) -> 0.99627282 | G80: =IF(ISERROR(H62/G62),"",IF(H62/G62=0,"",H62/G62)) -> 0.99142525 | H80: =IF(ISERROR(I62/H62),"",IF(I62/H62=0,"",I62/H62)) -> 0.99342535 | I80: =IF(ISERROR(J62/I62),"",IF(J62/I62=0,"",J62/I62)) -> 0.99920768 | J80: =IF(ISERROR(K62/J62),"",IF(K62/J62=0,"",K62/J62)) -> 1.0000187 | K80: =IF(ISERROR(L62/K62),"",IF(L62/K62=0,"",L62/K62)) -> 1.0003405 | ... O80: =IF(ISERROR(P62/O62),"",IF(P62/O62=0,"",P62/O62)) | P80: =IF(ISERROR(#REF!/P62),"",IF(#REF!/P62=0,"",#REF!/P62))
B81: =B82-1 -> 2010 | C81: =C80+1 -> 5 | D81: =IF(ISERROR(E63/D63),"",IF(E63/D63=0,"",E63/D63)) -> 1.0444054 | E81: =IF(ISERROR(F63/E63),"",IF(F63/E63=0,"",F63/E63)) -> 0.99491508 | F81: =IF(ISERROR(G63/F63),"",IF(G63/F63=0,"",G63/F63)) -> 0.99375888 | G81: =IF(ISERROR(H63/G63),"",IF(H63/G63=0,"",H63/G63)) -> 0.99970311 | H81: =IF(ISERROR(I63/H63),"",IF(I63/H63=0,"",I63/H63)) -> 1.0079361 | I81: =IF(ISERROR(J63/I63),"",IF(J63/I63=0,"",J63/I63)) -> 1.0014868 | J81: =IF(ISERROR(K63/J63),"",IF(K63/J63=0,"",K63/J63)) -> 1.0028877 | K81: =IF(ISERROR(L63/K63),"",IF(L63/K63=0,"",L63/K63)) -> 1.0002347 | ... O81: =IF(ISERROR(P63/O63),"",IF(P63/O63=0,"",P63/O63)) | P81: =IF(ISERROR(#REF!/P63),"",IF(#REF!/P63=0,"",#REF!/P63))
B82: =B83-1 -> 2011 | C82: =C81+1 -> 6 | D82: =IF(ISERROR(E64/D64),"",IF(E64/D64=0,"",E64/D64)) -> 1.028579 | E82: =IF(ISERROR(F64/E64),"",IF(F64/E64=0,"",F64/E64)) -> 0.9918463 | F82: =IF(ISERROR(G64/F64),"",IF(G64/F64=0,"",G64/F64)) -> 0.99259763 | G82: =IF(ISERROR(H64/G64),"",IF(H64/G64=0,"",H64/G64)) -> 1.000787 | H82: =IF(ISERROR(I64/H64),"",IF(I64/H64=0,"",I64/H64)) -> 1.0022774 | I82: =IF(ISERROR(J64/I64),"",IF(J64/I64=0,"",J64/I64)) -> 1.0009714 | J82: =IF(ISERROR(K64/J64),"",IF(K64/J64=0,"",K64/J64)) -> 0.99986427 | K82: =IF(ISERROR(L64/K64),"",IF(L64/K64=0,"",L64/K64)) | ... O82: =IF(ISERROR(P64/O64),"",IF(P64/O64=0,"",P64/O64)) | P82: =IF(ISERROR(#REF!/P64),"",IF(#REF!/P64=0,"",#REF!/P64))
B83: =B84-1 -> 2012 | C83: =C82+1 -> 7 | D83: =IF(ISERROR(E65/D65),"",IF(E65/D65=0,"",E65/D65)) -> 1.0173289 | E83: =IF(ISERROR(F65/E65),"",IF(F65/E65=0,"",F65/E65)) -> 0.99632899 | F83: =IF(ISERROR(G65/F65),"",IF(G65/F65=0,"",G65/F65)) -> 1.001609 | G83: =IF(ISERROR(H65/G65),"",IF(H65/G65=0,"",H65/G65)) -> 0.99413182 | H83: =IF(ISERROR(I65/H65),"",IF(I65/H65=0,"",I65/H65)) -> 0.99542532 | I83: =IF(ISERROR(J65/I65),"",IF(J65/I65=0,"",J65/I65)) -> 0.99979986 | J83: =IF(ISERROR(K65/J65),"",IF(K65/J65=0,"",K65/J65)) | K83: =IF(ISERROR(L65/K65),"",IF(L65/K65=0,"",L65/K65)) | ... O83: =IF(ISERROR(P65/O65),"",IF(P65/O65=0,"",P65/O65)) | P83: =IF(ISERROR(#REF!/P65),"",IF(#REF!/P65=0,"",#REF!/P65))
B84: =B85-1 -> 2013 | C84: =C83+1 -> 8 | D84: =IF(ISERROR(E66/D66),"",IF(E66/D66=0,"",E66/D66)) -> 1.051213 | E84: =IF(ISERROR(F66/E66),"",IF(F66/E66=0,"",F66/E66)) -> 0.99845657 | F84: =IF(ISERROR(G66/F66),"",IF(G66/F66=0,"",G66/F66)) -> 0.99755215 | G84: =IF(ISERROR(H66/G66),"",IF(H66/G66=0,"",H66/G66)) -> 0.99640125 | H84: =IF(ISERROR(I66/H66),"",IF(I66/H66=0,"",I66/H66)) -> 0.9946391 | I84: =IF(ISERROR(J66/I66),"",IF(J66/I66=0,"",J66/I66)) | J84: =IF(ISERROR(K66/J66),"",IF(K66/J66=0,"",K66/J66)) | K84: =IF(ISERROR(L66/K66),"",IF(L66/K66=0,"",L66/K66)) | ... O84: =IF(ISERROR(P66/O66),"",IF(P66/O66=0,"",P66/O66)) | P84: =IF(ISERROR(#REF!/P66),"",IF(#REF!/P66=0,"",#REF!/P66))
B85: =B86-1 -> 2014 | C85: =C84+1 -> 9 | D85: =IF(ISERROR(E67/D67),"",IF(E67/D67=0,"",E67/D67)) -> 1.0391997 | E85: =IF(ISERROR(F67/E67),"",IF(F67/E67=0,"",F67/E67)) -> 1.0033953 | F85: =IF(ISERROR(G67/F67),"",IF(G67/F67=0,"",G67/F67)) -> 1.022783 | G85: =IF(ISERROR(H67/G67),"",IF(H67/G67=0,"",H67/G67)) -> 0.99755498 | H85: =IF(ISERROR(I67/H67),"",IF(I67/H67=0,"",I67/H67)) | I85: =IF(ISERROR(J67/I67),"",IF(J67/I67=0,"",J67/I67)) | J85: =IF(ISERROR(K67/J67),"",IF(K67/J67=0,"",K67/J67)) | K85: =IF(ISERROR(L67/K67),"",IF(L67/K67=0,"",L67/K67)) | ... O85: =IF(ISERROR(P67/O67),"",IF(P67/O67=0,"",P67/O67)) | P85: =IF(ISERROR(#REF!/P67),"",IF(#REF!/P67=0,"",#REF!/P67))
B86: =B87-1 -> 2015 | C86: =C85+1 -> 10 | D86: =IF(ISERROR(E68/D68),"",IF(E68/D68=0,"",E68/D68)) -> 1.0658158 | E86: =IF(ISERROR(F68/E68),"",IF(F68/E68=0,"",F68/E68)) -> 1.0656994 | F86: =IF(ISERROR(G68/F68),"",IF(G68/F68=0,"",G68/F68)) -> 1.000871 | G86: =IF(ISERROR(H68/G68),"",IF(H68/G68=0,"",H68/G68)) | H86: =IF(ISERROR(I68/H68),"",IF(I68/H68=0,"",I68/H68)) | I86: =IF(ISERROR(J68/I68),"",IF(J68/I68=0,"",J68/I68)) | J86: =IF(ISERROR(K68/J68),"",IF(K68/J68=0,"",K68/J68)) | K86: =IF(ISERROR(L68/K68),"",IF(L68/K68=0,"",L68/K68)) | ... O86: =IF(ISERROR(P68/O68),"",IF(P68/O68=0,"",P68/O68)) | P86: =IF(ISERROR(#REF!/P68),"",IF(#REF!/P68=0,"",#REF!/P68))
B87: =B88-1 -> 2016 | C87: =C86+1 -> 11 | D87: =IF(ISERROR(E69/D69),"",IF(E69/D69=0,"",E69/D69)) -> 1.0293084 | E87: =IF(ISERROR(F69/E69),"",IF(F69/E69=0,"",F69/E69)) -> 0.9959294 | F87: =IF(ISERROR(G69/F69),"",IF(G69/F69=0,"",G69/F69)) | G87: =IF(ISERROR(H69/G69),"",IF(H69/G69=0,"",H69/G69)) | H87: =IF(ISERROR(I69/H69),"",IF(I69/H69=0,"",I69/H69)) | I87: =IF(ISERROR(J69/I69),"",IF(J69/I69=0,"",J69/I69)) | J87: =IF(ISERROR(K69/J69),"",IF(K69/J69=0,"",K69/J69)) | K87: =IF(ISERROR(L69/K69),"",IF(L69/K69=0,"",L69/K69)) | ... O87: =IF(ISERROR(P69/O69),"",IF(P69/O69=0,"",P69/O69)) | P87: =IF(ISERROR(#REF!/P69),"",IF(#REF!/P69=0,"",#REF!/P69))
B88: =B71-1 -> 2017 | C88: =C87+1 -> 12 | D88: =IF(ISERROR(E70/D70),"",IF(E70/D70=0,"",E70/D70)) -> 1.0063783 | E88: =IF(ISERROR(F70/E70),"",IF(F70/E70=0,"",F70/E70)) | F88: =IF(ISERROR(G70/F70),"",IF(G70/F70=0,"",G70/F70)) | G88: =IF(ISERROR(H70/G70),"",IF(H70/G70=0,"",H70/G70)) | H88: =IF(ISERROR(I70/H70),"",IF(I70/H70=0,"",I70/H70)) | I88: =IF(ISERROR(J70/I70),"",IF(J70/I70=0,"",J70/I70)) | J88: =IF(ISERROR(K70/J70),"",IF(K70/J70=0,"",K70/J70)) | K88: =IF(ISERROR(L70/K70),"",IF(L70/K70=0,"",L70/K70)) | ... O88: =IF(ISERROR(P70/O70),"",IF(P70/O70=0,"",P70/O70)) | P88: =IF(ISERROR(#REF!/P70),"",IF(#REF!/P70=0,"",#REF!/P70))
B89: Wtd Avg ATA gd | D89: =IFERROR(SUMPRODUCT($A$59:$A$71, E$59:E$71, --($C$59:$C$71<$M$1+1-D$58))/SUMPRODUCT($A$59:$A$71, D$59:D$71, --($C$59:$C$71<$M$1+1-D$58)), 1) -> 1.0187751 | E89: =IFERROR(SUMPRODUCT($A$59:$A$71, F$59:F$71, --($C$59:$C$71<$M$1+1-E$58))/SUMPRODUCT($A$59:$A$71, E$59:E$71, --($C$59:$C$71<$M$1+1-E$58)), 1) -> 1.0029674 | F89: =IFERROR(SUMPRODUCT($A$59:$A$71, G$59:G$71, --($C$59:$C$71<$M$1+1-F$58))/SUMPRODUCT($A$59:$A$71, F$59:F$71, --($C$59:$C$71<$M$1+1-F$58)), 1) -> 1.0023817 | G89: =IFERROR(SUMPRODUCT($A$59:$A$71, H$59:H$71, --($C$59:$C$71<$M$1+1-G$58))/SUMPRODUCT($A$59:$A$71, G$59:G$71, --($C$59:$C$71<$M$1+1-G$58)), 1) -> 0.9996308 | H89: =IFERROR(SUMPRODUCT($A$59:$A$71, I$59:I$71, --($C$59:$C$71<$M$1+1-H$58))/SUMPRODUCT($A$59:$A$71, H$59:H$71, --($C$59:$C$71<$M$1+1-H$58)), 1) -> 0.99839043 | I89: =IFERROR(SUMPRODUCT($A$59:$A$71, J$59:J$71, --($C$59:$C$71<$M$1+1-I$58))/SUMPRODUCT($A$59:$A$71, I$59:I$71, --($C$59:$C$71<$M$1+1-I$58)), 1) -> 1.0001975 | J89: =IFERROR(SUMPRODUCT($A$59:$A$71, K$59:K$71, --($C$59:$C$71<$M$1+1-J$58))/SUMPRODUCT($A$59:$A$71, J$59:J$71, --($C$59:$C$71<$M$1+1-J$58)), 1) -> 1.0002141 | K89: =IFERROR(SUMPRODUCT($A$59:$A$71, L$59:L$71, --($C$59:$C$71<$M$1+1-K$58))/SUMPRODUCT($A$59:$A$71, K$59:K$71, --($C$59:$C$71<$M$1+1-K$58)), 1) -> 1.0000876 | ... O89: =IFERROR(SUMPRODUCT($A$59:$A$71, P$59:P$71, --($C$59:$C$71<$M$1+1-O$58))/SUMPRODUCT($A$59:$A$71, O$59:O$71, --($C$59:$C$71<$M$1+1-O$58)), 1) -> 1 | P89: =IFERROR(SUMPRODUCT($A$59:$A$71,#REF!, --( $C$59:$C$71<$M$1+1-P$58))/SUMPRODUCT($A$59:$A$71, P$59:P$71, --($C$59:$C$71<$M$1+1-P$58)), 1) -> 1
B90: ATU Gd | D90: =D89*E90 -> 1.0228966 | E90: =E89*F90 -> 1.0040455 | F90: =F89*G90 -> 1.0010749 | G90: =G89*H90 -> 0.99869632 | H90: =H89*I90 -> 0.99906518 | I90: =I89*J90 -> 1.0006758 | J90: =J89*K90 -> 1.0004782 | K90: =K89*L90 -> 1.0002641 | ... O90: =O89*P90 -> 1 | P90: =P89 -> 1
B92: =$B$1 -> Study 1
B93: Feng-Robbin Triangle of Log UDF ln(gd) | AH93: =IF(#REF!>$J$1+1,"",IF(AG93="","",AG93*OFFSET($B$89,0,MATCH(#REF!,#REF!,0)))) -> #REF!
B94: AY | C94: AY # | D94: =D76 -> 1 - 2 | E94: =E76 -> 2 - 3 | F94: =F76 -> 3 - 4 | G94: =G76 -> 4 - 5 | H94: =H76 -> 5 - 6 | I94: =I76 -> 6 - 7 | J94: =J76 -> 7 - 8 | K94: =K76 -> 8 - 9 | ... P94: =P76 -> 13 - Ult
B95: =B96-1 -> 2006 | C95: 1 | D95: =IFERROR(LN(D77), "") -> -0.035651786 | E95: =IFERROR(LN(E77), "") -> -0.0072604718 | F95: =IFERROR(LN(F77), "") -> -0.0040599751 | G95: =IFERROR(LN(G77), "") -> -0.0036357474 | H95: =IFERROR(LN(H77), "") -> 0.0060120287 | I95: =IFERROR(LN(I77), "") -> 8.4922464e-05 | J95: =IFERROR(LN(J77), "") -> 9.8322265e-05 | K95: =IFERROR(LN(K77), "") -> -0.00042911357 | ... P95: =IFERROR(LN(P77), "")
B96: =B97-1 -> 2007 | C96: =C95+1 -> 2 | D96: =IFERROR(LN(D78), "") -> -0.024015751 | E96: =IFERROR(LN(E78), "") -> -0.0089714764 | F96: =IFERROR(LN(F78), "") -> -0.0037608743 | G96: =IFERROR(LN(G78), "") -> 0.01495937 | H96: =IFERROR(LN(H78), "") -> -0.0055121335 | I96: =IFERROR(LN(I78), "") -> 0.00022321229 | J96: =IFERROR(LN(J78), "") -> -0.00041968033 | K96: =IFERROR(LN(K78), "") -> -0.0001161129 | ... P96: =IFERROR(LN(P78), "")
B97: =B98-1 -> 2008 | C97: =C96+1 -> 3 | D97: =IFERROR(LN(D79), "") -> -0.02537686 | E97: =IFERROR(LN(E79), "") -> -0.010951177 | F97: =IFERROR(LN(F79), "") -> 0.029261091 | G97: =IFERROR(LN(G79), "") -> 0.0069071905 | H97: =IFERROR(LN(H79), "") -> -0.0067507949 | I97: =IFERROR(LN(I79), "") -> -0.0005765505 | J97: =IFERROR(LN(J79), "") -> -0.0010287837 | K97: =IFERROR(LN(K79), "") -> 0.00042058731 | ... P97: =IFERROR(LN(P79), "")
B98: =B99-1 -> 2009 | C98: =C97+1 -> 4 | D98: =IFERROR(LN(D80), "") -> 0.021903897 | E98: =IFERROR(LN(E80), "") -> 0.012429208 | F98: =IFERROR(LN(F80), "") -> -0.0037341428 | G98: =IFERROR(LN(G80), "") -> -0.0086117214 | H98: =IFERROR(LN(H80), "") -> -0.0065963606 | I98: =IFERROR(LN(I80), "") -> -0.00079262952 | J98: =IFERROR(LN(J80), "") -> 1.8657326e-05 | K98: =IFERROR(LN(K80), "") -> 0.00034043506 | ... P98: =IFERROR(LN(P80), "")
B99: =B100-1 -> 2010 | C99: =C98+1 -> 5 | D99: =IFERROR(LN(D81), "") -> 0.043447681 | E99: =IFERROR(LN(E81), "") -> -0.005097894 | F99: =IFERROR(LN(F81), "") -> -0.0062606778 | G99: =IFERROR(LN(G81), "") -> -0.00029693178 | H99: =IFERROR(LN(H81), "") -> 0.0079047838 | I99: =IFERROR(LN(I81), "") -> 0.0014856825 | J99: =IFERROR(LN(J81), "") -> 0.0028835266 | K99: =IFERROR(LN(K81), "") -> 0.00023465492 | ... P99: =IFERROR(LN(P81), "")
B100: =B101-1 -> 2011 | C100: =C99+1 -> 6 | D100: =IFERROR(LN(D82), "") -> 0.028178256 | E100: =IFERROR(LN(E82), "") -> -0.0081871192 | F100: =IFERROR(LN(F82), "") -> -0.0074299061 | G100: =IFERROR(LN(G82), "") -> 0.00078667091 | H100: =IFERROR(LN(H82), "") -> 0.0022747955 | I100: =IFERROR(LN(I82), "") -> 0.00097090682 | J100: =IFERROR(LN(J82), "") -> -0.00013573448 | K100: =IFERROR(LN(K82), "") | ... P100: =IFERROR(LN(P82), "")
B101: =B102-1 -> 2012 | C101: =C100+1 -> 7 | D101: =IFERROR(LN(D83), "") -> 0.017180511 | E101: =IFERROR(LN(E83), "") -> -0.0036777621 | F101: =IFERROR(LN(F83), "") -> 0.0016077056 | G101: =IFERROR(LN(G83), "") -> -0.0058854641 | H101: =IFERROR(LN(H83), "") -> -0.0045851794 | I101: =IFERROR(LN(I83), "") -> -0.00020015568 | J101: =IFERROR(LN(J83), "") | K101: =IFERROR(LN(K83), "") | ... P101: =IFERROR(LN(P83), "")
B102: =B103-1 -> 2013 | C102: =C101+1 -> 8 | D102: =IFERROR(LN(D84), "") -> 0.049944774 | E102: =IFERROR(LN(E84), "") -> -0.0015446264 | F102: =IFERROR(LN(F84), "") -> -0.0024508522 | G102: =IFERROR(LN(G84), "") -> -0.0036052397 | H102: =IFERROR(LN(H84), "") -> -0.0053753214 | I102: =IFERROR(LN(I84), "") | J102: =IFERROR(LN(J84), "") | K102: =IFERROR(LN(K84), "") | ... P102: =IFERROR(LN(P84), "")
B103: =B104-1 -> 2014 | C103: =C102+1 -> 9 | D103: =IFERROR(LN(D85), "") -> 0.038450855 | E103: =IFERROR(LN(E85), "") -> 0.0033895535 | F103: =IFERROR(LN(F85), "") -> 0.022527326 | G103: =IFERROR(LN(G85), "") -> -0.0024480113 | H103: =IFERROR(LN(H85), "") | I103: =IFERROR(LN(I85), "") | J103: =IFERROR(LN(J85), "") | K103: =IFERROR(LN(K85), "") | ... P103: =IFERROR(LN(P85), "")
B104: =B105-1 -> 2015 | C104: =C103+1 -> 10 | D104: =IFERROR(LN(D86), "") -> 0.063740503 | E104: =IFERROR(LN(E86), "") -> 0.063631317 | F104: =IFERROR(LN(F86), "") -> 0.00087060337 | G104: =IFERROR(LN(G86), "") | H104: =IFERROR(LN(H86), "") | I104: =IFERROR(LN(I86), "") | J104: =IFERROR(LN(J86), "") | K104: =IFERROR(LN(K86), "") | ... P104: =IFERROR(LN(P86), "")
B105: =B106-1 -> 2016 | C105: =C104+1 -> 11 | D105: =IFERROR(LN(D87), "") -> 0.028887156 | E105: =IFERROR(LN(E87), "") -> -0.0040789078 | F105: =IFERROR(LN(F87), "") | G105: =IFERROR(LN(G87), "") | H105: =IFERROR(LN(H87), "") | I105: =IFERROR(LN(I87), "") | J105: =IFERROR(LN(J87), "") | K105: =IFERROR(LN(K87), "") | ... P105: =IFERROR(LN(P87), "")
B106: =B71-1 -> 2017 | C106: =C105+1 -> 12 | D106: =IFERROR(LN(D88), "") -> 0.0063580868 | E106: =IFERROR(LN(E88), "") | F106: =IFERROR(LN(F88), "") | G106: =IFERROR(LN(G88), "") | H106: =IFERROR(LN(H88), "") | I106: =IFERROR(LN(I88), "") | J106: =IFERROR(LN(J88), "") | K106: =IFERROR(LN(K88), "") | ... P106: =IFERROR(LN(P88), "")
B107: Sample Mean μd | D107: =IFERROR(AVERAGE(D95:D106), 0) -> 0.017753943 | E107: =IFERROR(AVERAGE(E95:E106), 0) -> 0.0026982403 | F107: =IFERROR(AVERAGE(F95:F106), 0) -> 0.0026570297 | G107: =IFERROR(AVERAGE(G95:G106), 0) -> -0.00020332052 | H107: =IFERROR(AVERAGE(H95:H106), 0) -> -0.0015785227 | I107: =IFERROR(AVERAGE(I95:I106), 0) -> 0.00017076976 | J107: =IFERROR(AVERAGE(J95:J106), 0) -> 0.00023605128 | K107: =IFERROR(AVERAGE(K95:K106), 0) -> 9.0090164e-05 | ... P107: =IFERROR(AVERAGE(P95:P106), 0) -> 0
B108: Sample Variance σd2 | D108: =IFERROR(_xlfn.VAR.S(D95:D106), 0) -> 0.0010069746 | E108: =IFERROR(_xlfn.VAR.S(E95:E106), 0) -> 0.00045135301 | F108: =IFERROR(_xlfn.VAR.S(F95:F106), 0) -> 0.00016015712 | G108: =IFERROR(_xlfn.VAR.S(G95:G106), 0) -> 5.1604574e-05 | H108: =IFERROR(_xlfn.VAR.S(H95:H106), 0) -> 3.617967e-05 | I108: =IFERROR(_xlfn.VAR.S(I95:I106), 0) -> 6.6725769e-07 | J108: =IFERROR(_xlfn.VAR.S(J95:J106), 0) -> 1.8486742e-06 | K108: =IFERROR(_xlfn.VAR.S(K95:K106), 0) -> 1.2622303e-07 | ... P108: =IFERROR(_xlfn.VAR.S(P95:P106), 0) -> 0
...

Sheet Study1 Sieg
B1: Study 1 | I1: # Active AYs | J1: =COUNTIF(E8:E20, ">0") -> 13 | L1: # of AYs | M1: 13
B3: =$B$1 -> Study 1
B4: Siegenthaler Result Summary
B5: AY | C5: AY # | D5: Dev Age | E5: Diagonal Ult | F5: Paid | G5: Reserve | H5: ATA UDF | I5: ATU UDF | J5: Variance Parameter | K5: Total Run-off Process Error | L5: Total Run-off Parameter Error | M5: Total Run-off Total Error | N5: CV of Reserve | O5: 1-year Process Error | P5: 1-year Parameter Error | Q5: 1-year Total Error | R5: CV of Reserve
C6: y | D6: d | E6: Uy, Y-d+1 | F6: Cy, Y-d+1 | G6: Uy, Y-d+1-Cy, Y-d+1 | H6: gd | I6: Gd | J6: sd2
H7: Eq. (7.02) | I7: Eq. (3.04) | J7: Eq. (7.04) | K7: Eq. (7.05) | L7: Eq. (7.06) | O7: Eq. (7.07) | P7: Eq. (7.08)
B8: =B27 -> 2006 | C8: =C27 -> 1 | D8: =$M$1-C8+1 -> 13 | E8: =Q27 -> 223558 | F8: 223558 | G8: =+E8-F8 -> 0 | H8: =INDEX($D$57:$P$57, 0, $M$1+1-C8) -> 1 | I8: =INDEX($D$58:$P$58, 0, $M$1+1-C8) -> 1 | J8: =INDEX($D$76:$P$76, 0, $M$1+1-C8) -> 0 | K8: =Q81^0.5 -> 0 | L8: =ABS(E8*(I8-1)) -> 0 | M8: =SUMSQ(K8:L8)^0.5 -> 0 | N8: =IFERROR(M8/G8,"") | O8: =SQRT(J8*E8) -> 0 | P8: =ABS(E8*(H8-1)) -> 0 | Q8: =SUMSQ(O8:P8)^0.5 -> 0 | R8: =IFERROR(Q8/G8,"")
B9: =B28 -> 2007 | C9: =C28 -> 2 | D9: =$M$1-C9+1 -> 12 | E9: =Q28 -> 224036 | F9: 224036 | G9: =+E9-F9 -> 0 | H9: =INDEX($D$57:$P$57, 0, $M$1+1-C9) -> 1 | I9: =INDEX($D$58:$P$58, 0, $M$1+1-C9) -> 1 | J9: =INDEX($D$76:$P$76, 0, $M$1+1-C9) -> 0 | K9: =Q82^0.5 -> 0 | L9: =ABS(E9*(I9-1)) -> 0 | M9: =SUMSQ(K9:L9)^0.5 -> 0 | N9: =IFERROR(M9/G9,"") | O9: =SQRT(J9*E9) -> 0 | P9: =ABS(E9*(H9-1)) -> 0 | Q9: =SUMSQ(O9:P9)^0.5 -> 0 | R9: =IFERROR(Q9/G9,"")
B10: =B29 -> 2008 | C10: =C29 -> 3 | D10: =$M$1-C10+1 -> 11 | E10: =Q29 -> 223697 | F10: 223697 | G10: =+E10-F10 -> 0 | H10: =INDEX($D$57:$P$57, 0, $M$1+1-C10) -> 1 | I10: =INDEX($D$58:$P$58, 0, $M$1+1-C10) -> 1 | J10: =INDEX($D$76:$P$76, 0, $M$1+1-C10) -> 0 | K10: =Q83^0.5 -> 0 | L10: =ABS(E10*(I10-1)) -> 0 | M10: =SUMSQ(K10:L10)^0.5 -> 0 | N10: =IFERROR(M10/G10,"") | O10: =SQRT(J10*E10) -> 0 | P10: =ABS(E10*(H10-1)) -> 0 | Q10: =SUMSQ(O10:P10)^0.5 -> 0 | R10: =IFERROR(Q10/G10,"")
B11: =B30 -> 2009 | C11: =C30 -> 4 | D11: =$M$1-C11+1 -> 10 | E11: =Q30 -> 214445 | F11: 214459 | G11: =+E11-F11 -> -14 | H11: =INDEX($D$57:$P$57, 0, $M$1+1-C11) -> 1.0000387 | I11: =INDEX($D$58:$P$58, 0, $M$1+1-C11) -> 1.0000387 | J11: =INDEX($D$76:$P$76, 0, $M$1+1-C11) -> 0.0089771923 | K11: =Q84^0.5 -> 43.876121 | L11: =ABS(E11*(I11-1)) -> 8.3060639 | M11: =SUMSQ(K11:L11)^0.5 -> 44.6554 | N11: =IFERROR(M11/G11,"") -> -3.1896714 | O11: =SQRT(J11*E11) -> 43.876121 | P11: =ABS(E11*(H11-1)) -> 8.3060639 | Q11: =SUMSQ(O11:P11)^0.5 -> 44.6554 | R11: =IFERROR(Q11/G11,"") -> -3.1896714
B12: =B31 -> 2010 | C12: =C31 -> 5 | D12: =$M$1-C12+1 -> 9 | E12: =Q31 -> 221628 | F12: 221616 | G12: =+E12-F12 -> 12 | H12: =INDEX($D$57:$P$57, 0, $M$1+1-C12) -> 1.0001378 | I12: =INDEX($D$58:$P$58, 0, $M$1+1-C12) -> 1.0001765 | J12: =INDEX($D$76:$P$76, 0, $M$1+1-C12) -> 0.03618298 | K12: =Q85^0.5 -> 100.04826 | L12: =ABS(E12*(I12-1)) -> 39.117287 | M12: =SUMSQ(K12:L12)^0.5 -> 107.42354 | N12: =IFERROR(M12/G12,"") -> 8.9519613 | O12: =SQRT(J12*E12) -> 89.549771 | P12: =ABS(E12*(H12-1)) -> 30.531823 | Q12: =SUMSQ(O12:P12)^0.5 -> 94.611593 | R12: =IFERROR(Q12/G12,"") -> 7.8842995
B13: =B32 -> 2011 | C13: =C32 -> 6 | D13: =$M$1-C13+1 -> 8 | E13: =Q32 -> 294673 | F13: 294705 | G13: =+E13-F13 -> -32 | H13: =INDEX($D$57:$P$57, 0, $M$1+1-C13) -> 1.0000876 | I13: =INDEX($D$58:$P$58, 0, $M$1+1-C13) -> 1.0002641 | J13: =INDEX($D$76:$P$76, 0, $M$1+1-C13) -> 0.028077298 | K13: =Q86^0.5 -> 146.92305 | L13: =ABS(E13*(I13-1)) -> 77.831982 | M13: =SUMSQ(K13:L13)^0.5 -> 166.26545 | N13: =IFERROR(M13/G13,"") -> -5.1957953 | O13: =SQRT(J13*E13) -> 90.95945 | P13: =ABS(E13*(H13-1)) -> 25.817713 | Q13: =SUMSQ(O13:P13)^0.5 -> 94.552503 | R13: =IFERROR(Q13/G13,"") -> -2.9547657
B14: =B33 -> 2012 | C14: =C33 -> 7 | D14: =$M$1-C14+1 -> 7 | E14: =Q33 -> 269763 | F14: 269720 | G14: =+E14-F14 -> 43 | H14: =INDEX($D$57:$P$57, 0, $M$1+1-C14) -> 1.0002141 | I14: =INDEX($D$58:$P$58, 0, $M$1+1-C14) -> 1.0004782 | J14: =INDEX($D$76:$P$76, 0, $M$1+1-C14) -> 0.41234694 | K14: =Q87^0.5 -> 362.02284 | L14: =ABS(E14*(I14-1)) -> 129.01257 | M14: =SUMSQ(K14:L14)^0.5 -> 384.3238 | N14: =IFERROR(M14/G14,"") -> 8.9377628 | O14: =SQRT(J14*E14) -> 333.52054 | P14: =ABS(E14*(H14-1)) -> 57.744818 | Q14: =SUMSQ(O14:P14)^0.5 -> 338.48251 | R14: =IFERROR(Q14/G14,"") -> 7.8716864
B15: =B34 -> 2013 | C15: =C34 -> 8 | D15: =$M$1-C15+1 -> 6 | E15: =Q34 -> 271810 | F15: 271688 | G15: =+E15-F15 -> 122 | H15: =INDEX($D$57:$P$57, 0, $M$1+1-C15) -> 1.0001975 | I15: =INDEX($D$58:$P$58, 0, $M$1+1-C15) -> 1.0006758 | J15: =INDEX($D$76:$P$76, 0, $M$1+1-C15) -> 0.15548945 | K15: =Q88^0.5 -> 417.59448 | L15: =ABS(E15*(I15-1)) -> 183.69844 | M15: =SUMSQ(K15:L15)^0.5 -> 456.21296 | N15: =IFERROR(M15/G15,"") -> 3.7394505 | O15: =SQRT(J15*E15) -> 205.5811 | P15: =ABS(E15*(H15-1)) -> 53.681224 | Q15: =SUMSQ(O15:P15)^0.5 -> 212.47414 | R15: =IFERROR(Q15/G15,"") -> 1.7415913
B16: =B35 -> 2014 | C16: =C35 -> 9 | D16: =$M$1-C16+1 -> 5 | E16: =Q35 -> 247245 | F16: 245940 | G16: =+E16-F16 -> 1305 | H16: =INDEX($D$57:$P$57, 0, $M$1+1-C16) -> 0.99839043 | I16: =INDEX($D$58:$P$58, 0, $M$1+1-C16) -> 0.99906518 | J16: =INDEX($D$76:$P$76, 0, $M$1+1-C16) -> 8.3173095 | K16: =Q89^0.5 -> 1489.1485 | L16: =ABS(E16*(I16-1)) -> 231.12935 | M16: =SUMSQ(K16:L16)^0.5 -> 1506.9785 | N16: =IFERROR(M16/G16,"") -> 1.1547728 | O16: =SQRT(J16*E16) -> 1434.0199 | P16: =ABS(E16*(H16-1)) -> 397.95697 | Q16: =SUMSQ(O16:P16)^0.5 -> 1488.2147 | R16: =IFERROR(Q16/G16,"") -> 1.1403944
B17: =B36 -> 2015 | C17: =C36 -> 10 | D17: =$M$1-C17+1 -> 4 | E17: =Q36 -> 267747 | F17: 264755 | G17: =+E17-F17 -> 2992 | H17: =INDEX($D$57:$P$57, 0, $M$1+1-C17) -> 0.9996308 | I17: =INDEX($D$58:$P$58, 0, $M$1+1-C17) -> 0.99869632 | J17: =INDEX($D$76:$P$76, 0, $M$1+1-C17) -> 11.804039 | K17: =Q90^0.5 -> 2356.9367 | L17: =ABS(E17*(I17-1)) -> 349.05528 | M17: =SUMSQ(K17:L17)^0.5 -> 2382.6436 | N17: =IFERROR(M17/G17,"") -> 0.79633809 | O17: =SQRT(J17*E17) -> 1777.7784 | P17: =ABS(E17*(H17-1)) -> 98.85268 | Q17: =SUMSQ(O17:P17)^0.5 -> 1780.5246 | R17: =IFERROR(Q17/G17,"") -> 0.59509511
B18: =B37 -> 2016 | C18: =C37 -> 11 | D18: =$M$1-C18+1 -> 3 | E18: =Q37 -> 245398 | F18: 239800 | G18: =+E18-F18 -> 5598 | H18: =INDEX($D$57:$P$57, 0, $M$1+1-C18) -> 1.0023817 | I18: =INDEX($D$58:$P$58, 0, $M$1+1-C18) -> 1.0010749 | J18: =INDEX($D$76:$P$76, 0, $M$1+1-C18) -> 37.851235 | K18: =Q91^0.5 -> 3790.5144 | L18: =ABS(E18*(I18-1)) -> 263.78039 | M18: =SUMSQ(K18:L18)^0.5 -> 3799.6815 | N18: =IFERROR(M18/G18,"") -> 0.67875697 | O18: =SQRT(J18*E18) -> 3047.7233 | P18: =ABS(E18*(H18-1)) -> 584.46177 | Q18: =SUMSQ(O18:P18)^0.5 -> 3103.2584 | R18: =IFERROR(Q18/G18,"") -> 0.55435127
B19: =B38 -> 2017 | C19: =C38 -> 12 | D19: =$M$1-C19+1 -> 2 | E19: =Q38 -> 259549 | F19: 246019 | G19: =+E19-F19 -> 13530 | H19: =INDEX($D$57:$P$57, 0, $M$1+1-C19) -> 1.0029674 | I19: =INDEX($D$58:$P$58, 0, $M$1+1-C19) -> 1.0040455 | J19: =INDEX($D$76:$P$76, 0, $M$1+1-C19) -> 118.61339 | K19: =Q92^0.5 -> 6789.2443 | L19: =ABS(E19*(I19-1)) -> 1050.0167 | M19: =SUMSQ(K19:L19)^0.5 -> 6869.9616 | N19: =IFERROR(M19/G19,"") -> 0.5077577 | O19: =SQRT(J19*E19) -> 5548.512 | P19: =ABS(E19*(H19-1)) -> 770.19738 | Q19: =SUMSQ(O19:P19)^0.5 -> 5601.7131 | R19: =IFERROR(Q19/G19,"") -> 0.41402166
B20: =B39 -> 2018 | C20: =C39 -> 13 | D20: =$M$1-C20+1 -> 1 | E20: =Q39 -> 262936 | F20: 173377 | G20: =+E20-F20 -> 89559 | H20: =INDEX($D$57:$P$57, 0, $M$1+1-C20) -> 1.0187751 | I20: =INDEX($D$58:$P$58, 0, $M$1+1-C20) -> 1.0228966 | J20: =INDEX($D$76:$P$76, 0, $M$1+1-C20) -> 241.44831 | K20: =Q93^0.5 -> 10562.775 | L20: =ABS(E20*(I20-1)) -> 6020.3436 | M20: =SUMSQ(K20:L20)^0.5 -> 12157.991 | N20: =IFERROR(M20/G20,"") -> 0.13575398 | O20: =SQRT(J20*E20) -> 7967.7758 | P20: =ABS(E20*(H20-1)) -> 4936.6532 | Q20: =SUMSQ(O20:P20)^0.5 -> 9373.153 | R20: =IFERROR(Q20/G20,"") -> 0.10465897
B22: Total All AYs | E22: =SUM(E8:E20) -> 3226485 | F22: =SUM(F8:F20) -> 3113370 | G22: =SUM(G8:G20) -> 113115 | K22: =SUMSQ(K8:K20)^0.5 -> 13421.838 | L22: {=SQRT(MMULT(TRANSPOSE($I$8:$I$20-1), MMULT($E$8:$E$20, MMULT( TRANSPOSE($E$8:$E$20), ($I$8:$I$20-1)))))} -> 7191.9224 | M22: =(K22^2+L22^2)^0.5 -> 15227.261 | N22: =IF(ISERROR(M22/G22),"",M22/G22) -> 0.13461752 | O22: =SUMSQ(O8:O20)^0.5 -> 10437.848 | P22: {=SQRT(MMULT(TRANSPOSE($H$8:$H$20-1), MMULT($E$8:$E$20, MMULT( TRANSPOSE($E$8:$E$20), ($H$8:$H$20-1)))))} -> 5970.5843 | Q22: =(O22^2+P22^2)^0.5 -> 12024.831 | R22: =IF(ISERROR(Q22/G22),"",Q22/G22) -> 0.10630625
B24: =$B$1 -> Study 1
B25: Siegenthaler Triangle of Ultimate Losses Uy,d
A26: Include? | B26: AY | C26: AY # | D26: 1 | E26: =D26+1 -> 2 | F26: =E26+1 -> 3 | G26: =F26+1 -> 4 | H26: =G26+1 -> 5 | I26: =H26+1 -> 6 | J26: =I26+1 -> 7 | K26: =J26+1 -> 8 | L26: =K26+1 -> 9 | ... P26: =O26+1 -> 13 | Q26: Diagonal
A27: 1 | B27: =B28-1 -> 2006 | C27: 1 | D27: 233927 | E27: 225734 | F27: 224101 | G27: 223193 | H27: 222383 | I27: 223724 | J27: 223743 | K27: 223765 | L27: 223669 | M27: 223601 | N27: 223558 | O27: 223558 | P27: 223558 | Q27: =OFFSET($Q$26,$C27,-$C27) -> 223558
A28: 1 | B28: =B29-1 -> 2007 | C28: =C27+1 -> 2 | D28: 230176 | E28: 224714 | F28: 222707 | G28: 221871 | H28: 225215 | I28: 223977 | J28: 224027 | K28: 223933 | L28: 223907 | M28: 224004 | N28: 224036 | O28: 224036 | Q28: =OFFSET($Q$26,$C28,-$C28) -> 224036
A29: 1 | B29: =B30-1 -> 2008 | C29: =C28+1 -> 3 | D29: 225361 | E29: 219714 | F29: 217321 | G29: 223774 | H29: 225325 | I29: 223809 | J29: 223680 | K29: 223450 | L29: 223544 | M29: 223660 | N29: 223697 | Q29: =OFFSET($Q$26,$C29,-$C29) -> 223697
A30: 1 | B30: =B31-1 -> 2009 | C30: =C29+1 -> 4 | D30: 211284 | E30: 215963 | F30: 218664 | G30: 217849 | H30: 215981 | I30: 214561 | J30: 214391 | K30: 214395 | L30: 214468 | M30: 214445 | Q30: =OFFSET($Q$26,$C30,-$C30) -> 214445
A31: 1 | B31: =B32-1 -> 2010 | C31: =C30+1 -> 5 | D31: 212024 | E31: 221439 | F31: 220313 | G31: 218938 | H31: 218873 | I31: 220610 | J31: 220938 | K31: 221576 | L31: 221628 | Q31: =OFFSET($Q$26,$C31,-$C31) -> 221628
A32: 1 | B32: =B33-1 -> 2011 | C32: =C31+1 -> 6 | D32: 289863 | E32: 298147 | F32: 295716 | G32: 293527 | H32: 293758 | I32: 294427 | J32: 294713 | K32: 294673 | Q32: =OFFSET($Q$26,$C32,-$C32) -> 294673
A33: 1 | B33: =B34-1 -> 2012 | C33: =C32+1 -> 7 | D33: 268568 | E33: 273222 | F33: 272219 | G33: 272657 | H33: 271057 | I33: 269817 | J33: 269763 | Q33: =OFFSET($Q$26,$C33,-$C33) -> 269763
A34: 1 | B34: =B35-1 -> 2013 | C34: =C33+1 -> 8 | D34: 261945 | E34: 275360 | F34: 274935 | G34: 274262 | H34: 273275 | I34: 271810 | Q34: =OFFSET($Q$26,$C34,-$C34) -> 271810
A35: 1 | B35: =B36-1 -> 2014 | C35: =C34+1 -> 9 | D35: 232400 | E35: 241510 | F35: 242330 | G35: 247851 | H35: 247245 | Q35: =OFFSET($Q$26,$C35,-$C35) -> 247245
A36: 1 | B36: =B37-1 -> 2015 | C36: =C35+1 -> 10 | D36: 235521 | E36: 251022 | F36: 267514 | G36: 267747 | Q36: =OFFSET($Q$26,$C36,-$C36) -> 267747
A37: 1 | B37: =B38-1 -> 2016 | C37: =C36+1 -> 11 | D37: 239385 | E37: 246401 | F37: 245398 | Q37: =OFFSET($Q$26,$C37,-$C37) -> 245398
A38: 1 | B38: =B39-1 -> 2017 | C38: =C37+1 -> 12 | D38: 257904 | E38: 259549 | Q38: =OFFSET($Q$26,$C38,-$C38) -> 259549
A39: 1 | B39: 2018 | C39: =C38+1 -> 13 | D39: 262936 | Q39: =OFFSET($Q$26,$C39,-$C39) -> 262936
B40: Total | Q40: =SUM(Q27:Q39) -> 3226485
B42: =$B$1 -> Study 1
B43: Siegenthaler Triangle of Ultimate Development Factors (UDF) gy,d
B44: AY | C44: AY # | D44: =D26&" - "&E26 -> 1 - 2 | E44: =E26&" - "&F26 -> 2 - 3 | F44: =F26&" - "&G26 -> 3 - 4 | G44: =G26&" - "&H26 -> 4 - 5 | H44: =H26&" - "&I26 -> 5 - 6 | I44: =I26&" - "&J26 -> 6 - 7 | J44: =J26&" - "&K26 -> 7 - 8 | K44: =K26&" - "&L26 -> 8 - 9 | ... O44: =O26&" - "&P26 -> 12 - 13 | P44: =P26&" - Ult" -> 13 - Ult
B45: =B46-1 -> 2006 | C45: 1 | D45: =IF(ISERROR(E27/D27),"",IF(E27/D27=0,"",E27/D27)) -> 0.96497625 | E45: =IF(ISERROR(F27/E27),"",IF(F27/E27=0,"",F27/E27)) -> 0.99276582 | F45: =IF(ISERROR(G27/F27),"",IF(G27/F27=0,"",G27/F27)) -> 0.99594826 | G45: =IF(ISERROR(H27/G27),"",IF(H27/G27=0,"",H27/G27)) -> 0.99637085 | H45: =IF(ISERROR(I27/H27),"",IF(I27/H27=0,"",I27/H27)) -> 1.0060301 | I45: =IF(ISERROR(J27/I27),"",IF(J27/I27=0,"",J27/I27)) -> 1.0000849 | J45: =IF(ISERROR(K27/J27),"",IF(K27/J27=0,"",K27/J27)) -> 1.0000983 | K45: =IF(ISERROR(L27/K27),"",IF(L27/K27=0,"",L27/K27)) -> 0.99957098 | ... O45: =IF(ISERROR(P27/O27),"",IF(P27/O27=0,"",P27/O27)) -> 1 | P45: =IF(ISERROR(#REF!/P27),"",IF(#REF!/P27=0,"",#REF!/P27))
B46: =B47-1 -> 2007 | C46: =C45+1 -> 2 | D46: =IF(ISERROR(E28/D28),"",IF(E28/D28=0,"",E28/D28)) -> 0.97627033 | E46: =IF(ISERROR(F28/E28),"",IF(F28/E28=0,"",F28/E28)) -> 0.99106865 | F46: =IF(ISERROR(G28/F28),"",IF(G28/F28=0,"",G28/F28)) -> 0.99624619 | G46: =IF(ISERROR(H28/G28),"",IF(H28/G28=0,"",H28/G28)) -> 1.0150718 | H46: =IF(ISERROR(I28/H28),"",IF(I28/H28=0,"",I28/H28)) -> 0.99450303 | I46: =IF(ISERROR(J28/I28),"",IF(J28/I28=0,"",J28/I28)) -> 1.0002232 | J46: =IF(ISERROR(K28/J28),"",IF(K28/J28=0,"",K28/J28)) -> 0.99958041 | K46: =IF(ISERROR(L28/K28),"",IF(L28/K28=0,"",L28/K28)) -> 0.99988389 | ... O46: =IF(ISERROR(P28/O28),"",IF(P28/O28=0,"",P28/O28)) | P46: =IF(ISERROR(#REF!/P28),"",IF(#REF!/P28=0,"",#REF!/P28))
B47: =B48-1 -> 2008 | C47: =C46+1 -> 3 | D47: =IF(ISERROR(E29/D29),"",IF(E29/D29=0,"",E29/D29)) -> 0.97494243 | E47: =IF(ISERROR(F29/E29),"",IF(F29/E29=0,"",F29/E29)) -> 0.98910857 | F47: =IF(ISERROR(G29/F29),"",IF(G29/F29=0,"",G29/F29)) -> 1.0296934 | G47: =IF(ISERROR(H29/G29),"",IF(H29/G29=0,"",H29/G29)) -> 1.0069311 | H47: =IF(ISERROR(I29/H29),"",IF(I29/H29=0,"",I29/H29)) -> 0.99327194 | I47: =IF(ISERROR(J29/I29),"",IF(J29/I29=0,"",J29/I29)) -> 0.99942362 | J47: =IF(ISERROR(K29/J29),"",IF(K29/J29=0,"",K29/J29)) -> 0.99897175 | K47: =IF(ISERROR(L29/K29),"",IF(L29/K29=0,"",L29/K29)) -> 1.0004207 | ... O47: =IF(ISERROR(P29/O29),"",IF(P29/O29=0,"",P29/O29)) | P47: =IF(ISERROR(#REF!/P29),"",IF(#REF!/P29=0,"",#REF!/P29))
B48: =B49-1 -> 2009 | C48: =C47+1 -> 4 | D48: =IF(ISERROR(E30/D30),"",IF(E30/D30=0,"",E30/D30)) -> 1.0221455 | E48: =IF(ISERROR(F30/E30),"",IF(F30/E30=0,"",F30/E30)) -> 1.0125068 | F48: =IF(ISERROR(G30/F30),"",IF(G30/F30=0,"",G30/F30)) -> 0.99627282 | G48: =IF(ISERROR(H30/G30),"",IF(H30/G30=0,"",H30/G30)) -> 0.99142525 | H48: =IF(ISERROR(I30/H30),"",IF(I30/H30=0,"",I30/H30)) -> 0.99342535 | I48: =IF(ISERROR(J30/I30),"",IF(J30/I30=0,"",J30/I30)) -> 0.99920768 | J48: =IF(ISERROR(K30/J30),"",IF(K30/J30=0,"",K30/J30)) -> 1.0000187 | K48: =IF(ISERROR(L30/K30),"",IF(L30/K30=0,"",L30/K30)) -> 1.0003405 | ... O48: =IF(ISERROR(P30/O30),"",IF(P30/O30=0,"",P30/O30)) | P48: =IF(ISERROR(#REF!/P30),"",IF(#REF!/P30=0,"",#REF!/P30))
B49: =B50-1 -> 2010 | C49: =C48+1 -> 5 | D49: =IF(ISERROR(E31/D31),"",IF(E31/D31=0,"",E31/D31)) -> 1.0444054 | E49: =IF(ISERROR(F31/E31),"",IF(F31/E31=0,"",F31/E31)) -> 0.99491508 | F49: =IF(ISERROR(G31/F31),"",IF(G31/F31=0,"",G31/F31)) -> 0.99375888 | G49: =IF(ISERROR(H31/G31),"",IF(H31/G31=0,"",H31/G31)) -> 0.99970311 | H49: =IF(ISERROR(I31/H31),"",IF(I31/H31=0,"",I31/H31)) -> 1.0079361 | I49: =IF(ISERROR(J31/I31),"",IF(J31/I31=0,"",J31/I31)) -> 1.0014868 | J49: =IF(ISERROR(K31/J31),"",IF(K31/J31=0,"",K31/J31)) -> 1.0028877 | K49: =IF(ISERROR(L31/K31),"",IF(L31/K31=0,"",L31/K31)) -> 1.0002347 | ... O49: =IF(ISERROR(P31/O31),"",IF(P31/O31=0,"",P31/O31)) | P49: =IF(ISERROR(#REF!/P31),"",IF(#REF!/P31=0,"",#REF!/P31))
B50: =B51-1 -> 2011 | C50: =C49+1 -> 6 | D50: =IF(ISERROR(E32/D32),"",IF(E32/D32=0,"",E32/D32)) -> 1.028579 | E50: =IF(ISERROR(F32/E32),"",IF(F32/E32=0,"",F32/E32)) -> 0.9918463 | F50: =IF(ISERROR(G32/F32),"",IF(G32/F32=0,"",G32/F32)) -> 0.99259763 | G50: =IF(ISERROR(H32/G32),"",IF(H32/G32=0,"",H32/G32)) -> 1.000787 | H50: =IF(ISERROR(I32/H32),"",IF(I32/H32=0,"",I32/H32)) -> 1.0022774 | I50: =IF(ISERROR(J32/I32),"",IF(J32/I32=0,"",J32/I32)) -> 1.0009714 | J50: =IF(ISERROR(K32/J32),"",IF(K32/J32=0,"",K32/J32)) -> 0.99986427 | K50: =IF(ISERROR(L32/K32),"",IF(L32/K32=0,"",L32/K32)) | ... O50: =IF(ISERROR(P32/O32),"",IF(P32/O32=0,"",P32/O32)) | P50: =IF(ISERROR(#REF!/P32),"",IF(#REF!/P32=0,"",#REF!/P32))
B51: =B52-1 -> 2012 | C51: =C50+1 -> 7 | D51: =IF(ISERROR(E33/D33),"",IF(E33/D33=0,"",E33/D33)) -> 1.0173289 | E51: =IF(ISERROR(F33/E33),"",IF(F33/E33=0,"",F33/E33)) -> 0.99632899 | F51: =IF(ISERROR(G33/F33),"",IF(G33/F33=0,"",G33/F33)) -> 1.001609 | G51: =IF(ISERROR(H33/G33),"",IF(H33/G33=0,"",H33/G33)) -> 0.99413182 | H51: =IF(ISERROR(I33/H33),"",IF(I33/H33=0,"",I33/H33)) -> 0.99542532 | I51: =IF(ISERROR(J33/I33),"",IF(J33/I33=0,"",J33/I33)) -> 0.99979986 | J51: =IF(ISERROR(K33/J33),"",IF(K33/J33=0,"",K33/J33)) | K51: =IF(ISERROR(L33/K33),"",IF(L33/K33=0,"",L33/K33)) | ... O51: =IF(ISERROR(P33/O33),"",IF(P33/O33=0,"",P33/O33)) | P51: =IF(ISERROR(#REF!/P33),"",IF(#REF!/P33=0,"",#REF!/P33))
B52: =B53-1 -> 2013 | C52: =C51+1 -> 8 | D52: =IF(ISERROR(E34/D34),"",IF(E34/D34=0,"",E34/D34)) -> 1.051213 | E52: =IF(ISERROR(F34/E34),"",IF(F34/E34=0,"",F34/E34)) -> 0.99845657 | F52: =IF(ISERROR(G34/F34),"",IF(G34/F34=0,"",G34/F34)) -> 0.99755215 | G52: =IF(ISERROR(H34/G34),"",IF(H34/G34=0,"",H34/G34)) -> 0.99640125 | H52: =IF(ISERROR(I34/H34),"",IF(I34/H34=0,"",I34/H34)) -> 0.9946391 | I52: =IF(ISERROR(J34/I34),"",IF(J34/I34=0,"",J34/I34)) | J52: =IF(ISERROR(K34/J34),"",IF(K34/J34=0,"",K34/J34)) | K52: =IF(ISERROR(L34/K34),"",IF(L34/K34=0,"",L34/K34)) | ... O52: =IF(ISERROR(P34/O34),"",IF(P34/O34=0,"",P34/O34)) | P52: =IF(ISERROR(#REF!/P34),"",IF(#REF!/P34=0,"",#REF!/P34))
B53: =B54-1 -> 2014 | C53: =C52+1 -> 9 | D53: =IF(ISERROR(E35/D35),"",IF(E35/D35=0,"",E35/D35)) -> 1.0391997 | E53: =IF(ISERROR(F35/E35),"",IF(F35/E35=0,"",F35/E35)) -> 1.0033953 | F53: =IF(ISERROR(G35/F35),"",IF(G35/F35=0,"",G35/F35)) -> 1.022783 | G53: =IF(ISERROR(H35/G35),"",IF(H35/G35=0,"",H35/G35)) -> 0.99755498 | H53: =IF(ISERROR(I35/H35),"",IF(I35/H35=0,"",I35/H35)) | I53: =IF(ISERROR(J35/I35),"",IF(J35/I35=0,"",J35/I35)) | J53: =IF(ISERROR(K35/J35),"",IF(K35/J35=0,"",K35/J35)) | K53: =IF(ISERROR(L35/K35),"",IF(L35/K35=0,"",L35/K35)) | ... O53: =IF(ISERROR(P35/O35),"",IF(P35/O35=0,"",P35/O35)) | P53: =IF(ISERROR(#REF!/P35),"",IF(#REF!/P35=0,"",#REF!/P35))
B54: =B55-1 -> 2015 | C54: =C53+1 -> 10 | D54: =IF(ISERROR(E36/D36),"",IF(E36/D36=0,"",E36/D36)) -> 1.0658158 | E54: =IF(ISERROR(F36/E36),"",IF(F36/E36=0,"",F36/E36)) -> 1.0656994 | F54: =IF(ISERROR(G36/F36),"",IF(G36/F36=0,"",G36/F36)) -> 1.000871 | G54: =IF(ISERROR(H36/G36),"",IF(H36/G36=0,"",H36/G36)) | H54: =IF(ISERROR(I36/H36),"",IF(I36/H36=0,"",I36/H36)) | I54: =IF(ISERROR(J36/I36),"",IF(J36/I36=0,"",J36/I36)) | J54: =IF(ISERROR(K36/J36),"",IF(K36/J36=0,"",K36/J36)) | K54: =IF(ISERROR(L36/K36),"",IF(L36/K36=0,"",L36/K36)) | ... O54: =IF(ISERROR(P36/O36),"",IF(P36/O36=0,"",P36/O36)) | P54: =IF(ISERROR(#REF!/P36),"",IF(#REF!/P36=0,"",#REF!/P36))
B55: =B56-1 -> 2016 | C55: =C54+1 -> 11 | D55: =IF(ISERROR(E37/D37),"",IF(E37/D37=0,"",E37/D37)) -> 1.0293084 | E55: =IF(ISERROR(F37/E37),"",IF(F37/E37=0,"",F37/E37)) -> 0.9959294 | F55: =IF(ISERROR(G37/F37),"",IF(G37/F37=0,"",G37/F37)) | G55: =IF(ISERROR(H37/G37),"",IF(H37/G37=0,"",H37/G37)) | H55: =IF(ISERROR(I37/H37),"",IF(I37/H37=0,"",I37/H37)) | I55: =IF(ISERROR(J37/I37),"",IF(J37/I37=0,"",J37/I37)) | J55: =IF(ISERROR(K37/J37),"",IF(K37/J37=0,"",K37/J37)) | K55: =IF(ISERROR(L37/K37),"",IF(L37/K37=0,"",L37/K37)) | ... O55: =IF(ISERROR(P37/O37),"",IF(P37/O37=0,"",P37/O37)) | P55: =IF(ISERROR(#REF!/P37),"",IF(#REF!/P37=0,"",#REF!/P37))
B56: =B39-1 -> 2017 | C56: =C55+1 -> 12 | D56: =IF(ISERROR(E38/D38),"",IF(E38/D38=0,"",E38/D38)) -> 1.0063783 | E56: =IF(ISERROR(F38/E38),"",IF(F38/E38=0,"",F38/E38)) | F56: =IF(ISERROR(G38/F38),"",IF(G38/F38=0,"",G38/F38)) | G56: =IF(ISERROR(H38/G38),"",IF(H38/G38=0,"",H38/G38)) | H56: =IF(ISERROR(I38/H38),"",IF(I38/H38=0,"",I38/H38)) | I56: =IF(ISERROR(J38/I38),"",IF(J38/I38=0,"",J38/I38)) | J56: =IF(ISERROR(K38/J38),"",IF(K38/J38=0,"",K38/J38)) | K56: =IF(ISERROR(L38/K38),"",IF(L38/K38=0,"",L38/K38)) | ... O56: =IF(ISERROR(P38/O38),"",IF(P38/O38=0,"",P38/O38)) | P56: =IF(ISERROR(#REF!/P38),"",IF(#REF!/P38=0,"",#REF!/P38))
B57: Wtd Avg ATA gd | D57: =IFERROR(SUMPRODUCT($A$27:$A$39, E$27:E$39, --($C$27:$C$39<$M$1+1-D$26))/SUMPRODUCT($A$27:$A$39, D$27:D$39, --($C$27:$C$39<$M$1+1-D$26)), 1) -> 1.0187751 | E57: =IFERROR(SUMPRODUCT($A$27:$A$39, F$27:F$39, --($C$27:$C$39<$M$1+1-E$26))/SUMPRODUCT($A$27:$A$39, E$27:E$39, --($C$27:$C$39<$M$1+1-E$26)), 1) -> 1.0029674 | F57: =IFERROR(SUMPRODUCT($A$27:$A$39, G$27:G$39, --($C$27:$C$39<$M$1+1-F$26))/SUMPRODUCT($A$27:$A$39, F$27:F$39, --($C$27:$C$39<$M$1+1-F$26)), 1) -> 1.0023817 | G57: =IFERROR(SUMPRODUCT($A$27:$A$39, H$27:H$39, --($C$27:$C$39<$M$1+1-G$26))/SUMPRODUCT($A$27:$A$39, G$27:G$39, --($C$27:$C$39<$M$1+1-G$26)), 1) -> 0.9996308 | H57: =IFERROR(SUMPRODUCT($A$27:$A$39, I$27:I$39, --($C$27:$C$39<$M$1+1-H$26))/SUMPRODUCT($A$27:$A$39, H$27:H$39, --($C$27:$C$39<$M$1+1-H$26)), 1) -> 0.99839043 | I57: =IFERROR(SUMPRODUCT($A$27:$A$39, J$27:J$39, --($C$27:$C$39<$M$1+1-I$26))/SUMPRODUCT($A$27:$A$39, I$27:I$39, --($C$27:$C$39<$M$1+1-I$26)), 1) -> 1.0001975 | J57: =IFERROR(SUMPRODUCT($A$27:$A$39, K$27:K$39, --($C$27:$C$39<$M$1+1-J$26))/SUMPRODUCT($A$27:$A$39, J$27:J$39, --($C$27:$C$39<$M$1+1-J$26)), 1) -> 1.0002141 | K57: =IFERROR(SUMPRODUCT($A$27:$A$39, L$27:L$39, --($C$27:$C$39<$M$1+1-K$26))/SUMPRODUCT($A$27:$A$39, K$27:K$39, --($C$27:$C$39<$M$1+1-K$26)), 1) -> 1.0000876 | ... O57: =IFERROR(SUMPRODUCT($A$27:$A$39, P$27:P$39, --($C$27:$C$39<$M$1+1-O$26))/SUMPRODUCT($A$27:$A$39, O$27:O$39, --($C$27:$C$39<$M$1+1-O$26)), 1) -> 1 | P57: 1
B58: ATU Gd | D58: =D57*E58 -> 1.0228966 | E58: =E57*F58 -> 1.0040455 | F58: =F57*G58 -> 1.0010749 | G58: =G57*H58 -> 0.99869632 | H58: =H57*I58 -> 0.99906518 | I58: =I57*J58 -> 1.0006758 | J58: =J57*K58 -> 1.0004782 | K58: =K57*L58 -> 1.0002641 | ... O58: =O57*P58 -> 1 | P58: =P57 -> 1
B60: =$B$1 -> Study 1
B61: Siegenthaler Variance Parameter sd2
B62: AY | C62: AY # | D62: =D44 -> 1 - 2 | E62: =E44 -> 2 - 3 | F62: =F44 -> 3 - 4 | G62: =G44 -> 4 - 5 | H62: =H44 -> 5 - 6 | I62: =I44 -> 6 - 7 | J62: =J44 -> 7 - 8 | K62: =K44 -> 8 - 9 | ... P62: =P44 -> 13 - Ult
B63: =B64-1 -> 2006 | C63: 1 | D63: =IFERROR(D27*(D45-D$57)^2*$A27,"") -> 677.05897 | E63: =IFERROR(E27*(E45-E$57)^2*$A27,"") -> 23.492841 | F63: =IFERROR(F27*(F45-F$57)^2*$A27,"") -> 9.2753319 | G63: =IFERROR(G27*(G45-G$57)^2*$A27,"") -> 2.3719248 | H63: =IFERROR(H27*(H45-H$57)^2*$A27,"") -> 12.979396 | I63: =IFERROR(I27*(I45-I$57)^2*$A27,"") -> 0.0028349979 | J63: =IFERROR(J27*(J45-J$57)^2*$A27,"") -> 0.0029967123 | K63: =IFERROR(K27*(K45-K$57)^2*$A27,"") -> 0.059725804 | ... P63: =IFERROR(P27*(P45-P$57)^2*$A27,"")
B64: =B65-1 -> 2007 | C64: =C63+1 -> 2 | D64: =IFERROR(D28*(D46-D$57)^2*$A28,"") -> 415.84895 | E64: =IFERROR(E28*(E46-E$57)^2*$A28,"") -> 31.81532 | F64: =IFERROR(F28*(F46-F$57)^2*$A28,"") -> 8.3836633 | G64: =IFERROR(G28*(G46-G$57)^2*$A28,"") -> 52.899634 | H64: =IFERROR(H28*(H46-H$57)^2*$A28,"") -> 3.4034292 | I64: =IFERROR(I28*(I46-I$57)^2*$A28,"") -> 0.00014841627 | J64: =IFERROR(J28*(J46-J$57)^2*$A28,"") -> 0.089949565 | K64: =IFERROR(K28*(K46-K$57)^2*$A28,"") -> 0.0092937177 | ... P64: =IFERROR(P28*(P46-P$57)^2*$A28,"")
B65: =B66-1 -> 2008 | C65: =C64+1 -> 3 | D65: =IFERROR(D29*(D47-D$57)^2*$A29,"") -> 432.9871 | E65: =IFERROR(E29*(E47-E$57)^2*$A29,"") -> 42.20013 | F65: =IFERROR(F29*(F47-F$57)^2*$A29,"") -> 162.10619 | G65: =IFERROR(G29*(G47-G$57)^2*$A29,"") -> 11.925903 | H65: =IFERROR(H29*(H47-H$57)^2*$A29,"") -> 5.9032857 | I65: =IFERROR(I29*(I47-I$57)^2*$A29,"") -> 0.13403693 | J65: =IFERROR(J29*(J47-J$57)^2*$A29,"") -> 0.34521422 | K65: =IFERROR(K29*(K47-K$57)^2*$A29,"") -> 0.024787222 | ... P65: =IFERROR(P29*(P47-P$57)^2*$A29,"")
B66: =B67-1 -> 2009 | C66: =C65+1 -> 4 | D66: =IFERROR(D30*(D48-D$57)^2*$A30,"") -> 2.4001505 | E66: =IFERROR(E30*(E48-E$57)^2*$A30,"") -> 19.652365 | F66: =IFERROR(F30*(F48-F$57)^2*$A30,"") -> 8.160164 | G66: =IFERROR(G30*(G48-G$57)^2*$A30,"") -> 14.667984 | H66: =IFERROR(H30*(H48-H$57)^2*$A30,"") -> 5.324383 | I66: =IFERROR(I30*(I48-I$57)^2*$A30,"") -> 0.2102109 | J66: =IFERROR(J30*(J48-J$57)^2*$A30,"") -> 0.0081857047 | K66: =IFERROR(K30*(K48-K$57)^2*$A30,"") -> 0.013710002 | ... P66: =IFERROR(P30*(P48-P$57)^2*$A30,"")
B67: =B68-1 -> 2010 | C67: =C66+1 -> 5 | D67: =IFERROR(D31*(D49-D$57)^2*$A31,"") -> 139.28048 | E67: =IFERROR(E31*(E49-E$57)^2*$A31,"") -> 14.35824 | F67: =IFERROR(F31*(F49-F$57)^2*$A31,"") -> 16.380899 | G67: =IFERROR(G31*(G49-G$57)^2*$A31,"") -> 0.0011448994 | H67: =IFERROR(H31*(H49-H$57)^2*$A31,"") -> 19.943686 | I67: =IFERROR(I31*(I49-I$57)^2*$A31,"") -> 0.3667138 | J67: =IFERROR(J31*(J49-J$57)^2*$A31,"") -> 1.5793309 | K67: =IFERROR(K31*(K49-K$57)^2*$A31,"") -> 0.0047924447 | ... P67: =IFERROR(P31*(P49-P$57)^2*$A31,"")
B68: =B69-1 -> 2011 | C68: =C67+1 -> 6 | D68: =IFERROR(D32*(D50-D$57)^2*$A32,"") -> 27.860633 | E68: =IFERROR(E32*(E50-E$57)^2*$A32,"") -> 36.874754 | F68: =IFERROR(F32*(F50-F$57)^2*$A32,"") -> 28.308261 | G68: =IFERROR(G32*(G50-G$57)^2*$A32,"") -> 0.39237438 | H68: =IFERROR(H32*(H50-H$57)^2*$A32,"") -> 4.4382078 | I68: =IFERROR(I32*(I50-I$57)^2*$A32,"") -> 0.17633078 | J68: =IFERROR(J32*(J50-J$57)^2*$A32,"") -> 0.03605756 | K68: =IFERROR(K32*(K50-K$57)^2*$A32,"") | ... P68: =IFERROR(P32*(P50-P$57)^2*$A32,"")
B69: =B70-1 -> 2012 | C69: =C68+1 -> 7 | D69: =IFERROR(D33*(D51-D$57)^2*$A33,"") -> 0.56168419 | E69: =IFERROR(E33*(E51-E$57)^2*$A33,"") -> 12.040634 | F69: =IFERROR(F33*(F51-F$57)^2*$A33,"") -> 0.16252855 | G69: =IFERROR(G33*(G51-G$57)^2*$A33,"") -> 8.244806 | H69: =IFERROR(H33*(H51-H$57)^2*$A33,"") -> 2.3831132 | I69: =IFERROR(I33*(I51-I$57)^2*$A33,"") -> 0.042660887 | J69: =IFERROR(J33*(J51-J$57)^2*$A33,"") | K69: =IFERROR(K33*(K51-K$57)^2*$A33,"") | ... P69: =IFERROR(P33*(P51-P$57)^2*$A33,"")
B70: =B71-1 -> 2013 | C70: =C69+1 -> 8 | D70: =IFERROR(D34*(D52-D$57)^2*$A34,"") -> 275.62354 | E70: =IFERROR(E34*(E52-E$57)^2*$A34,"") -> 5.6030335 | F70: =IFERROR(F34*(F52-F$57)^2*$A34,"") -> 6.4127109 | G70: =IFERROR(G34*(G52-G$57)^2*$A34,"") -> 2.8605452 | H70: =IFERROR(H34*(H52-H$57)^2*$A34,"") -> 3.8456661 | I70: =IFERROR(I34*(I52-I$57)^2*$A34,"") | J70: =IFERROR(J34*(J52-J$57)^2*$A34,"") | K70: =IFERROR(K34*(K52-K$57)^2*$A34,"") | ... P70: =IFERROR(P34*(P52-P$57)^2*$A34,"")
B71: =B72-1 -> 2014 | C71: =C70+1 -> 9 | D71: =IFERROR(D35*(D53-D$57)^2*$A35,"") -> 96.948433 | E71: =IFERROR(E35*(E53-E$57)^2*$A35,"") -> 0.044211738 | F71: =IFERROR(F35*(F53-F$57)^2*$A35,"") -> 100.86083 | G71: =IFERROR(G35*(G53-G$57)^2*$A35,"") -> 1.0679925 | H71: =IFERROR(H35*(H53-H$57)^2*$A35,"") | I71: =IFERROR(I35*(I53-I$57)^2*$A35,"") | J71: =IFERROR(J35*(J53-J$57)^2*$A35,"") | K71: =IFERROR(K35*(K53-K$57)^2*$A35,"") | ... P71: =IFERROR(P35*(P53-P$57)^2*$A35,"")
B72: =B73-1 -> 2015 | C72: =C71+1 -> 10 | D72: =IFERROR(D36*(D54-D$57)^2*$A36,"") -> 521.16675 | E72: =IFERROR(E36*(E54-E$57)^2*$A36,"") -> 987.84707 | F72: =IFERROR(F36*(F54-F$57)^2*$A36,"") -> 0.61052979 | G72: =IFERROR(G36*(G54-G$57)^2*$A36,"") | H72: =IFERROR(H36*(H54-H$57)^2*$A36,"") | I72: =IFERROR(I36*(I54-I$57)^2*$A36,"") | J72: =IFERROR(J36*(J54-J$57)^2*$A36,"") | K72: =IFERROR(K36*(K54-K$57)^2*$A36,"") | ... P72: =IFERROR(P36*(P54-P$57)^2*$A36,"")
B73: =B74-1 -> 2016 | C73: =C72+1 -> 11 | D73: =IFERROR(D37*(D55-D$57)^2*$A37,"") -> 26.559979 | E73: =IFERROR(E37*(E55-E$57)^2*$A37,"") -> 12.205247 | F73: =IFERROR(F37*(F55-F$57)^2*$A37,"") | G73: =IFERROR(G37*(G55-G$57)^2*$A37,"") | H73: =IFERROR(H37*(H55-H$57)^2*$A37,"") | I73: =IFERROR(I37*(I55-I$57)^2*$A37,"") | J73: =IFERROR(J37*(J55-J$57)^2*$A37,"") | K73: =IFERROR(K37*(K55-K$57)^2*$A37,"") | ... P73: =IFERROR(P37*(P55-P$57)^2*$A37,"")
B74: =B39-1 -> 2017 | C74: =C73+1 -> 12 | D74: =IFERROR(D38*(D56-D$57)^2*$A38,"") -> 39.634669 | E74: =IFERROR(E38*(E56-E$57)^2*$A38,"") | F74: =IFERROR(F38*(F56-F$57)^2*$A38,"") | G74: =IFERROR(G38*(G56-G$57)^2*$A38,"") | H74: =IFERROR(H38*(H56-H$57)^2*$A38,"") | I74: =IFERROR(I38*(I56-I$57)^2*$A38,"") | J74: =IFERROR(J38*(J56-J$57)^2*$A38,"") | K74: =IFERROR(K38*(K56-K$57)^2*$A38,"") | ... P74: =IFERROR(P38*(P56-P$57)^2*$A38,"")
B75: Raw sd2 | C75: Eq. (7.04) | D75: =IF($J$1-1-D26<=0,0,SUM(D63:D74)/($J$1-1-D26)) -> 241.44831 | E75: =IF($J$1-1-E26<=0,0,SUM(E63:E74)/($J$1-1-E26)) -> 118.61339 | F75: =IF($J$1-1-F26<=0,0,SUM(F63:F74)/($J$1-1-F26)) -> 37.851235 | G75: =IF($J$1-1-G26<=0,0,SUM(G63:G74)/($J$1-1-G26)) -> 11.804039 | H75: =IF($J$1-1-H26<=0,0,SUM(H63:H74)/($J$1-1-H26)) -> 8.3173095 | I75: =IF($J$1-1-I26<=0,0,SUM(I63:I74)/($J$1-1-I26)) -> 0.15548945 | J75: =IF($J$1-1-J26<=0,0,SUM(J63:J74)/($J$1-1-J26)) -> 0.41234694 | K75: =IF($J$1-1-K26<=0,0,SUM(K63:K74)/($J$1-1-K26)) -> 0.028077298 | ... P75: =IF($J$1-1-P26<=0,0,SUM(P63:P74)/($J$1-1-P26)) -> 0
B76: Adjusted sd2 | D76: =IF(D26=$J$1-1,IF(ISERROR(MIN(C76^2/B76,MIN(C76,B76))),0,MIN(C76^2/B76,MIN(C76,B76))),D75) -> 241.44831 | E76: =IF(E26=$J$1-1,IF(ISERROR(MIN(D76^2/C76,MIN(D76,C76))),0,MIN(D76^2/C76,MIN(D76,C76))),E75) -> 118.61339 | F76: =IF(F26=$J$1-1,IF(ISERROR(MIN(E76^2/D76,MIN(E76,D76))),0,MIN(E76^2/D76,MIN(E76,D76))),F75) -> 37.851235 | G76: =IF(G26=$J$1-1,IF(ISERROR(MIN(F76^2/E76,MIN(F76,E76))),0,MIN(F76^2/E76,MIN(F76,E76))),G75) -> 11.804039 | H76: =IF(H26=$J$1-1,IF(ISERROR(MIN(G76^2/F76,MIN(G76,F76))),0,MIN(G76^2/F76,MIN(G76,F76))),H75) -> 8.3173095 | I76: =IF(I26=$J$1-1,IF(ISERROR(MIN(H76^2/G76,MIN(H76,G76))),0,MIN(H76^2/G76,MIN(H76,G76))),I75) -> 0.15548945 | J76: =IF(J26=$J$1-1,IF(ISERROR(MIN(I76^2/H76,MIN(I76,H76))),0,MIN(I76^2/H76,MIN(I76,H76))),J75) -> 0.41234694 | K76: =IF(K26=$J$1-1,IF(ISERROR(MIN(J76^2/I76,MIN(J76,I76))),0,MIN(J76^2/I76,MIN(J76,I76))),K75) -> 0.028077298 | ... P76: =IF(P26=$J$1-1,IF(ISERROR(MIN(O76^2/N76,MIN(O76,N76))),0,MIN(O76^2/N76,MIN(O76,N76))),P75) -> 0
B78: =$B$1 -> Study 1
B79: Siegenthaler Total Run-off - Process Variance
B80: AY | C80: AY # | D80: 1 | E80: =+D80+1 -> 2 | F80: =+E80+1 -> 3 | G80: =+F80+1 -> 4 | H80: =+G80+1 -> 5 | I80: =+H80+1 -> 6 | J80: =+I80+1 -> 7 | K80: =+J80+1 -> 8 | L80: =+K80+1 -> 9 | ... P80: =+O80+1 -> 13 | Q80: Total
B81: =B82-1 -> 2006 | C81: 1 | D81: =IF(D$80+$C81>$M$1, IFERROR($E8*D$76/D$57^2*$I8*D$58,""), "") | E81: =IF(E$80+$C81>$M$1, IFERROR($E8*E$76/E$57^2*$I8*E$58,""), "") | F81: =IF(F$80+$C81>$M$1, IFERROR($E8*F$76/F$57^2*$I8*F$58,""), "") | G81: =IF(G$80+$C81>$M$1, IFERROR($E8*G$76/G$57^2*$I8*G$58,""), "") | H81: =IF(H$80+$C81>$M$1, IFERROR($E8*H$76/H$57^2*$I8*H$58,""), "") | I81: =IF(I$80+$C81>$M$1, IFERROR($E8*I$76/I$57^2*$I8*I$58,""), "") | J81: =IF(J$80+$C81>$M$1, IFERROR($E8*J$76/J$57^2*$I8*J$58,""), "") | K81: =IF(K$80+$C81>$M$1, IFERROR($E8*K$76/K$57^2*$I8*K$58,""), "") | ... P81: =IF(P$80+$C81>$M$1, IFERROR($E8*P$76/P$57^2*$I8*P$58,""), "") -> 0 | Q81: =SUM(D81:P81) -> 0
B82: =B83-1 -> 2007 | C82: =C81+1 -> 2 | D82: =IF(D$80+$C82>$M$1, IFERROR($E9*D$76/D$57^2*$I9*D$58,""), "") | E82: =IF(E$80+$C82>$M$1, IFERROR($E9*E$76/E$57^2*$I9*E$58,""), "") | F82: =IF(F$80+$C82>$M$1, IFERROR($E9*F$76/F$57^2*$I9*F$58,""), "") | G82: =IF(G$80+$C82>$M$1, IFERROR($E9*G$76/G$57^2*$I9*G$58,""), "") | H82: =IF(H$80+$C82>$M$1, IFERROR($E9*H$76/H$57^2*$I9*H$58,""), "") | I82: =IF(I$80+$C82>$M$1, IFERROR($E9*I$76/I$57^2*$I9*I$58,""), "") | J82: =IF(J$80+$C82>$M$1, IFERROR($E9*J$76/J$57^2*$I9*J$58,""), "") | K82: =IF(K$80+$C82>$M$1, IFERROR($E9*K$76/K$57^2*$I9*K$58,""), "") | ... P82: =IF(P$80+$C82>$M$1, IFERROR($E9*P$76/P$57^2*$I9*P$58,""), "") -> 0 | Q82: =SUM(D82:P82) -> 0
B83: =B84-1 -> 2008 | C83: =C82+1 -> 3 | D83: =IF(D$80+$C83>$M$1, IFERROR($E10*D$76/D$57^2*$I10*D$58,""), "") | E83: =IF(E$80+$C83>$M$1, IFERROR($E10*E$76/E$57^2*$I10*E$58,""), "") | F83: =IF(F$80+$C83>$M$1, IFERROR($E10*F$76/F$57^2*$I10*F$58,""), "") | G83: =IF(G$80+$C83>$M$1, IFERROR($E10*G$76/G$57^2*$I10*G$58,""), "") | H83: =IF(H$80+$C83>$M$1, IFERROR($E10*H$76/H$57^2*$I10*H$58,""), "") | I83: =IF(I$80+$C83>$M$1, IFERROR($E10*I$76/I$57^2*$I10*I$58,""), "") | J83: =IF(J$80+$C83>$M$1, IFERROR($E10*J$76/J$57^2*$I10*J$58,""), "") | K83: =IF(K$80+$C83>$M$1, IFERROR($E10*K$76/K$57^2*$I10*K$58,""), "") | ... P83: =IF(P$80+$C83>$M$1, IFERROR($E10*P$76/P$57^2*$I10*P$58,""), "") -> 0 | Q83: =SUM(D83:P83) -> 0
B84: =B85-1 -> 2009 | C84: =C83+1 -> 4 | D84: =IF(D$80+$C84>$M$1, IFERROR($E11*D$76/D$57^2*$I11*D$58,""), "") | E84: =IF(E$80+$C84>$M$1, IFERROR($E11*E$76/E$57^2*$I11*E$58,""), "") | F84: =IF(F$80+$C84>$M$1, IFERROR($E11*F$76/F$57^2*$I11*F$58,""), "") | G84: =IF(G$80+$C84>$M$1, IFERROR($E11*G$76/G$57^2*$I11*G$58,""), "") | H84: =IF(H$80+$C84>$M$1, IFERROR($E11*H$76/H$57^2*$I11*H$58,""), "") | I84: =IF(I$80+$C84>$M$1, IFERROR($E11*I$76/I$57^2*$I11*I$58,""), "") | J84: =IF(J$80+$C84>$M$1, IFERROR($E11*J$76/J$57^2*$I11*J$58,""), "") | K84: =IF(K$80+$C84>$M$1, IFERROR($E11*K$76/K$57^2*$I11*K$58,""), "") | ... P84: =IF(P$80+$C84>$M$1, IFERROR($E11*P$76/P$57^2*$I11*P$58,""), "") -> 0 | Q84: =SUM(D84:P84) -> 1925.114
B85: =B86-1 -> 2010 | C85: =C84+1 -> 5 | D85: =IF(D$80+$C85>$M$1, IFERROR($E12*D$76/D$57^2*$I12*D$58,""), "") | E85: =IF(E$80+$C85>$M$1, IFERROR($E12*E$76/E$57^2*$I12*E$58,""), "") | F85: =IF(F$80+$C85>$M$1, IFERROR($E12*F$76/F$57^2*$I12*F$58,""), "") | G85: =IF(G$80+$C85>$M$1, IFERROR($E12*G$76/G$57^2*$I12*G$58,""), "") | H85: =IF(H$80+$C85>$M$1, IFERROR($E12*H$76/H$57^2*$I12*H$58,""), "") | I85: =IF(I$80+$C85>$M$1, IFERROR($E12*I$76/I$57^2*$I12*I$58,""), "") | J85: =IF(J$80+$C85>$M$1, IFERROR($E12*J$76/J$57^2*$I12*J$58,""), "") | K85: =IF(K$80+$C85>$M$1, IFERROR($E12*K$76/K$57^2*$I12*K$58,""), "") | ... P85: =IF(P$80+$C85>$M$1, IFERROR($E12*P$76/P$57^2*$I12*P$58,""), "") -> 0 | Q85: =SUM(D85:P85) -> 10009.654
B86: =B87-1 -> 2011 | C86: =C85+1 -> 6 | D86: =IF(D$80+$C86>$M$1, IFERROR($E13*D$76/D$57^2*$I13*D$58,""), "") | E86: =IF(E$80+$C86>$M$1, IFERROR($E13*E$76/E$57^2*$I13*E$58,""), "") | F86: =IF(F$80+$C86>$M$1, IFERROR($E13*F$76/F$57^2*$I13*F$58,""), "") | G86: =IF(G$80+$C86>$M$1, IFERROR($E13*G$76/G$57^2*$I13*G$58,""), "") | H86: =IF(H$80+$C86>$M$1, IFERROR($E13*H$76/H$57^2*$I13*H$58,""), "") | I86: =IF(I$80+$C86>$M$1, IFERROR($E13*I$76/I$57^2*$I13*I$58,""), "") | J86: =IF(J$80+$C86>$M$1, IFERROR($E13*J$76/J$57^2*$I13*J$58,""), "") | K86: =IF(K$80+$C86>$M$1, IFERROR($E13*K$76/K$57^2*$I13*K$58,""), "") -> 8276.5424 | ... P86: =IF(P$80+$C86>$M$1, IFERROR($E13*P$76/P$57^2*$I13*P$58,""), "") -> 0 | Q86: =SUM(D86:P86) -> 21586.382
B87: =B88-1 -> 2012 | C87: =C86+1 -> 7 | D87: =IF(D$80+$C87>$M$1, IFERROR($E14*D$76/D$57^2*$I14*D$58,""), "") | E87: =IF(E$80+$C87>$M$1, IFERROR($E14*E$76/E$57^2*$I14*E$58,""), "") | F87: =IF(F$80+$C87>$M$1, IFERROR($E14*F$76/F$57^2*$I14*F$58,""), "") | G87: =IF(G$80+$C87>$M$1, IFERROR($E14*G$76/G$57^2*$I14*G$58,""), "") | H87: =IF(H$80+$C87>$M$1, IFERROR($E14*H$76/H$57^2*$I14*H$58,""), "") | I87: =IF(I$80+$C87>$M$1, IFERROR($E14*I$76/I$57^2*$I14*I$58,""), "") | J87: =IF(J$80+$C87>$M$1, IFERROR($E14*J$76/J$57^2*$I14*J$58,""), "") -> 111294.72 | K87: =IF(K$80+$C87>$M$1, IFERROR($E14*K$76/K$57^2*$I14*K$58,""), "") -> 7578.5119 | ... P87: =IF(P$80+$C87>$M$1, IFERROR($E14*P$76/P$57^2*$I14*P$58,""), "") -> 0 | Q87: =SUM(D87:P87) -> 131060.54
B88: =B89-1 -> 2013 | C88: =C87+1 -> 8 | D88: =IF(D$80+$C88>$M$1, IFERROR($E15*D$76/D$57^2*$I15*D$58,""), "") | E88: =IF(E$80+$C88>$M$1, IFERROR($E15*E$76/E$57^2*$I15*E$58,""), "") | F88: =IF(F$80+$C88>$M$1, IFERROR($E15*F$76/F$57^2*$I15*F$58,""), "") | G88: =IF(G$80+$C88>$M$1, IFERROR($E15*G$76/G$57^2*$I15*G$58,""), "") | H88: =IF(H$80+$C88>$M$1, IFERROR($E15*H$76/H$57^2*$I15*H$58,""), "") | I88: =IF(I$80+$C88>$M$1, IFERROR($E15*I$76/I$57^2*$I15*I$58,""), "") -> 42304.023 | J88: =IF(J$80+$C88>$M$1, IFERROR($E15*J$76/J$57^2*$I15*J$58,""), "") -> 112161.38 | K88: =IF(K$80+$C88>$M$1, IFERROR($E15*K$76/K$57^2*$I15*K$58,""), "") -> 7637.5268 | ... P88: =IF(P$80+$C88>$M$1, IFERROR($E15*P$76/P$57^2*$I15*P$58,""), "") -> 0 | Q88: =SUM(D88:P88) -> 174385.15
B89: =B90-1 -> 2014 | C89: =C88+1 -> 9 | D89: =IF(D$80+$C89>$M$1, IFERROR($E16*D$76/D$57^2*$I16*D$58,""), "") | E89: =IF(E$80+$C89>$M$1, IFERROR($E16*E$76/E$57^2*$I16*E$58,""), "") | F89: =IF(F$80+$C89>$M$1, IFERROR($E16*F$76/F$57^2*$I16*F$58,""), "") | G89: =IF(G$80+$C89>$M$1, IFERROR($E16*G$76/G$57^2*$I16*G$58,""), "") | H89: =IF(H$80+$C89>$M$1, IFERROR($E16*H$76/H$57^2*$I16*H$58,""), "") -> 2059193.7 | I89: =IF(I$80+$C89>$M$1, IFERROR($E16*I$76/I$57^2*$I16*I$58,""), "") -> 38418.833 | J89: =IF(J$80+$C89>$M$1, IFERROR($E16*J$76/J$57^2*$I16*J$58,""), "") -> 101860.51 | K89: =IF(K$80+$C89>$M$1, IFERROR($E16*K$76/K$57^2*$I16*K$58,""), "") -> 6936.0984 | ... P89: =IF(P$80+$C89>$M$1, IFERROR($E16*P$76/P$57^2*$I16*P$58,""), "") -> 0 | Q89: =SUM(D89:P89) -> 2217563.4
B90: =B91-1 -> 2015 | C90: =C89+1 -> 10 | D90: =IF(D$80+$C90>$M$1, IFERROR($E17*D$76/D$57^2*$I17*D$58,""), "") | E90: =IF(E$80+$C90>$M$1, IFERROR($E17*E$76/E$57^2*$I17*E$58,""), "") | F90: =IF(F$80+$C90>$M$1, IFERROR($E17*F$76/F$57^2*$I17*F$58,""), "") | G90: =IF(G$80+$C90>$M$1, IFERROR($E17*G$76/G$57^2*$I17*G$58,""), "") -> 3154589.7 | H90: =IF(H$80+$C90>$M$1, IFERROR($E17*H$76/H$57^2*$I17*H$58,""), "") -> 2229122.5 | I90: =IF(I$80+$C90>$M$1, IFERROR($E17*I$76/I$57^2*$I17*I$58,""), "") -> 41589.231 | J90: =IF(J$80+$C90>$M$1, IFERROR($E17*J$76/J$57^2*$I17*J$58,""), "") -> 110266.24 | K90: =IF(K$80+$C90>$M$1, IFERROR($E17*K$76/K$57^2*$I17*K$58,""), "") -> 7508.479 | ... P90: =IF(P$80+$C90>$M$1, IFERROR($E17*P$76/P$57^2*$I17*P$58,""), "") -> 0 | Q90: =SUM(D90:P90) -> 5555150.8
B91: =B92-1 -> 2016 | C91: =C90+1 -> 11 | D91: =IF(D$80+$C91>$M$1, IFERROR($E18*D$76/D$57^2*$I18*D$58,""), "") | E91: =IF(E$80+$C91>$M$1, IFERROR($E18*E$76/E$57^2*$I18*E$58,""), "") | F91: =IF(F$80+$C91>$M$1, IFERROR($E18*F$76/F$57^2*$I18*F$58,""), "") -> 9264414.4 | G91: =IF(G$80+$C91>$M$1, IFERROR($E18*G$76/G$57^2*$I18*G$58,""), "") -> 2898160.4 | H91: =IF(H$80+$C91>$M$1, IFERROR($E18*H$76/H$57^2*$I18*H$58,""), "") -> 2047922.2 | I91: =IF(I$80+$C91>$M$1, IFERROR($E18*I$76/I$57^2*$I18*I$58,""), "") -> 38208.538 | J91: =IF(J$80+$C91>$M$1, IFERROR($E18*J$76/J$57^2*$I18*J$58,""), "") -> 101302.96 | K91: =IF(K$80+$C91>$M$1, IFERROR($E18*K$76/K$57^2*$I18*K$58,""), "") -> 6898.132 | ... P91: =IF(P$80+$C91>$M$1, IFERROR($E18*P$76/P$57^2*$I18*P$58,""), "") -> 0 | Q91: =SUM(D91:P91) -> 14368000
B92: =B93-1 -> 2017 | C92: =C91+1 -> 12 | D92: =IF(D$80+$C92>$M$1, IFERROR($E19*D$76/D$57^2*$I19*D$58,""), "") | E92: =IF(E$80+$C92>$M$1, IFERROR($E19*E$76/E$57^2*$I19*E$58,""), "") -> 30852205 | F92: =IF(F$80+$C92>$M$1, IFERROR($E19*F$76/F$57^2*$I19*F$58,""), "") -> 9827728.5 | G92: =IF(G$80+$C92>$M$1, IFERROR($E19*G$76/G$57^2*$I19*G$58,""), "") -> 3074380.3 | H92: =IF(H$80+$C92>$M$1, IFERROR($E19*H$76/H$57^2*$I19*H$58,""), "") -> 2172444.2 | I92: =IF(I$80+$C92>$M$1, IFERROR($E19*I$76/I$57^2*$I19*I$58,""), "") -> 40531.772 | J92: =IF(J$80+$C92>$M$1, IFERROR($E19*J$76/J$57^2*$I19*J$58,""), "") -> 107462.59 | K92: =IF(K$80+$C92>$M$1, IFERROR($E19*K$76/K$57^2*$I19*K$58,""), "") -> 7317.5665 | ... P92: =IF(P$80+$C92>$M$1, IFERROR($E19*P$76/P$57^2*$I19*P$58,""), "") -> 0 | Q92: =SUM(D92:P92) -> 46093838
B93: =+$B$39 -> 2018 | C93: =C92+1 -> 13 | D93: =IF(D$80+$C93>$M$1, IFERROR($E20*D$76/D$57^2*$I20*D$58,""), "") -> 64000157 | E93: =IF(E$80+$C93>$M$1, IFERROR($E20*E$76/E$57^2*$I20*E$58,""), "") -> 31841626 | F93: =IF(F$80+$C93>$M$1, IFERROR($E20*F$76/F$57^2*$I20*F$58,""), "") -> 10142901 | G93: =IF(G$80+$C93>$M$1, IFERROR($E20*G$76/G$57^2*$I20*G$58,""), "") -> 3172974.7 | H93: =IF(H$80+$C93>$M$1, IFERROR($E20*H$76/H$57^2*$I20*H$58,""), "") -> 2242113.8 | I93: =IF(I$80+$C93>$M$1, IFERROR($E20*I$76/I$57^2*$I20*I$58,""), "") -> 41831.613 | J93: =IF(J$80+$C93>$M$1, IFERROR($E20*J$76/J$57^2*$I20*J$58,""), "") -> 110908.88 | K93: =IF(K$80+$C93>$M$1, IFERROR($E20*K$76/K$57^2*$I20*K$58,""), "") -> 7552.2385 | ... P93: =IF(P$80+$C93>$M$1, IFERROR($E20*P$76/P$57^2*$I20*P$58,""), "") -> 0 | Q93: =SUM(D93:P93) -> 1.1157221e+08

Sheet Study1 MMW
B1: Study 1 | I1: #Y Active | J1: =COUNT(D26:D38) -> 13 | L1: # of AYs | M1: 13
B3: =$B$1 -> Study 1
B4: Mack and Merz-Wuthrich Result Summary
B5: AY | C5: AY # | D5: Dev Age | E5: Diagonal Paid/Incurred | F5: Ultimate | G5: Case/IBNR Reserve | H5: ATA LDF | I5: ATU LDF | J5: Adj S^2 | K5: Total Run-off Process Error | L5: Total Run-off Parameter Error | M5: Total Run-off Total Error | N5: CV of Reserve | O5: 1-year Process Error | P5: 1-year Parameter Error | Q5: 1-year Total Error | R5: CV of Reserve
C6: y | D6: d | E6: Cy, Y-d+1 | F6: Uy, Y-d+1 | G6: Uy, Y-d+1-Cy, Y-d+1 | H6: fd | I6: Fd | J6: sd2
B7: =B26 -> 2006 | C7: =C26 -> 1 | D7: =$M$1-C7+1 -> 13 | E7: =Q26 -> 223558 | F7: =E7*I7 -> 223558 | G7: =F7-E7 -> 0 | H7: =INDEX($D$58:$P$58, 0, D7) -> 1 | I7: =INDEX($D$59:$P$59, 0, D7) -> 1 | J7: =INDEX($D$94:$P$94, 0, D7) -> 0 | K7: =F7*SQRT(Q99) -> 0 | L7: =F7*SQRT(Q116) -> 0 | M7: =SUMSQ(K7:L7)^0.5 -> 0 | N7: =IFERROR(M7/G7,"") | O7: =F7*SQRT(J7/H7^2/E7) -> 0 | P7: =F7*Q168^0.5 -> 0 | Q7: =SUMSQ(O7:P7)^0.5 -> 0 | R7: =IFERROR(Q7/G7,"")
B8: =B27 -> 2007 | C8: =C27 -> 2 | D8: =$M$1-C8+1 -> 12 | E8: =Q27 -> 224036 | F8: =E8*I8 -> 224036 | G8: =F8-E8 -> 0 | H8: =INDEX($D$58:$P$58, 0, D8) -> 1 | I8: =INDEX($D$59:$P$59, 0, D8) -> 1 | J8: =INDEX($D$94:$P$94, 0, D8) -> 0 | K8: =F8*SQRT(Q100) -> 0 | L8: =F8*SQRT(Q117) -> 0 | M8: =SUMSQ(K8:L8)^0.5 -> 0 | N8: =IFERROR(M8/G8,"") | O8: =F8*SQRT(J8/H8^2/E8) -> 0 | P8: =F8*Q169^0.5 -> 0 | Q8: =SUMSQ(O8:P8)^0.5 -> 0 | R8: =IFERROR(Q8/G8,"")
B9: =B28 -> 2008 | C9: =C28 -> 3 | D9: =$M$1-C9+1 -> 11 | E9: =Q28 -> 223697 | F9: =E9*I9 -> 223697 | G9: =F9-E9 -> 0 | H9: =INDEX($D$58:$P$58, 0, D9) -> 1 | I9: =INDEX($D$59:$P$59, 0, D9) -> 1 | J9: =INDEX($D$94:$P$94, 0, D9) -> 0 | K9: =F9*SQRT(Q101) -> 0 | L9: =F9*SQRT(Q118) -> 0 | M9: =SUMSQ(K9:L9)^0.5 -> 0 | N9: =IFERROR(M9/G9,"") | O9: =F9*SQRT(J9/H9^2/E9) -> 0 | P9: =F9*Q170^0.5 -> 0 | Q9: =SUMSQ(O9:P9)^0.5 -> 0 | R9: =IFERROR(Q9/G9,"")
B10: =B29 -> 2009 | C10: =C29 -> 4 | D10: =$M$1-C10+1 -> 10 | E10: =Q29 -> 214459 | F10: =E10*I10 -> 214444.31 | G10: =F10-E10 -> -14.694727 | H10: =INDEX($D$58:$P$58, 0, D10) -> 0.99993148 | I10: =INDEX($D$59:$P$59, 0, D10) -> 0.99993148 | J10: =INDEX($D$94:$P$94, 0, D10) -> 0.0030610527 | K10: =F10*SQRT(Q102) -> 25.621677 | L10: =F10*SQRT(Q119) -> 14.481361 | M10: =SUMSQ(K10:L10)^0.5 -> 29.430938 | N10: =IFERROR(M10/G10,"") -> -2.0028231 | O10: =F10*SQRT(J10/H10^2/E10) -> 25.621677 | P10: =F10*Q171^0.5 -> 14.481361 | Q10: =SUMSQ(O10:P10)^0.5 -> 29.430938 | R10: =IFERROR(Q10/G10,"") -> -2.0028231
B11: =B30 -> 2010 | C11: =C30 -> 5 | D11: =$M$1-C11+1 -> 9 | E11: =Q30 -> 221616 | F11: =E11*I11 -> 221627.84 | G11: =F11-E11 -> 11.83668 | H11: =INDEX($D$58:$P$58, 0, D11) -> 1.0001219 | I11: =INDEX($D$59:$P$59, 0, D11) -> 1.0000534 | J11: =INDEX($D$94:$P$94, 0, D11) -> 0.026248778 | K11: =F11*SQRT(Q103) -> 80.590402 | L11: =F11*SQRT(Q120) -> 40.979959 | M11: =SUMSQ(K11:L11)^0.5 -> 90.411116 | N11: =IFERROR(M11/G11,"") -> 7.6382158 | O11: =F11*SQRT(J11/H11^2/E11) -> 76.265011 | P11: =F11*Q172^0.5 -> 38.853483 | Q11: =SUMSQ(O11:P11)^0.5 -> 85.591735 | R11: =IFERROR(Q11/G11,"") -> 7.2310593
B12: =B31 -> 2011 | C12: =C31 -> 6 | D12: =$M$1-C12+1 -> 8 | E12: =Q31 -> 294705 | F12: =E12*I12 -> 294672.31 | G12: =F12-E12 -> -32.692856 | H12: =INDEX($D$58:$P$58, 0, D12) -> 0.99983566 | I12: =INDEX($D$59:$P$59, 0, D12) -> 0.99988907 | J12: =INDEX($D$94:$P$94, 0, D12) -> 0.0069994485 | K12: =F12*SQRT(Q104) -> 103.43296 | L12: =F12*SQRT(Q121) -> 59.31032 | M12: =SUMSQ(K12:L12)^0.5 -> 119.23125 | N12: =IFERROR(M12/G12,"") -> -3.6470123 | O12: =F12*SQRT(J12/H12^2/E12) -> 45.420181 | P12: =F12*Q173^0.5 -> 34.055129 | Q12: =SUMSQ(O12:P12)^0.5 -> 56.769223 | R12: =IFERROR(Q12/G12,"") -> -1.7364412
B13: =B32 -> 2012 | C13: =C32 -> 7 | D13: =$M$1-C13+1 -> 7 | E13: =Q32 -> 269720 | F13: =E13*I13 -> 269762.8 | G13: =F13-E13 -> 42.80098 | H13: =INDEX($D$58:$P$58, 0, D13) -> 1.0002697 | I13: =INDEX($D$59:$P$59, 0, D13) -> 1.0001587 | J13: =INDEX($D$94:$P$94, 0, D13) -> 0.26985724 | K13: =F13*SQRT(Q105) -> 287.3391 | L13: =F13*SQRT(Q122) -> 130.19065 | M13: =SUMSQ(K13:L13)^0.5 -> 315.45739 | N13: =IFERROR(M13/G13,"") -> 7.370331 | O13: =F13*SQRT(J13/H13^2/E13) -> 269.75868 | P13: =F13*Q174^0.5 -> 120.87209 | Q13: =SUMSQ(O13:P13)^0.5 -> 295.60076 | R13: =IFERROR(Q13/G13,"") -> 6.9064017
B14: =B33 -> 2013 | C14: =C33 -> 8 | D14: =$M$1-C14+1 -> 6 | E14: =Q33 -> 271688 | F14: =E14*I14 -> 271809.49 | G14: =F14-E14 -> 121.49173 | H14: =INDEX($D$58:$P$58, 0, D14) -> 1.0002884 | I14: =INDEX($D$59:$P$59, 0, D14) -> 1.0004472 | J14: =INDEX($D$94:$P$94, 0, D14) -> 0.057692696 | K14: =F14*SQRT(Q106) -> 314.4353 | L14: =F14*SQRT(Q123) -> 140.55963 | M14: =SUMSQ(K14:L14)^0.5 -> 344.42208 | N14: =IFERROR(M14/G14,"") -> 2.8349426 | O14: =F14*SQRT(J14/H14^2/E14) -> 125.21736 | P14: =F14*Q175^0.5 -> 73.897163 | Q14: =SUMSQ(O14:P14)^0.5 -> 145.39663 | R14: =IFERROR(Q14/G14,"") -> 1.1967615
B15: =B34 -> 2014 | C15: =C34 -> 9 | D15: =$M$1-C15+1 -> 5 | E15: =Q34 -> 245940 | F15: =E15*I15 -> 247244.75 | G15: =F15-E15 -> 1304.7517 | H15: =INDEX($D$58:$P$58, 0, D15) -> 1.0048558 | I15: =INDEX($D$59:$P$59, 0, D15) -> 1.0053052 | J15: =INDEX($D$94:$P$94, 0, D15) -> 6.2497667 | K15: =F15*SQRT(Q107) -> 1276.0787 | L15: =F15*SQRT(Q124) -> 460.49032 | M15: =SUMSQ(K15:L15)^0.5 -> 1356.6238 | N15: =IFERROR(M15/G15,"") -> 1.0397563 | O15: =F15*SQRT(J15/H15^2/E15) -> 1240.3397 | P15: =F15*Q176^0.5 -> 445.43022 | Q15: =SUMSQ(O15:P15)^0.5 -> 1317.8963 | R15: =IFERROR(Q15/G15,"") -> 1.0100744
B16: =B35 -> 2015 | C16: =C35 -> 10 | D16: =$M$1-C16+1 -> 4 | E16: =Q35 -> 264755 | F16: =E16*I16 -> 267746.17 | G16: =F16-E16 -> 2991.1734 | H16: =INDEX($D$58:$P$58, 0, D16) -> 1.0059611 | I16: =INDEX($D$59:$P$59, 0, D16) -> 1.0112979 | J16: =INDEX($D$94:$P$94, 0, D16) -> 5.4968301 | K16: =F16*SQRT(Q108) -> 1798.3872 | L16: =F16*SQRT(Q125) -> 654.54033 | M16: =SUMSQ(K16:L16)^0.5 -> 1913.7972 | N16: =IFERROR(M16/G16,"") -> 0.63981486 | O16: =F16*SQRT(J16/H16^2/E16) -> 1212.7636 | P16: =F16*Q177^0.5 -> 456.96694 | Q16: =SUMSQ(O16:P16)^0.5 -> 1295.9994 | R16: =IFERROR(Q16/G16,"") -> 0.43327456
B17: =B36 -> 2016 | C17: =C36 -> 11 | D17: =$M$1-C17+1 -> 3 | E17: =Q36 -> 239800 | F17: =E17*I17 -> 245398.03 | G17: =F17-E17 -> 5598.0313 | H17: =INDEX($D$58:$P$58, 0, D17) -> 1.0119121 | I17: =INDEX($D$59:$P$59, 0, D17) -> 1.0233446 | J17: =INDEX($D$94:$P$94, 0, D17) -> 20.363467 | K17: =F17*SQRT(Q109) -> 2821.0578 | L17: =F17*SQRT(Q126) -> 926.47877 | M17: =SUMSQ(K17:L17)^0.5 -> 2969.2979 | N17: =IFERROR(M17/G17,"") -> 0.53041825 | O17: =F17*SQRT(J17/H17^2/E17) -> 2234.7531 | P17: =F17*Q178^0.5 -> 734.39665 | Q17: =SUMSQ(O17:P17)^0.5 -> 2352.3307 | R17: =IFERROR(Q17/G17,"") -> 0.42020679
B18: =B37 -> 2017 | C18: =C37 -> 12 | D18: =$M$1-C18+1 -> 2 | E18: =Q37 -> 246019 | F18: =E18*I18 -> 259549.34 | G18: =F18-E18 -> 13530.341 | H18: =INDEX($D$58:$P$58, 0, D18) -> 1.0309305 | I18: =INDEX($D$59:$P$59, 0, D18) -> 1.0549971 | J18: =INDEX($D$94:$P$94, 0, D18) -> 94.006227 | K18: =F18*SQRT(Q110) -> 5712.8817 | L18: =F18*SQRT(Q127) -> 1812.4571 | M18: =SUMSQ(K18:L18)^0.5 -> 5993.498 | N18: =IFERROR(M18/G18,"") -> 0.44296726 | O18: =F18*SQRT(J18/H18^2/E18) -> 4921.3532 | P18: =F18*Q179^0.5 -> 1555.99 | Q18: =SUMSQ(O18:P18)^0.5 -> 5161.4748 | R18: =IFERROR(Q18/G18,"") -> 0.38147412
B19: =B38 -> 2018 | C19: =C38 -> 13 | D19: =$M$1-C19+1 -> 1 | E19: =Q38 -> 173377 | F19: =E19*I19 -> 262934.58 | G19: =F19-E19 -> 89557.582 | H19: =INDEX($D$58:$P$58, 0, D19) -> 1.4374904 | I19: =INDEX($D$59:$P$59, 0, D19) -> 1.5165482 | J19: =INDEX($D$94:$P$94, 0, D19) -> 376.8034 | K19: =F19*SQRT(Q111) -> 10284.705 | L19: =F19*SQRT(Q128) -> 3134.0893 | M19: =SUMSQ(K19:L19)^0.5 -> 10751.636 | N19: =IFERROR(M19/G19,"") -> 0.12005277 | O19: =F19*SQRT(J19/H19^2/E19) -> 8527.1603 | P19: =F19*Q180^0.5 -> 2599.8203 | Q19: =SUMSQ(O19:P19)^0.5 -> 8914.6805 | R19: =IFERROR(Q19/G19,"") -> 0.099541326
B21: Total All AYs | E21: =SUM(E7:E19) -> 3113370 | F21: =SUM(F7:F19) -> 3226480.6 | G21: =SUM(G7:G19) -> 113110.62 | K21: =SUMSQ(K7:K19)^0.5 -> 12305.787 | L21: =SUM(D133:P145)^0.5 -> 5445.6608 | M21: =(K21^2+L21^2)^0.5 -> 13456.88 | N21: =IF(ISERROR(M21/G21),"",M21/G21) -> 0.11897097 | O21: =SUMSQ(O7:O19)^0.5 -> 10248.538 | P21: =SUM(D185:P197)^0.5 -> 4525.411 | Q21: =(O21^2+P21^2)^0.5 -> 11203.208 | R21: =IF(ISERROR(Q21/G21),"",Q21/G21) -> 0.099046472
B23: =$B$1 -> Study 1
B24: Mack and Merz-Wuthrich Triangle of Paid/Incurred Losses Cy,d
B25: AY | C25: AY # | D25: 1 | E25: =D25+1 -> 2 | F25: =E25+1 -> 3 | G25: =F25+1 -> 4 | H25: =G25+1 -> 5 | I25: =H25+1 -> 6 | J25: =I25+1 -> 7 | K25: =J25+1 -> 8 | L25: =K25+1 -> 9 | ... P25: =O25+1 -> 13 | Q25: Diagonal
B26: =B27-1 -> 2006 | C26: 1 | D26: 157495 | E26: 212770 | F26: 219680 | G26: 220978 | H26: 221276 | I26: 223724 | J26: 223743 | K26: 223765 | L26: 223669 | M26: 223601 | N26: 223558 | O26: 223558 | P26: 223558 | Q26: =OFFSET($Q$25,$C26,-$C26) -> 223558
B27: =B28-1 -> 2007 | C27: =C26+1 -> 2 | D27: 154969 | E27: 213352 | F27: 219201 | G27: 220469 | H27: 222751 | I27: 223958 | J27: 224005 | K27: 224030 | L27: 223975 | M27: 224048 | N27: 224036 | O27: 224036 | Q27: =OFFSET($Q$25,$C27,-$C27) -> 224036
B28: =B29-1 -> 2008 | C28: =C27+1 -> 3 | D28: 152833 | E28: 209969 | F28: 214692 | G28: 220040 | H28: 223467 | I28: 223754 | J28: 223752 | K28: 223593 | L28: 223585 | M28: 223688 | N28: 223697 | Q28: =OFFSET($Q$25,$C28,-$C28) -> 223697
B29: =B30-1 -> 2009 | C29: =C28+1 -> 4 | D29: 144223 | E29: 207644 | F29: 212443 | G29: 214108 | H29: 214661 | I29: 214610 | J29: 214564 | K29: 214484 | L29: 214459 | M29: 214459 | Q29: =OFFSET($Q$25,$C29,-$C29) -> 214459
B30: =B31-1 -> 2010 | C30: =C29+1 -> 5 | D30: 145612 | E30: 209604 | F30: 214161 | G30: 215982 | H30: 217962 | I30: 220783 | J30: 221078 | K30: 221614 | L30: 221616 | Q30: =OFFSET($Q$25,$C30,-$C30) -> 221616
B31: =B32-1 -> 2011 | C31: =C30+1 -> 6 | D31: 196695 | E31: 282621 | F31: 288676 | G31: 290036 | H31: 292206 | I31: 294531 | J31: 294671 | K31: 294705 | Q31: =OFFSET($Q$25,$C31,-$C31) -> 294705
B32: =B33-1 -> 2012 | C32: =C31+1 -> 7 | D32: 181381 | E32: 260308 | F32: 266497 | G32: 269130 | H32: 269404 | I32: 269691 | J32: 269720 | Q32: =OFFSET($Q$25,$C32,-$C32) -> 269720
B33: =B34-1 -> 2013 | C33: =C32+1 -> 8 | D33: 177168 | E33: 263130 | F33: 268848 | G33: 270787 | H33: 271624 | I33: 271688 | Q33: =OFFSET($Q$25,$C33,-$C33) -> 271688
B34: =B35-1 -> 2014 | C34: =C33+1 -> 9 | D34: 156505 | E34: 230607 | F34: 237102 | G34: 244847 | H34: 245940 | Q34: =OFFSET($Q$25,$C34,-$C34) -> 245940
B35: =B36-1 -> 2015 | C35: =C34+1 -> 10 | D35: 157839 | E35: 239723 | F35: 261213 | G35: 264755 | Q35: =OFFSET($Q$25,$C35,-$C35) -> 264755
B36: =B37-1 -> 2016 | C36: =C35+1 -> 11 | D36: 159429 | E36: 233309 | F36: 239800 | Q36: =OFFSET($Q$25,$C36,-$C36) -> 239800
B37: =B38-1 -> 2017 | C37: =C36+1 -> 12 | D37: 169990 | E37: 246019 | Q37: =OFFSET($Q$25,$C37,-$C37) -> 246019
B38: 2018 | C38: =C37+1 -> 13 | D38: 173377 | Q38: =OFFSET($Q$25,$C38,-$C38) -> 173377
B39: Sum of PMT | D39: =SUM(D26:D38) -> 2127516 | E39: =SUM(E26:E38) -> 2809056 | F39: =SUM(F26:F38) -> 2642313 | G39: =SUM(G26:G38) -> 2431132 | H39: =SUM(H26:H38) -> 2179291 | I39: =SUM(I26:I38) -> 1942739 | J39: =SUM(J26:J38) -> 1671533 | K39: =SUM(K26:K38) -> 1402191 | ... Q39: =SUM(Q26:Q38) -> 3113370
B40: Diagonal | D40: =OFFSET($C$39,-D$25,D$25) -> 173377 | E40: =OFFSET($C$39,-E$25,E$25) -> 246019 | F40: =OFFSET($C$39,-F$25,F$25) -> 239800 | G40: =OFFSET($C$39,-G$25,G$25) -> 264755 | H40: =OFFSET($C$39,-H$25,H$25) -> 245940 | I40: =OFFSET($C$39,-I$25,I$25) -> 271688 | J40: =OFFSET($C$39,-J$25,J$25) -> 269720 | K40: =OFFSET($C$39,-K$25,K$25) -> 294705 | ... P40: =OFFSET($C$39,-P$25,P$25) -> 223558
B41: Sum Exlc Diag | D41: =MAX(D39-D40, 1) -> 1954139 | E41: =MAX(E39-E40, 1) -> 2563037 | F41: =MAX(F39-F40, 1) -> 2402513 | G41: =MAX(G39-G40, 1) -> 2166377 | H41: =MAX(H39-H40, 1) -> 1933351 | I41: =MAX(I39-I40, 1) -> 1671051 | J41: =MAX(J39-J40, 1) -> 1401813 | K41: =MAX(K39-K40, 1) -> 1107486 | ... P41: =MAX(P39-P40, 1) -> 1
B43: =$B$1 -> Study 1
B44: Mack and Merz-Wuthrich Triangle of Loss Development Factors (LDF) fy,d
B45: AY | C45: AY # | D45: =D25&" - "&E25 -> 1 - 2 | E45: =E25&" - "&F25 -> 2 - 3 | F45: =F25&" - "&G25 -> 3 - 4 | G45: =G25&" - "&H25 -> 4 - 5 | H45: =H25&" - "&I25 -> 5 - 6 | I45: =I25&" - "&J25 -> 6 - 7 | J45: =J25&" - "&K25 -> 7 - 8 | K45: =K25&" - "&L25 -> 8 - 9 | ... O45: =O25&" - "&P25 -> 12 - 13 | P45: =P25&" - Ult" -> 13 - Ult
B46: =B47-1 -> 2006 | C46: 1 | D46: =IF(ISERROR(E26/D26),"",IF(E26/D26=0,"",E26/D26)) -> 1.3509635 | E46: =IF(ISERROR(F26/E26),"",IF(F26/E26=0,"",F26/E26)) -> 1.0324764 | F46: =IF(ISERROR(G26/F26),"",IF(G26/F26=0,"",G26/F26)) -> 1.0059086 | G46: =IF(ISERROR(H26/G26),"",IF(H26/G26=0,"",H26/G26)) -> 1.0013486 | H46: =IF(ISERROR(I26/H26),"",IF(I26/H26=0,"",I26/H26)) -> 1.0110631 | I46: =IF(ISERROR(J26/I26),"",IF(J26/I26=0,"",J26/I26)) -> 1.0000849 | J46: =IF(ISERROR(K26/J26),"",IF(K26/J26=0,"",K26/J26)) -> 1.0000983 | K46: =IF(ISERROR(L26/K26),"",IF(L26/K26=0,"",L26/K26)) -> 0.99957098 | ... O46: =IF(ISERROR(P26/O26),"",IF(P26/O26=0,"",P26/O26)) -> 1 | P46: =IF(ISERROR(#REF!/P26),"",IF(#REF!/P26=0,"",#REF!/P26))
B47: =B48-1 -> 2007 | C47: =C46+1 -> 2 | D47: =IF(ISERROR(E27/D27),"",IF(E27/D27=0,"",E27/D27)) -> 1.3767399 | E47: =IF(ISERROR(F27/E27),"",IF(F27/E27=0,"",F27/E27)) -> 1.0274148 | F47: =IF(ISERROR(G27/F27),"",IF(G27/F27=0,"",G27/F27)) -> 1.0057846 | G47: =IF(ISERROR(H27/G27),"",IF(H27/G27=0,"",H27/G27)) -> 1.0103507 | H47: =IF(ISERROR(I27/H27),"",IF(I27/H27=0,"",I27/H27)) -> 1.0054186 | I47: =IF(ISERROR(J27/I27),"",IF(J27/I27=0,"",J27/I27)) -> 1.0002099 | J47: =IF(ISERROR(K27/J27),"",IF(K27/J27=0,"",K27/J27)) -> 1.0001116 | K47: =IF(ISERROR(L27/K27),"",IF(L27/K27=0,"",L27/K27)) -> 0.9997545 | ... O47: =IF(ISERROR(P27/O27),"",IF(P27/O27=0,"",P27/O27)) | P47: =IF(ISERROR(#REF!/P27),"",IF(#REF!/P27=0,"",#REF!/P27))
B48: =B49-1 -> 2008 | C48: =C47+1 -> 3 | D48: =IF(ISERROR(E28/D28),"",IF(E28/D28=0,"",E28/D28)) -> 1.373846 | E48: =IF(ISERROR(F28/E28),"",IF(F28/E28=0,"",F28/E28)) -> 1.0224938 | F48: =IF(ISERROR(G28/F28),"",IF(G28/F28=0,"",G28/F28)) -> 1.0249101 | G48: =IF(ISERROR(H28/G28),"",IF(H28/G28=0,"",H28/G28)) -> 1.0155744 | H48: =IF(ISERROR(I28/H28),"",IF(I28/H28=0,"",I28/H28)) -> 1.0012843 | I48: =IF(ISERROR(J28/I28),"",IF(J28/I28=0,"",J28/I28)) -> 0.99999106 | J48: =IF(ISERROR(K28/J28),"",IF(K28/J28=0,"",K28/J28)) -> 0.99928939 | K48: =IF(ISERROR(L28/K28),"",IF(L28/K28=0,"",L28/K28)) -> 0.99996422 | ... O48: =IF(ISERROR(P28/O28),"",IF(P28/O28=0,"",P28/O28)) | P48: =IF(ISERROR(#REF!/P28),"",IF(#REF!/P28=0,"",#REF!/P28))
B49: =B50-1 -> 2009 | C49: =C48+1 -> 4 | D49: =IF(ISERROR(E29/D29),"",IF(E29/D29=0,"",E29/D29)) -> 1.4397426 | E49: =IF(ISERROR(F29/E29),"",IF(F29/E29=0,"",F29/E29)) -> 1.0231117 | F49: =IF(ISERROR(G29/F29),"",IF(G29/F29=0,"",G29/F29)) -> 1.0078374 | G49: =IF(ISERROR(H29/G29),"",IF(H29/G29=0,"",H29/G29)) -> 1.0025828 | H49: =IF(ISERROR(I29/H29),"",IF(I29/H29=0,"",I29/H29)) -> 0.99976242 | I49: =IF(ISERROR(J29/I29),"",IF(J29/I29=0,"",J29/I29)) -> 0.99978566 | J49: =IF(ISERROR(K29/J29),"",IF(K29/J29=0,"",K29/J29)) -> 0.99962715 | K49: =IF(ISERROR(L29/K29),"",IF(L29/K29=0,"",L29/K29)) -> 0.99988344 | ... O49: =IF(ISERROR(P29/O29),"",IF(P29/O29=0,"",P29/O29)) | P49: =IF(ISERROR(#REF!/P29),"",IF(#REF!/P29=0,"",#REF!/P29))
B50: =B51-1 -> 2010 | C50: =C49+1 -> 5 | D50: =IF(ISERROR(E30/D30),"",IF(E30/D30=0,"",E30/D30)) -> 1.4394693 | E50: =IF(ISERROR(F30/E30),"",IF(F30/E30=0,"",F30/E30)) -> 1.021741 | F50: =IF(ISERROR(G30/F30),"",IF(G30/F30=0,"",G30/F30)) -> 1.0085029 | G50: =IF(ISERROR(H30/G30),"",IF(H30/G30=0,"",H30/G30)) -> 1.0091674 | H50: =IF(ISERROR(I30/H30),"",IF(I30/H30=0,"",I30/H30)) -> 1.0129426 | I50: =IF(ISERROR(J30/I30),"",IF(J30/I30=0,"",J30/I30)) -> 1.0013362 | J50: =IF(ISERROR(K30/J30),"",IF(K30/J30=0,"",K30/J30)) -> 1.0024245 | K50: =IF(ISERROR(L30/K30),"",IF(L30/K30=0,"",L30/K30)) -> 1.000009 | ... O50: =IF(ISERROR(P30/O30),"",IF(P30/O30=0,"",P30/O30)) | P50: =IF(ISERROR(#REF!/P30),"",IF(#REF!/P30=0,"",#REF!/P30))
B51: =B52-1 -> 2011 | C51: =C50+1 -> 6 | D51: =IF(ISERROR(E31/D31),"",IF(E31/D31=0,"",E31/D31)) -> 1.4368489 | E51: =IF(ISERROR(F31/E31),"",IF(F31/E31=0,"",F31/E31)) -> 1.0214245 | F51: =IF(ISERROR(G31/F31),"",IF(G31/F31=0,"",G31/F31)) -> 1.0047112 | G51: =IF(ISERROR(H31/G31),"",IF(H31/G31=0,"",H31/G31)) -> 1.0074818 | H51: =IF(ISERROR(I31/H31),"",IF(I31/H31=0,"",I31/H31)) -> 1.0079567 | I51: =IF(ISERROR(J31/I31),"",IF(J31/I31=0,"",J31/I31)) -> 1.0004753 | J51: =IF(ISERROR(K31/J31),"",IF(K31/J31=0,"",K31/J31)) -> 1.0001154 | K51: =IF(ISERROR(L31/K31),"",IF(L31/K31=0,"",L31/K31)) | ... O51: =IF(ISERROR(P31/O31),"",IF(P31/O31=0,"",P31/O31)) | P51: =IF(ISERROR(#REF!/P31),"",IF(#REF!/P31=0,"",#REF!/P31))
B52: =B53-1 -> 2012 | C52: =C51+1 -> 7 | D52: =IF(ISERROR(E32/D32),"",IF(E32/D32=0,"",E32/D32)) -> 1.4351448 | E52: =IF(ISERROR(F32/E32),"",IF(F32/E32=0,"",F32/E32)) -> 1.0237757 | F52: =IF(ISERROR(G32/F32),"",IF(G32/F32=0,"",G32/F32)) -> 1.00988 | G52: =IF(ISERROR(H32/G32),"",IF(H32/G32=0,"",H32/G32)) -> 1.0010181 | H52: =IF(ISERROR(I32/H32),"",IF(I32/H32=0,"",I32/H32)) -> 1.0010653 | I52: =IF(ISERROR(J32/I32),"",IF(J32/I32=0,"",J32/I32)) -> 1.0001075 | J52: =IF(ISERROR(K32/J32),"",IF(K32/J32=0,"",K32/J32)) | K52: =IF(ISERROR(L32/K32),"",IF(L32/K32=0,"",L32/K32)) | ... O52: =IF(ISERROR(P32/O32),"",IF(P32/O32=0,"",P32/O32)) | P52: =IF(ISERROR(#REF!/P32),"",IF(#REF!/P32=0,"",#REF!/P32))
B53: =B54-1 -> 2013 | C53: =C52+1 -> 8 | D53: =IF(ISERROR(E33/D33),"",IF(E33/D33=0,"",E33/D33)) -> 1.4852005 | E53: =IF(ISERROR(F33/E33),"",IF(F33/E33=0,"",F33/E33)) -> 1.0217307 | F53: =IF(ISERROR(G33/F33),"",IF(G33/F33=0,"",G33/F33)) -> 1.0072123 | G53: =IF(ISERROR(H33/G33),"",IF(H33/G33=0,"",H33/G33)) -> 1.003091 | H53: =IF(ISERROR(I33/H33),"",IF(I33/H33=0,"",I33/H33)) -> 1.0002356 | I53: =IF(ISERROR(J33/I33),"",IF(J33/I33=0,"",J33/I33)) | J53: =IF(ISERROR(K33/J33),"",IF(K33/J33=0,"",K33/J33)) | K53: =IF(ISERROR(L33/K33),"",IF(L33/K33=0,"",L33/K33)) | ... O53: =IF(ISERROR(P33/O33),"",IF(P33/O33=0,"",P33/O33)) | P53: =IF(ISERROR(#REF!/P33),"",IF(#REF!/P33=0,"",#REF!/P33))
B54: =B55-1 -> 2014 | C54: =C53+1 -> 9 | D54: =IF(ISERROR(E34/D34),"",IF(E34/D34=0,"",E34/D34)) -> 1.4734801 | E54: =IF(ISERROR(F34/E34),"",IF(F34/E34=0,"",F34/E34)) -> 1.0281648 | F54: =IF(ISERROR(G34/F34),"",IF(G34/F34=0,"",G34/F34)) -> 1.0326653 | G54: =IF(ISERROR(H34/G34),"",IF(H34/G34=0,"",H34/G34)) -> 1.004464 | H54: =IF(ISERROR(I34/H34),"",IF(I34/H34=0,"",I34/H34)) | I54: =IF(ISERROR(J34/I34),"",IF(J34/I34=0,"",J34/I34)) | J54: =IF(ISERROR(K34/J34),"",IF(K34/J34=0,"",K34/J34)) | K54: =IF(ISERROR(L34/K34),"",IF(L34/K34=0,"",L34/K34)) | ... O54: =IF(ISERROR(P34/O34),"",IF(P34/O34=0,"",P34/O34)) | P54: =IF(ISERROR(#REF!/P34),"",IF(#REF!/P34=0,"",#REF!/P34))
B55: =B56-1 -> 2015 | C55: =C54+1 -> 10 | D55: =IF(ISERROR(E35/D35),"",IF(E35/D35=0,"",E35/D35)) -> 1.5187818 | E55: =IF(ISERROR(F35/E35),"",IF(F35/E35=0,"",F35/E35)) -> 1.0896451 | F55: =IF(ISERROR(G35/F35),"",IF(G35/F35=0,"",G35/F35)) -> 1.0135598 | G55: =IF(ISERROR(H35/G35),"",IF(H35/G35=0,"",H35/G35)) | H55: =IF(ISERROR(I35/H35),"",IF(I35/H35=0,"",I35/H35)) | I55: =IF(ISERROR(J35/I35),"",IF(J35/I35=0,"",J35/I35)) | J55: =IF(ISERROR(K35/J35),"",IF(K35/J35=0,"",K35/J35)) | K55: =IF(ISERROR(L35/K35),"",IF(L35/K35=0,"",L35/K35)) | ... O55: =IF(ISERROR(P35/O35),"",IF(P35/O35=0,"",P35/O35)) | P55: =IF(ISERROR(#REF!/P35),"",IF(#REF!/P35=0,"",#REF!/P35))
B56: =B57-1 -> 2016 | C56: =C55+1 -> 11 | D56: =IF(ISERROR(E36/D36),"",IF(E36/D36=0,"",E36/D36)) -> 1.4634038 | E56: =IF(ISERROR(F36/E36),"",IF(F36/E36=0,"",F36/E36)) -> 1.0278215 | F56: =IF(ISERROR(G36/F36),"",IF(G36/F36=0,"",G36/F36)) | G56: =IF(ISERROR(H36/G36),"",IF(H36/G36=0,"",H36/G36)) | H56: =IF(ISERROR(I36/H36),"",IF(I36/H36=0,"",I36/H36)) | I56: =IF(ISERROR(J36/I36),"",IF(J36/I36=0,"",J36/I36)) | J56: =IF(ISERROR(K36/J36),"",IF(K36/J36=0,"",K36/J36)) | K56: =IF(ISERROR(L36/K36),"",IF(L36/K36=0,"",L36/K36)) | ... O56: =IF(ISERROR(P36/O36),"",IF(P36/O36=0,"",P36/O36)) | P56: =IF(ISERROR(#REF!/P36),"",IF(#REF!/P36=0,"",#REF!/P36))
B57: =B38-1 -> 2017 | C57: =C56+1 -> 12 | D57: =IF(ISERROR(E37/D37),"",IF(E37/D37=0,"",E37/D37)) -> 1.4472557 | E57: =IF(ISERROR(F37/E37),"",IF(F37/E37=0,"",F37/E37)) | F57: =IF(ISERROR(G37/F37),"",IF(G37/F37=0,"",G37/F37)) | G57: =IF(ISERROR(H37/G37),"",IF(H37/G37=0,"",H37/G37)) | H57: =IF(ISERROR(I37/H37),"",IF(I37/H37=0,"",I37/H37)) | I57: =IF(ISERROR(J37/I37),"",IF(J37/I37=0,"",J37/I37)) | J57: =IF(ISERROR(K37/J37),"",IF(K37/J37=0,"",K37/J37)) | K57: =IF(ISERROR(L37/K37),"",IF(L37/K37=0,"",L37/K37)) | ... O57: =IF(ISERROR(P37/O37),"",IF(P37/O37=0,"",P37/O37)) | P57: =IF(ISERROR(#REF!/P37),"",IF(#REF!/P37=0,"",#REF!/P37))
B58: Wtd Avg ATA fd | D58: {=IFERROR(SUMPRODUCT(E$26:E$38, --($C$26:$C$38<$M$1+1-D$25))/SUMPRODUCT(D$26:D$38, --($C$26:$C$38<$M$1+1-D$25)), 1)} -> 1.4374904 | E58: {=IFERROR(SUMPRODUCT(F$26:F$38, --($C$26:$C$38<$M$1+1-E$25))/SUMPRODUCT(E$26:E$38, --($C$26:$C$38<$M$1+1-E$25)), 1)} -> 1.0309305 | F58: {=IFERROR(SUMPRODUCT(G$26:G$38, --($C$26:$C$38<$M$1+1-F$25))/SUMPRODUCT(F$26:F$38, --($C$26:$C$38<$M$1+1-F$25)), 1)} -> 1.0119121 | G58: {=IFERROR(SUMPRODUCT(H$26:H$38, --($C$26:$C$38<$M$1+1-G$25))/SUMPRODUCT(G$26:G$38, --($C$26:$C$38<$M$1+1-G$25)), 1)} -> 1.0059611 | H58: {=IFERROR(SUMPRODUCT(I$26:I$38, --($C$26:$C$38<$M$1+1-H$25))/SUMPRODUCT(H$26:H$38, --($C$26:$C$38<$M$1+1-H$25)), 1)} -> 1.0048558 | I58: {=IFERROR(SUMPRODUCT(J$26:J$38, --($C$26:$C$38<$M$1+1-I$25))/SUMPRODUCT(I$26:I$38, --($C$26:$C$38<$M$1+1-I$25)), 1)} -> 1.0002884 | J58: {=IFERROR(SUMPRODUCT(K$26:K$38, --($C$26:$C$38<$M$1+1-J$25))/SUMPRODUCT(J$26:J$38, --($C$26:$C$38<$M$1+1-J$25)), 1)} -> 1.0002697 | K58: {=IFERROR(SUMPRODUCT(L$26:L$38, --($C$26:$C$38<$M$1+1-K$25))/SUMPRODUCT(K$26:K$38, --($C$26:$C$38<$M$1+1-K$25)), 1)} -> 0.99983566 | ... P58: {=IFERROR(SUMPRODUCT(Q$26:Q$38, --($C$26:$C$38<$M$1+1-P$25))/SUMPRODUCT(P$26:P$38, --($C$26:$C$38<$M$1+1-P$25)), 1)} -> 1
B59: ATU Fd | D59: =D58*E59 -> 1.5165482 | E59: =E58*F59 -> 1.0549971 | F59: =F58*G59 -> 1.0233446 | G59: =G58*H59 -> 1.0112979 | H59: =H58*I59 -> 1.0053052 | I59: =I58*J59 -> 1.0004472 | J59: =J58*K59 -> 1.0001587 | K59: =K58*L59 -> 0.99988907 | ... O59: =O58*P59 -> 1 | P59: =P58 -> 1
B61: =$B$1 -> Study 1
B62: Mack and Merz-Wuthrich Completed Cumulative Triangle
B63: AY | C63: AY # | D63: 1 | E63: =D63+1 -> 2 | F63: =E63+1 -> 3 | G63: =F63+1 -> 4 | H63: =G63+1 -> 5 | I63: =H63+1 -> 6 | J63: =I63+1 -> 7 | K63: =J63+1 -> 8 | L63: =K63+1 -> 9 | ... P63: =O63+1 -> 13
B64: =B65-1 -> 2006 | C64: 1 | P64: =IF(P26="","",P26) -> 223558
B65: =B66-1 -> 2007 | C65: =C64+1 -> 2 | O65: =IF(O27="","",O27) -> 224036 | P65: =IF(O27="","",O27*OFFSET($C$58,0,MATCH(O$63,$D$63:$P$63,0))) -> 224036
B66: =B67-1 -> 2008 | C66: =C65+1 -> 3 | N66: =IF(N28="","",N28) -> 223697 | O66: =IF(N28="","",N28*OFFSET($C$58,0,MATCH(N$63,$D$63:$P$63,0))) -> 223697 | P66: =IF(P$63>$J$1+1,"",IF(O66="","",O66*OFFSET($C$58,0,MATCH(O$63,$D$63:$P$63,0)))) -> 223697
B67: =B68-1 -> 2009 | C67: =C66+1 -> 4 | M67: =IF(M29="","",M29) -> 214459 | N67: =IF(M29="","",M29*OFFSET($C$58,0,MATCH(M$63,$D$63:$P$63,0))) -> 214444.31 | O67: =IF(O$63>$J$1+1,"",IF(N67="","",N67*OFFSET($C$58,0,MATCH(N$63,$D$63:$P$63,0)))) -> 214444.31 | P67: =IF(P$63>$J$1+1,"",IF(O67="","",O67*OFFSET($C$58,0,MATCH(O$63,$D$63:$P$63,0)))) -> 214444.31
B68: =B69-1 -> 2010 | C68: =C67+1 -> 5 | L68: =IF(L30="","",L30) -> 221616 | M68: =IF(L30="","",L30*OFFSET($C$58,0,MATCH(L$63,$D$63:$P$63,0))) -> 221643.02 | N68: =IF(N$63>$J$1+1,"",IF(M68="","",M68*OFFSET($C$58,0,MATCH(M$63,$D$63:$P$63,0)))) -> 221627.84 | O68: =IF(O$63>$J$1+1,"",IF(N68="","",N68*OFFSET($C$58,0,MATCH(N$63,$D$63:$P$63,0)))) -> 221627.84 | P68: =IF(P$63>$J$1+1,"",IF(O68="","",O68*OFFSET($C$58,0,MATCH(O$63,$D$63:$P$63,0)))) -> 221627.84
B69: =B70-1 -> 2011 | C69: =C68+1 -> 6 | K69: =IF(K31="","",K31) -> 294705 | L69: =IF(K31="","",K31*OFFSET($C$58,0,MATCH(K$63,$D$63:$P$63,0))) -> 294656.57 | M69: =IF(M$63>$J$1+1,"",IF(L69="","",L69*OFFSET($C$58,0,MATCH(L$63,$D$63:$P$63,0)))) -> 294692.5 | N69: =IF(N$63>$J$1+1,"",IF(M69="","",M69*OFFSET($C$58,0,MATCH(M$63,$D$63:$P$63,0)))) -> 294672.31 | O69: =IF(O$63>$J$1+1,"",IF(N69="","",N69*OFFSET($C$58,0,MATCH(N$63,$D$63:$P$63,0)))) -> 294672.31 | P69: =IF(P$63>$J$1+1,"",IF(O69="","",O69*OFFSET($C$58,0,MATCH(O$63,$D$63:$P$63,0)))) -> 294672.31
B70: =B71-1 -> 2012 | C70: =C69+1 -> 7 | J70: =IF(J32="","",J32) -> 269720 | K70: =IF(J32="","",J32*OFFSET($C$58,0,MATCH(J$63,$D$63:$P$63,0))) -> 269792.73 | L70: =IF(L$63>$J$1+1,"",IF(K70="","",K70*OFFSET($C$58,0,MATCH(K$63,$D$63:$P$63,0)))) -> 269748.39 | M70: =IF(M$63>$J$1+1,"",IF(L70="","",L70*OFFSET($C$58,0,MATCH(L$63,$D$63:$P$63,0)))) -> 269781.29 | N70: =IF(N$63>$J$1+1,"",IF(M70="","",M70*OFFSET($C$58,0,MATCH(M$63,$D$63:$P$63,0)))) -> 269762.8 | O70: =IF(O$63>$J$1+1,"",IF(N70="","",N70*OFFSET($C$58,0,MATCH(N$63,$D$63:$P$63,0)))) -> 269762.8 | P70: =IF(P$63>$J$1+1,"",IF(O70="","",O70*OFFSET($C$58,0,MATCH(O$63,$D$63:$P$63,0)))) -> 269762.8
B71: =B72-1 -> 2013 | C71: =C70+1 -> 8 | I71: =IF(I33="","",I33) -> 271688 | J71: =IF(I33="","",I33*OFFSET($C$58,0,MATCH(I$63,$D$63:$P$63,0))) -> 271766.37 | K71: =IF(K$63>$J$1+1,"",IF(J71="","",J71*OFFSET($C$58,0,MATCH(J$63,$D$63:$P$63,0)))) -> 271839.65 | L71: =IF(L$63>$J$1+1,"",IF(K71="","",K71*OFFSET($C$58,0,MATCH(K$63,$D$63:$P$63,0)))) -> 271794.97 | M71: =IF(M$63>$J$1+1,"",IF(L71="","",L71*OFFSET($C$58,0,MATCH(L$63,$D$63:$P$63,0)))) -> 271828.12 | N71: =IF(N$63>$J$1+1,"",IF(M71="","",M71*OFFSET($C$58,0,MATCH(M$63,$D$63:$P$63,0)))) -> 271809.49 | O71: =IF(O$63>$J$1+1,"",IF(N71="","",N71*OFFSET($C$58,0,MATCH(N$63,$D$63:$P$63,0)))) -> 271809.49 | P71: =IF(P$63>$J$1+1,"",IF(O71="","",O71*OFFSET($C$58,0,MATCH(O$63,$D$63:$P$63,0)))) -> 271809.49
B72: =B73-1 -> 2014 | C72: =C71+1 -> 9 | H72: =IF(H34="","",H34) -> 245940 | I72: =IF(H34="","",H34*OFFSET($C$58,0,MATCH(H$63,$D$63:$P$63,0))) -> 247134.24 | J72: =IF(J$63>$J$1+1,"",IF(I72="","",I72*OFFSET($C$58,0,MATCH(I$63,$D$63:$P$63,0)))) -> 247205.52 | K72: =IF(K$63>$J$1+1,"",IF(J72="","",J72*OFFSET($C$58,0,MATCH(J$63,$D$63:$P$63,0)))) -> 247272.18 | L72: =IF(L$63>$J$1+1,"",IF(K72="","",K72*OFFSET($C$58,0,MATCH(K$63,$D$63:$P$63,0)))) -> 247231.55 | M72: =IF(M$63>$J$1+1,"",IF(L72="","",L72*OFFSET($C$58,0,MATCH(L$63,$D$63:$P$63,0)))) -> 247261.69 | N72: =IF(N$63>$J$1+1,"",IF(M72="","",M72*OFFSET($C$58,0,MATCH(M$63,$D$63:$P$63,0)))) -> 247244.75 | O72: =IF(O$63>$J$1+1,"",IF(N72="","",N72*OFFSET($C$58,0,MATCH(N$63,$D$63:$P$63,0)))) -> 247244.75 | P72: =IF(P$63>$J$1+1,"",IF(O72="","",O72*OFFSET($C$58,0,MATCH(O$63,$D$63:$P$63,0)))) -> 247244.75
B73: =B74-1 -> 2015 | C73: =C72+1 -> 10 | G73: =IF(G35="","",G35) -> 264755 | H73: =IF(G35="","",G35*OFFSET($C$58,0,MATCH(G$63,$D$63:$P$63,0))) -> 266333.23 | I73: =IF(I$63>$J$1+1,"",IF(H73="","",H73*OFFSET($C$58,0,MATCH(H$63,$D$63:$P$63,0)))) -> 267626.5 | J73: =IF(J$63>$J$1+1,"",IF(I73="","",I73*OFFSET($C$58,0,MATCH(I$63,$D$63:$P$63,0)))) -> 267703.69 | K73: =IF(K$63>$J$1+1,"",IF(J73="","",J73*OFFSET($C$58,0,MATCH(J$63,$D$63:$P$63,0)))) -> 267775.88 | L73: =IF(L$63>$J$1+1,"",IF(K73="","",K73*OFFSET($C$58,0,MATCH(K$63,$D$63:$P$63,0)))) -> 267731.87 | M73: =IF(M$63>$J$1+1,"",IF(L73="","",L73*OFFSET($C$58,0,MATCH(L$63,$D$63:$P$63,0)))) -> 267764.52 | N73: =IF(N$63>$J$1+1,"",IF(M73="","",M73*OFFSET($C$58,0,MATCH(M$63,$D$63:$P$63,0)))) -> 267746.17 | O73: =IF(O$63>$J$1+1,"",IF(N73="","",N73*OFFSET($C$58,0,MATCH(N$63,$D$63:$P$63,0)))) -> 267746.17 | P73: =IF(P$63>$J$1+1,"",IF(O73="","",O73*OFFSET($C$58,0,MATCH(O$63,$D$63:$P$63,0)))) -> 267746.17
B74: =B75-1 -> 2016 | C74: =C73+1 -> 11 | F74: =IF(F36="","",F36) -> 239800 | G74: =IF(F36="","",F36*OFFSET($C$58,0,MATCH(F$63,$D$63:$P$63,0))) -> 242656.52 | H74: =IF(H$63>$J$1+1,"",IF(G74="","",G74*OFFSET($C$58,0,MATCH(G$63,$D$63:$P$63,0)))) -> 244103.02 | I74: =IF(I$63>$J$1+1,"",IF(H74="","",H74*OFFSET($C$58,0,MATCH(H$63,$D$63:$P$63,0)))) -> 245288.34 | J74: =IF(J$63>$J$1+1,"",IF(I74="","",I74*OFFSET($C$58,0,MATCH(I$63,$D$63:$P$63,0)))) -> 245359.1 | K74: =IF(K$63>$J$1+1,"",IF(J74="","",J74*OFFSET($C$58,0,MATCH(J$63,$D$63:$P$63,0)))) -> 245425.26 | L74: =IF(L$63>$J$1+1,"",IF(K74="","",K74*OFFSET($C$58,0,MATCH(K$63,$D$63:$P$63,0)))) -> 245384.93 | M74: =IF(M$63>$J$1+1,"",IF(L74="","",L74*OFFSET($C$58,0,MATCH(L$63,$D$63:$P$63,0)))) -> 245414.85 | N74: =IF(N$63>$J$1+1,"",IF(M74="","",M74*OFFSET($C$58,0,MATCH(M$63,$D$63:$P$63,0)))) -> 245398.03 | O74: =IF(O$63>$J$1+1,"",IF(N74="","",N74*OFFSET($C$58,0,MATCH(N$63,$D$63:$P$63,0)))) -> 245398.03 | P74: =IF(P$63>$J$1+1,"",IF(O74="","",O74*OFFSET($C$58,0,MATCH(O$63,$D$63:$P$63,0)))) -> 245398.03
B75: =B76-1 -> 2017 | C75: =C74+1 -> 12 | E75: =IF(E37="","",E37) -> 246019 | F75: =IF(E37="","",E37*OFFSET($C$58,0,MATCH(E$63,$D$63:$P$63,0))) -> 253628.49 | G75: =IF(G$63>$J$1+1,"",IF(F75="","",F75*OFFSET($C$58,0,MATCH(F$63,$D$63:$P$63,0)))) -> 256649.74 | H75: =IF(H$63>$J$1+1,"",IF(G75="","",G75*OFFSET($C$58,0,MATCH(G$63,$D$63:$P$63,0)))) -> 258179.66 | I75: =IF(I$63>$J$1+1,"",IF(H75="","",H75*OFFSET($C$58,0,MATCH(H$63,$D$63:$P$63,0)))) -> 259433.33 | J75: =IF(J$63>$J$1+1,"",IF(I75="","",I75*OFFSET($C$58,0,MATCH(I$63,$D$63:$P$63,0)))) -> 259508.16 | K75: =IF(K$63>$J$1+1,"",IF(J75="","",J75*OFFSET($C$58,0,MATCH(J$63,$D$63:$P$63,0)))) -> 259578.14 | L75: =IF(L$63>$J$1+1,"",IF(K75="","",K75*OFFSET($C$58,0,MATCH(K$63,$D$63:$P$63,0)))) -> 259535.48 | M75: =IF(M$63>$J$1+1,"",IF(L75="","",L75*OFFSET($C$58,0,MATCH(L$63,$D$63:$P$63,0)))) -> 259567.13 | N75: =IF(N$63>$J$1+1,"",IF(M75="","",M75*OFFSET($C$58,0,MATCH(M$63,$D$63:$P$63,0)))) -> 259549.34 | ... P75: =IF(P$63>$J$1+1,"",IF(O75="","",O75*OFFSET($C$58,0,MATCH(O$63,$D$63:$P$63,0)))) -> 259549.34
B76: =+$B$38 -> 2018 | C76: =C75+1 -> 13 | D76: =IF(D38="","",D38) -> 173377 | E76: =IF(D38="","",D38*OFFSET($C$58,0,MATCH(D$63,$D$63:$P$63,0))) -> 249227.77 | F76: =IF(F$63>$J$1+1,"",IF(E76="","",E76*OFFSET($C$58,0,MATCH(E$63,$D$63:$P$63,0)))) -> 256936.51 | G76: =IF(G$63>$J$1+1,"",IF(F76="","",F76*OFFSET($C$58,0,MATCH(F$63,$D$63:$P$63,0)))) -> 259997.16 | H76: =IF(H$63>$J$1+1,"",IF(G76="","",G76*OFFSET($C$58,0,MATCH(G$63,$D$63:$P$63,0)))) -> 261547.03 | I76: =IF(I$63>$J$1+1,"",IF(H76="","",H76*OFFSET($C$58,0,MATCH(H$63,$D$63:$P$63,0)))) -> 262817.06 | J76: =IF(J$63>$J$1+1,"",IF(I76="","",I76*OFFSET($C$58,0,MATCH(I$63,$D$63:$P$63,0)))) -> 262892.86 | K76: =IF(K$63>$J$1+1,"",IF(J76="","",J76*OFFSET($C$58,0,MATCH(J$63,$D$63:$P$63,0)))) -> 262963.75 | L76: =IF(L$63>$J$1+1,"",IF(K76="","",K76*OFFSET($C$58,0,MATCH(K$63,$D$63:$P$63,0)))) -> 262920.54 | M76: =IF(M$63>$J$1+1,"",IF(L76="","",L76*OFFSET($C$58,0,MATCH(L$63,$D$63:$P$63,0)))) -> 262952.6 | ... P76: =IF(P$63>$J$1+1,"",IF(O76="","",O76*OFFSET($C$58,0,MATCH(O$63,$D$63:$P$63,0)))) -> 262934.58
B78: =$B$1 -> Study 1
B79: Mack and Merz-Wuthrich Variance Parameter sd2
B80: AY | C80: AY # | D80: =D45 -> 1 - 2 | E80: =E45 -> 2 - 3 | F80: =F45 -> 3 - 4 | G80: =G45 -> 4 - 5 | H80: =H45 -> 5 - 6 | I80: =I45 -> 6 - 7 | J80: =J45 -> 7 - 8 | K80: =K45 -> 8 - 9 | ... P80: =P45 -> 13 - Ult
