Workbook
Name IQ_CH: 110000
Name IQ_CQ: 5000
Name IQ_CY: 10000
Name IQ_DAILY: 500000
Name IQ_FH: 100000
Name IQ_FQ: 500
Name IQ_FY: 1000
Name IQ_LTM: 2000
Name IQ_MONTH: 15000
Name IQ_NTM: 6000
Name IQ_WEEK: 50000
Name IQ_YTD: 3000

Sheet Illustrative 6x6
B1: Illustrative 6x6 | I1: # Active AYs | J1: =COUNTIF(E40:E52, ">0") -> 6 | L1: # of AYs | M1: =COUNT(B40:B52) -> 13
B3: =$B$1 -> Illustrative 6x6
B4: =$B$1&" Feng-Robbin and Rehman-Klugman Standard Errors, All AYs Combined" -> Illustrative 6x6 Feng-Robbin and Rehman-Klugman Standard Errors, All AYs Combined
B5: Method | D5: Run-off Mean | E5: 1 Yr Mean | F5: Run-off Variance | G5: 1 Yr Variance | H5: Total Run-off Standard Error | I5: Total Run-off CV of Reserve | J5: 1-year Standard Error | K5: 1-year CV of Reserve | L5: Parameter Error Ult | M5: Parameter Error 1 Yr | N5: Total Incl. Para Ult | O5: Total Incl. Para 1 Yr
D6: ω | E6: α | F6: λ2 | G6: θ2
D7: Eq. (3.13) | E7: Eq. (3.19) | F7: Eq. (3.14) | G7: Eq. (3.20) | H7: Eq. (3.15) | J7: Eq. (3.21)
B8: Feng-Robbin
B9: Full Adjustment | D9: =SUMPRODUCT(J40:J52, L40:L52) -> -0.057055681 | E9: =SUMPRODUCT(J40:J52, M40:M52) -> -0.007636699 | F9: {=MMULT(TRANSPOSE(S183:S195), MMULT(D183:P195, S183:S195))} -> 0.0068975387 | G9: {=MMULT(TRANSPOSE(R183:R195), MMULT(D183:P195, R183:R195))} -> 0.00051020462 | H9: =$E$53*SQRT(EXP(2*D9+2*F9)-EXP(2*D9+F9)) -> 429.58816 | I9: =IFERROR(H9/$G$53,"") -> 0.88030361 | J9: =$E$53*SQRT(EXP(2*E9+2*G9)-EXP(2*E9+G9)) -> 122.1684 | K9: =IFERROR(J9/$G$53,"") -> 0.25034509 | L9: =SQRT(SUMSQ(L18:L31)) -> 190.13077 | M9: =SQRT(SUMSQ(M18:M31)) -> 192.77872 | N9: =SQRT(L9^2+H9^2) -> 469.78261 | O9: =SQRT(M9^2+J9^2) -> 228.22961
B10: Diagonal Calibrated | D10: =SUMPRODUCT(J40:J52, L40:L52) -> -0.057055681 | E10: =SUMPRODUCT(J40:J52, M40:M52) -> -0.007636699 | F10: {=MMULT(TRANSPOSE(S166:S178), MMULT(D166:P178, S166:S178))} -> 0.02617407 | G10: {=MMULT(TRANSPOSE(R166:R178), MMULT(D166:P178, R166:R178))} -> 0.0025932001 | H10: =$E$53*SQRT(EXP(2*D10+2*F10)-EXP(2*D10+F10)) -> 849.03462 | I10: =IFERROR(H10/$G$53,"") -> 1.739825 | J10: =$E$53*SQRT(EXP(2*E10+2*G10)-EXP(2*E10+G10)) -> 275.85652 | K10: =IFERROR(J10/$G$53,"") -> 0.56527976 | L10: =L9 -> 190.13077 | M10: =M9 -> 192.77872 | N10: =SQRT(L10^2+H10^2) -> 870.06293 | O10: =SQRT(M10^2+J10^2) -> 336.54191
B11: Fill-in | D11: =SUMPRODUCT(J40:J52, L40:L52) -> -0.057055681 | E11: =SUMPRODUCT(J40:J52, M40:M52) -> -0.007636699 | F11: {=MMULT(TRANSPOSE(S149:S161), MMULT(D149:P161, S149:S161))} -> 0.0014867193 | G11: {=MMULT(TRANSPOSE(R149:R161), MMULT(D149:P161, R149:R161))} -> 0.0005231468 | H11: =$E$53*SQRT(EXP(2*D11+2*F11)-EXP(2*D11+F11)) -> 198.63551 | I11: =IFERROR(H11/$G$53,"") -> 0.40703998 | J11: =$E$53*SQRT(EXP(2*E11+2*G11)-EXP(2*E11+G11)) -> 123.7094 | K11: =IFERROR(J11/$G$53,"") -> 0.25350288 | L11: =L9 -> 190.13077 | M11: =M9 -> 192.77872 | N11: =SQRT(L11^2+H11^2) -> 274.96505 | O11: =SQRT(M11^2+J11^2) -> 229.05818
B12: Rehman-Klugman
B13: λ2 using Eq. (7.01) | D13: =SUMPRODUCT(J40:J52, L40:L52) -> -0.057055681 | E13: n/a | F13: =SUMPRODUCT(J40:J52,J40:J52,T132:T144) -> -0.0004229984 | G13: n/a | H13: =$E$53*SQRT(EXP(2*D13+2*F13)-EXP(2*D13+F13)) -> #NUM! | I13: =IFERROR(H13/$G$53,"") | J13: n/a | K13: n/a | L13: n/a | M13: n/a | N13: n/a | O13: n/a
B15: =$B$1 -> Illustrative 6x6
B16: =$B$1&" Feng-Robbin Standard Errors by Accident Year" -> Illustrative 6x6 Feng-Robbin Standard Errors by Accident Year
B17: AY | C17: AY # | D17: Dev Age | E17: Diagonal Ult | F17: Paid | G17: Reserve | H17: Total Run-off Standard Error | I17: Total Run-off CV of Reserve | J17: 1-year Standard Error | K17: 1-year CV of Reserve | L17: Parameter Error Ult | M17: Parameter Error 1 Yr | N17: Total Incl. Para Ult | O17: Total Incl. Para 1 Yr
C18: y | D18: d | E18: Uy, Y-d+1 | F18: Cy, Y-d+1 | G18: Uy, Y-d+1-Cy, Y-d+1 | H18: Eq. (3.12) | J18: Eq. (3.18) | L18: Eq. (6.02) | M18: Eq. (6.01)
B19: =B40 -> 2006 | C19: =$C$40 -> 1 | D19: =$M$1-C19+1 -> 13 | E19: =Q59 -> 0 | F19: 0 | G19: =+E19-F19 -> 0 | H19: =E40*SQRT(EXP(2*L40+2*N40)-EXP(2*L40+N40)) -> 0 | I19: =IFERROR(H19/G40,"") | J19: =E40*SQRT(EXP(2*M40+2*O40)-EXP(2*M40+O40)) -> 0 | K19: =IFERROR(J19/G40,"") | L19: =ABS(I40-1)*$E40 -> 0 | M19: =ABS(H40-1)*$E40 -> 0 | N19: =SQRT(L19^2+H19^2) -> 0 | O19: =SQRT(M19^2+J19^2) -> 0
B20: =B41 -> 2007 | C20: =C19+1 -> 2 | D20: =$M$1-C20+1 -> 12 | E20: =Q60 -> 0 | F20: 0 | G20: =+E20-F20 -> 0 | H20: =E41*SQRT(EXP(2*L41+2*N41)-EXP(2*L41+N41)) -> 0 | I20: =IFERROR(H20/G41,"") | J20: =E41*SQRT(EXP(2*M41+2*O41)-EXP(2*M41+O41)) -> 0 | K20: =IFERROR(J20/G41,"") | L20: =ABS(I41-1)*$E41 -> 0 | M20: =ABS(H41-1)*E41 -> 0 | N20: =SQRT(L20^2+H20^2) -> 0 | O20: =SQRT(M20^2+J20^2) -> 0
B21: =B42 -> 2008 | C21: =C20+1 -> 3 | D21: =$M$1-C21+1 -> 11 | E21: =Q61 -> 0 | F21: 0 | G21: =+E21-F21 -> 0 | H21: =E42*SQRT(EXP(2*L42+2*N42)-EXP(2*L42+N42)) -> 0 | I21: =IFERROR(H21/G42,"") | J21: =E42*SQRT(EXP(2*M42+2*O42)-EXP(2*M42+O42)) -> 0 | K21: =IFERROR(J21/G42,"") | L21: =ABS(I42-1)*$E42 -> 0 | M21: =ABS(H42-1)*E42 -> 0 | N21: =SQRT(L21^2+H21^2) -> 0 | O21: =SQRT(M21^2+J21^2) -> 0
B22: =B43 -> 2009 | C22: =C21+1 -> 4 | D22: =$M$1-C22+1 -> 10 | E22: =Q62 -> 0 | F22: 0 | G22: =+E22-F22 -> 0 | H22: =E43*SQRT(EXP(2*L43+2*N43)-EXP(2*L43+N43)) -> 0 | I22: =IFERROR(H22/G43,"") | J22: =E43*SQRT(EXP(2*M43+2*O43)-EXP(2*M43+O43)) -> 0 | K22: =IFERROR(J22/G43,"") | L22: =ABS(I43-1)*$E43 -> 0 | M22: =ABS(H43-1)*E43 -> 0 | N22: =SQRT(L22^2+H22^2) -> 0 | O22: =SQRT(M22^2+J22^2) -> 0
B23: =B44 -> 2010 | C23: =C22+1 -> 5 | D23: =$M$1-C23+1 -> 9 | E23: =Q63 -> 0 | F23: 0 | G23: =+E23-F23 -> 0 | H23: =E44*SQRT(EXP(2*L44+2*N44)-EXP(2*L44+N44)) -> 0 | I23: =IFERROR(H23/G44,"") | J23: =E44*SQRT(EXP(2*M44+2*O44)-EXP(2*M44+O44)) -> 0 | K23: =IFERROR(J23/G44,"") | L23: =ABS(I44-1)*$E44 -> 0 | M23: =ABS(H44-1)*E44 -> 0 | N23: =SQRT(L23^2+H23^2) -> 0 | O23: =SQRT(M23^2+J23^2) -> 0
B24: =B45 -> 2011 | C24: =C23+1 -> 6 | D24: =$M$1-C24+1 -> 8 | E24: =Q64 -> 0 | F24: 0 | G24: =+E24-F24 -> 0 | H24: =E45*SQRT(EXP(2*L45+2*N45)-EXP(2*L45+N45)) -> 0 | I24: =IFERROR(H24/G45,"") | J24: =E45*SQRT(EXP(2*M45+2*O45)-EXP(2*M45+O45)) -> 0 | K24: =IFERROR(J24/G45,"") | L24: =ABS(I45-1)*$E45 -> 0 | M24: =ABS(H45-1)*E45 -> 0 | N24: =SQRT(L24^2+H24^2) -> 0 | O24: =SQRT(M24^2+J24^2) -> 0
B25: =B46 -> 2012 | C25: =C24+1 -> 7 | D25: =$M$1-C25+1 -> 7 | E25: =Q65 -> 0 | F25: 0 | G25: =+E25-F25 -> 0 | H25: =E46*SQRT(EXP(2*L46+2*N46)-EXP(2*L46+N46)) -> 0 | I25: =IFERROR(H25/G46,"") | J25: =E46*SQRT(EXP(2*M46+2*O46)-EXP(2*M46+O46)) -> 0 | K25: =IFERROR(J25/G46,"") | L25: =ABS(I46-1)*$E46 -> 0 | M25: =ABS(H46-1)*E46 -> 0 | N25: =SQRT(L25^2+H25^2) -> 0 | O25: =SQRT(M25^2+J25^2) -> 0
B26: =B47 -> 2013 | C26: =C25+1 -> 8 | D26: =$M$1-C26+1 -> 6 | E26: =Q66 -> 905 | F26: 899 | G26: =+E26-F26 -> 6 | H26: =E47*SQRT(EXP(2*L47+2*N47)-EXP(2*L47+N47)) -> 0 | I26: =IFERROR(H26/G47,"") -> 0 | J26: =E47*SQRT(EXP(2*M47+2*O47)-EXP(2*M47+O47)) -> 0 | K26: =IFERROR(J26/G47,"") -> 0 | L26: =ABS(I47-1)*$E47 -> 0 | M26: =ABS(H47-1)*E47 -> 0 | N26: =SQRT(L26^2+H26^2) -> 0 | O26: =SQRT(M26^2+J26^2) -> 0
B27: =B48 -> 2014 | C27: =C26+1 -> 9 | D27: =$M$1-C27+1 -> 5 | E27: =Q67 -> 800 | F27: 750 | G27: =+E27-F27 -> 50 | H27: =E48*SQRT(EXP(2*L48+2*N48)-EXP(2*L48+N48)) -> 0 | I27: =IFERROR(H27/G48,"") -> 0 | J27: =E48*SQRT(EXP(2*M48+2*O48)-EXP(2*M48+O48)) -> 0 | K27: =IFERROR(J27/G48,"") -> 0 | L27: =ABS(I48-1)*$E48 -> 4.3956044 | M27: =ABS(H48-1)*E48 -> 4.3956044 | N27: =SQRT(L27^2+H27^2) -> 4.3956044 | O27: =SQRT(M27^2+J27^2) -> 4.3956044
B28: =B49 -> 2015 | C28: =C27+1 -> 10 | D28: =$M$1-C28+1 -> 4 | E28: =Q68 -> 945 | F28: 900 | G28: =+E28-F28 -> 45 | H28: =E49*SQRT(EXP(2*L49+2*N49)-EXP(2*L49+N49)) -> 198.05788 | I28: =IFERROR(H28/G49,"") -> 4.4012861 | J28: =E49*SQRT(EXP(2*M49+2*O49)-EXP(2*M49+O49)) -> 199.15212 | K28: =IFERROR(J28/G49,"") -> 4.4256026 | L28: =ABS(I49-1)*$E49 -> 156.44693 | M28: =ABS(H49-1)*E49 -> 152.09028 | N28: =SQRT(L28^2+H28^2) -> 252.39367 | O28: =SQRT(M28^2+J28^2) -> 250.58536
B29: =B50 -> 2016 | C29: =C28+1 -> 11 | D29: =$M$1-C29+1 -> 3 | E29: =Q69 -> 1121 | F29: 1111 | G29: =+E29-F29 -> 10 | H29: =E50*SQRT(EXP(2*L50+2*N50)-EXP(2*L50+N50)) -> 116.10601 | I29: =IFERROR(H29/G50,"") -> 11.610601 | J29: =E50*SQRT(EXP(2*M50+2*O50)-EXP(2*M50+O50)) -> 244.95074 | K29: =IFERROR(J29/G50,"") -> 24.495074 | L29: =ABS(I50-1)*$E50 -> 92.490779 | M29: =ABS(H50-1)*E50 -> 111.56285 | N29: =SQRT(L29^2+H29^2) -> 148.44241 | O29: =SQRT(M29^2+J29^2) -> 269.16005
B30: =B51 -> 2017 | C30: =C29+1 -> 12 | D30: =$M$1-C30+1 -> 2 | E30: =Q70 -> 777 | F30: 700 | G30: =+E30-F30 -> 77 | H30: =E51*SQRT(EXP(2*L51+2*N51)-EXP(2*L51+N51)) -> 105.78022 | I30: =IFERROR(H30/G51,"") -> 1.3737691 | J30: =E51*SQRT(EXP(2*M51+2*O51)-EXP(2*M51+O51)) -> 31.697611 | K30: =IFERROR(J30/G51,"") -> 0.41165728 | L30: =ABS(I51-1)*$E51 -> 29.808361 | M30: =ABS(H51-1)*E51 -> 37.384363 | N30: =SQRT(L30^2+H30^2) -> 109.89992 | O30: =SQRT(M30^2+J30^2) -> 49.01356
B31: =B52 -> 2018 | C31: =C30+1 -> 13 | D31: =$M$1-C31+1 -> 1 | E31: =Q71 -> 900 | F31: 600 | G31: =+E31-F31 -> 300 | H31: =E52*SQRT(EXP(2*L52+2*N52)-EXP(2*L52+N52)) -> 114.57806 | I31: =IFERROR(H31/G52,"") -> 0.38192685 | J31: =E52*SQRT(EXP(2*M52+2*O52)-EXP(2*M52+O52)) -> 114.4123 | K31: =IFERROR(J31/G52,"") -> 0.38137434 | L31: =ABS(I52-1)*$E52 -> 47.028335 | M31: =ABS(H52-1)*E52 -> 13 | N31: =SQRT(L31^2+H31^2) -> 123.85393 | O31: =SQRT(M31^2+J31^2) -> 115.14849
B32: Total All AYs | E32: =SUM(E19:E31) -> 5448 | F32: =SUM(F19:F31) -> 4960 | G32: =SUM(G19:G31) -> 488
B35: =$B$1 -> Illustrative 6x6
B36: =$B$1&" Feng-Robbin Parameters by Accident Year" -> Illustrative 6x6 Feng-Robbin Parameters by Accident Year
B37: AY | C37: AY # | D37: Dev Age | E37: Diagonal Ult | F37: Paid | G37: Reserve | H37: ATA UDF | I37: ATU UDF | J37: Weight | K37: Cumulative Weight by Age | L37: Run-off Mean | M37: 1 Yr Mean | N37: Run-off Variance | O37: 1 Yr Variance
C38: y | D38: d | E38: Uy, Y-d+1 | F38: Cy, Y-d+1 | G38: Uy, Y-d+1-Cy, Y-d+1 | H38: gd | I38: Gd | J38: ry | K38: Rd | L38: ωy | M38: αy | N38: λy2 | O38: θy2
H39: Eq. (3.03) | I39: Eq. (3.04) | J39: Eq. (3.05) | K39: Eq. (3.06) | L39: Eq. (3.10) | M39: Eq. (3.16) | N39: Eq. (3.11) | O39: Eq. (3.17)
B40: =B59 -> 2006 | C40: =C59 -> 1 | D40: =$M$1-C40+1 -> 13 | E40: =Q59 -> 0 | F40: {=F19:F31} -> 0 | G40: =+E40-F40 -> 0 | H40: =INDEX($D$89:$P$89, 0, $M$1+1-C40) -> 1 | I40: =INDEX($D$90:$P$90, 0, $M$1+1-C40) -> 1 | J40: =E40/$E$53 -> 0 | K40: =SUM(J40:J$52) -> 1 | L40: =SUM($M$40:$M40) -> 0 | M40: =INDEX($D$125:$P$125, 0, $M$1+1-C40) -> 0 | N40: =SUM(OFFSET($P$195, 0, 0, -$C40, -$C40)) -> 0 | O40: =INDEX($D$108:$P$108, 0, $M$1+1-C40) -> 0
B41: =B60 -> 2007 | C41: =C60 -> 2 | D41: =$M$1-C41+1 -> 12 | E41: =Q60 -> 0 | F41: 0 | G41: =+E41-F41 -> 0 | H41: =INDEX($D$89:$P$89, 0, $M$1+1-C41) -> 1 | I41: =INDEX($D$90:$P$90, 0, $M$1+1-C41) -> 1 | J41: =E41/$E$53 -> 0 | K41: =SUM(J41:J$52) -> 1 | L41: =SUM($M$40:$M41) -> 0 | M41: =INDEX($D$125:$P$125, 0, $M$1+1-C41) -> 0 | N41: =SUM(OFFSET($P$195, 0, 0, -$C41, -$C41)) -> 0 | O41: =INDEX($D$108:$P$108, 0, $M$1+1-C41) -> 0
B42: =B61 -> 2008 | C42: =C61 -> 3 | D42: =$M$1-C42+1 -> 11 | E42: =Q61 -> 0 | F42: 0 | G42: =+E42-F42 -> 0 | H42: =INDEX($D$89:$P$89, 0, $M$1+1-C42) -> 1 | I42: =INDEX($D$90:$P$90, 0, $M$1+1-C42) -> 1 | J42: =E42/$E$53 -> 0 | K42: =SUM(J42:J$52) -> 1 | L42: =SUM($M$40:$M42) -> 0 | M42: =INDEX($D$125:$P$125, 0, $M$1+1-C42) -> 0 | N42: =SUM(OFFSET($P$195, 0, 0, -$C42, -$C42)) -> 0 | O42: =INDEX($D$108:$P$108, 0, $M$1+1-C42) -> 0
B43: =B62 -> 2009 | C43: =C62 -> 4 | D43: =$M$1-C43+1 -> 10 | E43: =Q62 -> 0 | F43: 0 | G43: =+E43-F43 -> 0 | H43: =INDEX($D$89:$P$89, 0, $M$1+1-C43) -> 1 | I43: =INDEX($D$90:$P$90, 0, $M$1+1-C43) -> 1 | J43: =E43/$E$53 -> 0 | K43: =SUM(J43:J$52) -> 1 | L43: =SUM($M$40:$M43) -> 0 | M43: =INDEX($D$125:$P$125, 0, $M$1+1-C43) -> 0 | N43: =SUM(OFFSET($P$195, 0, 0, -$C43, -$C43)) -> 0 | O43: =INDEX($D$108:$P$108, 0, $M$1+1-C43) -> 0
B44: =B63 -> 2010 | C44: =C63 -> 5 | D44: =$M$1-C44+1 -> 9 | E44: =Q63 -> 0 | F44: 0 | G44: =+E44-F44 -> 0 | H44: =INDEX($D$89:$P$89, 0, $M$1+1-C44) -> 1 | I44: =INDEX($D$90:$P$90, 0, $M$1+1-C44) -> 1 | J44: =E44/$E$53 -> 0 | K44: =SUM(J44:J$52) -> 1 | L44: =SUM($M$40:$M44) -> 0 | M44: =INDEX($D$125:$P$125, 0, $M$1+1-C44) -> 0 | N44: =SUM(OFFSET($P$195, 0, 0, -$C44, -$C44)) -> 0 | O44: =INDEX($D$108:$P$108, 0, $M$1+1-C44) -> 0
...

Sheet Summary
E2: Reserve Risk Results
A3: Study | B3: Source Paid Loss Triangle | C3: Ultimate Loss Methodology | D3: Quantity | E3: Feng Robbin Method | F3: FR - Diagonal | G3: FR - Fill in | H3: Rehman Klugman Method | I3: Siegenthaler Method | J3: Mack and Merz Wuthrich Methods
A4: 1 | B4: Triangle 1 - Stable Very Short-tailed Triangle | C4: Chain Ladder | D4: Reserve Projection | E4: ='Study1 FR RK'!$G$53 -> 113115 | F4: ='Study1 FR RK'!$G$53 -> 113115 | G4: ='Study1 FR RK'!$G$53 -> 113115 | H4: ='Study1 FR RK'!$G$53 -> 113115 | I4: ='Study1 Sieg'!$G$22 -> 113115 | J4: =I4 -> 113115
D5: 1yr Standard Error | E5: ='Study1 FR RK'!$J$9 -> 11856.423 | F5: ='Study1 FR RK'!$J$10 -> 11887.407 | G5: ='Study1 FR RK'!$J$11 -> 11612.329 | I5: ='Study1 Sieg'!$Q$22 -> 12024.831 | J5: ='Study1 MMW'!$Q$21 -> 11203.208
D6: Total Run-off Standard Error | E6: ='Study1 FR RK'!$H$9 -> 19577.57 | F6: ='Study1 FR RK'!$H$10 -> 19792.233 | G6: ='Study1 FR RK'!$H$11 -> 17915.919 | H6: ='Study1 FR RK'!$H$13 -> 14223.621 | I6: ='Study1 Sieg'!$M$22 -> 15227.261 | J6: ='Study1 MMW'!$M$21 -> 13456.88
D7: 1yr CV | E7: =E5/E4 -> 0.10481743 | F7: =F5/F4 -> 0.10509134 | G7: =G5/G4 -> 0.1026595 | I7: =I5/I4 -> 0.10630625 | J7: =J5/J4 -> 0.099042638
D8: Total Run-off CV | E8: =E6/E4 -> 0.17307669 | F8: =F6/F4 -> 0.17497444 | G8: =G6/G4 -> 0.15838676 | H8: =H6/H4 -> 0.12574478 | I8: =I6/I4 -> 0.13461752 | J8: =J6/J4 -> 0.11896636
D9: Ratio of 1yr to Ultimate Risk | E9: =E5/E6 -> 0.60561261 | F9: =F5/F6 -> 0.6006097 | G9: =G5/G6 -> 0.64815708 | I9: =I5/I6 -> 0.789691 | J9: =J5/J6 -> 0.83252641
A10: 2 | B10: Triangle 2 - Short tailed triangle with Medium Volatility | C10: Chain Ladder | D10: Reserve Projection | E10: ='Study2 FR RK'!$G$53 -> 401360.57 | F10: ='Study2 FR RK'!$G$53 -> 401360.57 | G10: ='Study2 FR RK'!$G$53 -> 401360.57 | H10: ='Study2 FR RK'!$G$53 -> 401360.57 | I10: ='Study2 Sieg'!$G$22 -> 401360.57 | J10: =I10 -> 401360.57
D11: 1yr Standard Error | E11: ='Study2 FR RK'!$J$9 -> 86413.31 | F11: ='Study2 FR RK'!$J$10 -> 86157.37 | G11: ='Study2 FR RK'!$J$11 -> 85035.844 | I11: ='Study2 Sieg'!$Q$22 -> 115886.26 | J11: ='Study2 MMW'!$Q$21 -> 117503.83
D12: Total Run-off Standard Error | E12: ='Study2 FR RK'!$H$9 -> 105856.33 | F12: ='Study2 FR RK'!$H$10 -> 105060.32 | G12: ='Study2 FR RK'!$H$11 -> 102137.75 | H12: ='Study2 FR RK'!$H$13 -> 88928.743 | I12: ='Study2 Sieg'!$M$22 -> 120749.36 | J12: ='Study2 MMW'!$M$21 -> 122887.37
D13: 1yr CV | E13: =E11/E10 -> 0.21530094 | F13: =F11/F10 -> 0.21466326 | G13: =G11/G10 -> 0.21186895 | I13: =I11/I10 -> 0.28873355 | J13: =J11/J10 -> 0.29276375
D14: Total Run-off CV | E14: =E12/E10 -> 0.26374371 | F14: =F12/F10 -> 0.26176045 | G14: =G12/G10 -> 0.25447879 | H14: =H12/H10 -> 0.22156821 | I14: =I12/I10 -> 0.30085007 | J14: =J12/J10 -> 0.30617699
D15: Ratio of 1yr to Ultimate Risk | E15: =E11/E12 -> 0.81632636 | F15: =F11/F12 -> 0.82007524 | G15: =G11/G12 -> 0.83256035 | I15: =I11/I12 -> 0.95972571 | J15: =J11/J12 -> 0.95619121
A16: 3 | B16: Triangle 2 - Short tailed triangle with Medium Volatility | C16: BF | D16: Reserve Projection | E16: ='Study3 FR RK'!$G$53 -> 451577.26 | F16: ='Study3 FR RK'!$G$53 -> 451577.26 | G16: ='Study3 FR RK'!$G$53 -> 451577.26 | H16: ='Study3 FR RK'!$G$53 -> 451577.26 | I16: ='Study3 Sieg'!$G$22 -> 451577.26 | J16: =I16 -> 451577.26
D17: 1yr Standard Error | E17: ='Study3 FR RK'!$J$9 -> 75589.735 | F17: ='Study3 FR RK'!$J$10 -> 75211.298 | G17: ='Study3 FR RK'!$J$11 -> 74433.052 | I17: ='Study3 Sieg'!$Q$22 -> 89774.019 | J17: ='Study3 MMW'!$Q$21 -> 117503.83
D18: Total Run-off Standard Error | E18: ='Study3 FR RK'!$H$9 -> 91463.71 | F18: ='Study3 FR RK'!$H$10 -> 91306.68 | G18: ='Study3 FR RK'!$H$11 -> 89171.462 | H18: ='Study3 FR RK'!$H$13 -> 74199.01 | I18: ='Study3 Sieg'!$M$22 -> 101625.27 | J18: ='Study3 MMW'!$M$21 -> 122887.37
D19: 1yr CV | E19: =E17/E16 -> 0.16739048 | F19: =F17/F16 -> 0.16655245 | G19: =G17/G16 -> 0.16482905 | I19: =I17/I16 -> 0.19880102 | J19: =J17/J16 -> 0.26020758
D20: Total Run-off CV | E20: =E18/E16 -> 0.20254277 | F20: =F18/F16 -> 0.20219503 | G20: =G18/G16 -> 0.19746668 | H20: =H18/H16 -> 0.16431078 | I20: =I18/I16 -> 0.22504516 | J20: =J18/J16 -> 0.27212923
D21: Ratio of 1yr to Ultimate Risk | E21: =E17/E18 -> 0.82644511 | F21: =F17/F18 -> 0.82372175 | G21: =G17/G18 -> 0.83471831 | I21: =I17/I18 -> 0.8833828 | J21: =J17/J18 -> 0.95619121
A22: 4 | B22: Triangle 3 - Long-tailed Volatile Triangle | C22: Chain Ladder | D22: Reserve Projection | E22: ='Study4 FR RK'!$G$53 -> 3055087.5 | F22: ='Study4 FR RK'!$G$53 -> 3055087.5 | G22: ='Study4 FR RK'!$G$53 -> 3055087.5 | H22: ='Study4 FR RK'!$G$53 -> 3055087.5 | I22: ='Study4 Sieg'!$G$22 -> 3055087.5 | J22: =I22 -> 3055087.5
D23: 1yr Standard Error | E23: ='Study4 FR RK'!$J$9 -> 359403.12 | F23: ='Study4 FR RK'!$J$10 -> 401130.6 | G23: ='Study4 FR RK'!$J$11 -> 348425.14 | I23: ='Study4 Sieg'!$Q$22 -> 744459.42 | J23: ='Study4 MMW'!$Q$21 -> 654206.06
D24: Total Run-off Standard Error | E24: ='Study4 FR RK'!$H$9 -> 1103328.1 | F24: ='Study4 FR RK'!$H$10 -> 1139068.6 | G24: ='Study4 FR RK'!$H$11 -> 761360.95 | H24: ='Study4 FR RK'!$H$13 -> 644328.2 | I24: ='Study4 Sieg'!$M$22 -> 897343.75 | J24: ='Study4 MMW'!$M$21 -> 838258.46
D25: 1yr CV | E25: =E23/E22 -> 0.11764086 | F25: =F23/F22 -> 0.13129922 | G25: =G23/G22 -> 0.11404751 | I25: =I23/I22 -> 0.24367859 | J25: =J23/J22 -> 0.2141366
D26: Total Run-off CV | E26: =E24/E22 -> 0.36114452 | F26: =F24/F22 -> 0.37284318 | G26: =G24/G22 -> 0.24921084 | H26: =H24/H22 -> 0.21090335 | I26: =I24/I22 -> 0.29372112 | J26: =J24/J22 -> 0.27438116
D27: Ratio of 1yr to Ultimate Risk | E27: =E23/E24 -> 0.32574455 | F27: =F23/F24 -> 0.35215668 | G27: =G23/G24 -> 0.45763464 | I27: =I23/I24 -> 0.82962568 | J27: =J23/J24 -> 0.78043479
A28: 5 | B28: Triangle 3 - Long-tailed Volatile Triangle | C28: BF | D28: Reserve Projection | E28: ='Study5 FR RK'!$G$53 -> 3199691.7 | F28: ='Study5 FR RK'!$G$53 -> 3199691.7 | G28: ='Study5 FR RK'!$G$53 -> 3199691.7 | H28: ='Study5 FR RK'!$G$53 -> 3199691.7 | I28: ='Study5 Sieg'!$G$22 -> 3199691.7 | J28: =I28 -> 3199691.7
D29: 1yr Standard Error | E29: ='Study5 FR RK'!$J$9 -> 111485.12 | F29: ='Study5 FR RK'!$J$10 -> 130815.46 | G29: ='Study5 FR RK'!$J$11 -> 99981.288 | I29: ='Study5 Sieg'!$Q$22 -> 136231.38 | J29: ='Study5 MMW'!$Q$21 -> 654206.06
D30: Total Run-off Standard Error | E30: ='Study5 FR RK'!$H$9 -> 452771.92 | F30: ='Study5 FR RK'!$H$10 -> 594815.33 | G30: ='Study5 FR RK'!$H$11 -> 354589.85 | H30: ='Study5 FR RK'!$H$13 -> 211451.94 | I30: ='Study5 Sieg'!$M$22 -> 334606.47 | J30: ='Study5 MMW'!$M$21 -> 838258.46
D31: 1yr CV | E31: =E29/E28 -> 0.034842456 | F31: =F29/F28 -> 0.040883769 | G31: =G29/G28 -> 0.031247163 | I31: =I29/I28 -> 0.042576409 | J31: =J29/J28 -> 0.20445909
D32: Total Run-off CV | E32: =E30/E28 -> 0.14150486 | F32: =F30/F28 -> 0.1858977 | G32: =G30/G28 -> 0.11082 | H32: =H30/H28 -> 0.066085097 | I32: =I30/I28 -> 0.1045746 | J32: =J30/J28 -> 0.26198101
D33: Ratio of 1yr to Ultimate Risk | E33: =E29/E30 -> 0.24622798 | F33: =F29/F30 -> 0.21992617 | G33: =G29/G30 -> 0.2819632 | I33: =I29/I30 -> 0.40713911 | J33: =J29/J30 -> 0.78043479
A34: 6 | B34: Triangle 3 - Long-tailed Volatile Triangle | C34: Actuarial Best Estimate | D34: Reserve Projection | E34: ='Study6 FR RK'!$G$53 -> 3210824.7 | F34: ='Study6 FR RK'!$G$53 -> 3210824.7 | G34: ='Study6 FR RK'!$G$53 -> 3210824.7 | H34: ='Study6 FR RK'!$G$53 -> 3210824.7 | I34: ='Study6 Sieg'!$G$22 -> 3210824.7 | J34: =I34 -> 3210824.7
D35: 1yr Standard Error | E35: ='Study6 FR RK'!$J$9 -> 140747.31 | F35: ='Study6 FR RK'!$J$10 -> 151943.26 | G35: ='Study6 FR RK'!$J$11 -> 122678.35 | I35: ='Study6 Sieg'!$Q$22 -> 144403.85 | J35: ='Study6 MMW'!$Q$21 -> 654206.06
D36: Total Run-off Standard Error | E36: ='Study6 FR RK'!$H$9 -> 503654.18 | F36: ='Study6 FR RK'!$H$10 -> 676667.24 | G36: ='Study6 FR RK'!$H$11 -> 408071.44 | H36: ='Study6 FR RK'!$H$13 -> 232561.36 | I36: ='Study6 Sieg'!$M$22 -> 296461.48 | J36: ='Study6 MMW'!$M$21 -> 838258.46
D37: 1yr CV | E37: =E35/E34 -> 0.043835252 | F37: =F35/F34 -> 0.047322191 | G37: =G35/G34 -> 0.038207738 | I37: =I35/I34 -> 0.044974069 | J37: =J35/J34 -> 0.20375016
D38: Total Run-off CV | E38: =E36/E34 -> 0.15686131 | F38: =F36/F34 -> 0.21074562 | G38: =G36/G34 -> 0.12709241 | H38: =H36/H34 -> 0.072430412 | I38: =I36/I34 -> 0.092331879 | J38: =J36/J34 -> 0.26107263
D39: Ratio of 1yr to Ultimate Risk | E39: =E35/E36 -> 0.27945229 | F39: =F35/F36 -> 0.2245465 | G39: =G35/G36 -> 0.30062959 | I39: =I35/I36 -> 0.48709145 | J39: =J35/J36 -> 0.78043479
A40: 7 | B40: Triangle 3 - Long-tailed Volatile Triangle | C40: Management Booked Aggresively | D40: Reserve Projection | E40: ='Study7 FR RK'!$G$53 -> 2945486.7 | F40: ='Study7 FR RK'!$G$53 -> 2945486.7 | G40: ='Study7 FR RK'!$G$53 -> 2945486.7 | H40: ='Study7 FR RK'!$G$53 -> 2945486.7 | I40: ='Study7 Sieg'!$G$22 -> 2945486.7 | J40: =I40 -> 2945486.7
D41: 1yr Standard Error | E41: ='Study7 FR RK'!$J$9 -> 122751.67 | F41: ='Study7 FR RK'!$J$10 -> 128843.08 | G41: ='Study7 FR RK'!$J$11 -> 99097.692 | I41: ='Study7 Sieg'!$Q$22 -> 324875.89 | J41: ='Study7 MMW'!$Q$21 -> 654206.06
...

Sheet Triangle 1
B2: Triangle 1 Reserving Worksheet - Paid Losses Cy,d
B3: Source data from Siegenthaler (2019)
B4: AY | C4: AY\Age | D4: 1 | E4: =D4+1 -> 2 | F4: =E4+1 -> 3 | G4: =F4+1 -> 4 | H4: =G4+1 -> 5 | I4: =H4+1 -> 6 | J4: =I4+1 -> 7 | K4: =J4+1 -> 8 | L4: =K4+1 -> 9 | ... P4: =O4+1 -> 13 | Q4: Diagonal
B5: =B6-1 -> 2006 | C5: 1 | D5: 300604.57 | E5: 527679.36 | F5: 606023.03 | G5: 625411.76 | H5: 635574.98 | I5: 636509.08 | J5: 636694.48 | K5: 636706.86 | L5: 636708.63 | M5: 636708.89 | N5: 636708.92 | O5: 636708.93 | P5: 636708.93 | Q5: =OFFSET($Q$4,$C5,-$C5) -> 636708.93
B6: =B7-1 -> 2007 | C6: =C5+1 -> 2 | D6: 302300.33 | E6: 642468.44 | F6: 778551.86 | G6: 842933.4 | H6: 854390.64 | I6: 855578.47 | J6: 855759.47 | K6: 855788.85 | L6: 855791.55 | M6: 855792.12 | N6: 855792.21 | O6: 855792.22 | P6: 0 | Q6: =OFFSET($Q$4,$C6,-$C6) -> 855792.22
B7: =B8-1 -> 2008 | C7: =C6+1 -> 3 | D7: 367781.85 | E7: 574490.07 | F7: 655661.22 | G7: 699483.79 | H7: 714871.64 | I7: 716039.48 | J7: 716231.23 | K7: 716262.71 | L7: 716267.33 | M7: 716267.84 | N7: 716267.9 | O7: 0 | P7: 0 | Q7: =OFFSET($Q$4,$C7,-$C7) -> 716267.9
B8: =B9-1 -> 2009 | C8: =C7+1 -> 4 | D8: 283356.87 | E8: 702503.17 | F8: 815824.23 | G8: 872443.17 | H8: 893356.75 | I8: 894932.61 | J8: 895189.94 | K8: 895218.78 | L8: 895222.67 | M8: 895223.15 | N8: 0 | O8: 0 | P8: 0 | Q8: =OFFSET($Q$4,$C8,-$C8) -> 895223.15
B9: =B10-1 -> 2010 | C9: =C8+1 -> 5 | D9: 613741.57 | E9: 852370.2 | F9: 1002108 | G9: 1072096.2 | H9: 1083926.3 | I9: 1086254.5 | J9: 1086527.2 | K9: 1086557 | L9: 1086560.4 | M9: 0 | N9: 0 | O9: 0 | P9: 0 | Q9: =OFFSET($Q$4,$C9,-$C9) -> 1086560.4
B10: =B11-1 -> 2011 | C10: =C9+1 -> 6 | D10: 800575.7 | E10: 1369827.5 | F10: 1485251.1 | G10: 1551350.2 | H10: 1562484 | I10: 1563300 | J10: 1563561.8 | K10: 1563591.3 | L10: 0 | M10: 0 | N10: 0 | O10: 0 | P10: 0 | Q10: =OFFSET($Q$4,$C10,-$C10) -> 1563591.3
B11: =B12-1 -> 2012 | C11: =C10+1 -> 7 | D11: 221064.2 | E11: 492238.49 | F11: 589052.89 | G11: 611811.81 | H11: 617740.86 | I11: 618445.12 | J11: 618553.5 | K11: 0 | L11: 0 | M11: 0 | N11: 0 | O11: 0 | P11: 0 | Q11: =OFFSET($Q$4,$C11,-$C11) -> 618553.5
B12: =B13-1 -> 2013 | C12: =C11+1 -> 8 | D12: 271448.18 | E12: 441906.83 | F12: 580623.31 | G12: 622693.16 | H12: 628059.64 | I12: 629956.08 | J12: 0 | K12: 0 | L12: 0 | M12: 0 | N12: 0 | O12: 0 | P12: 0 | Q12: =OFFSET($Q$4,$C12,-$C12) -> 629956.08
B13: =B14-1 -> 2014 | C13: =C12+1 -> 9 | D13: 263708.63 | E13: 346557.75 | F13: 411907.73 | G13: 455925.34 | H13: 463255.07 | I13: 0 | J13: 0 | K13: 0 | L13: 0 | M13: 0 | N13: 0 | O13: 0 | P13: 0 | Q13: =OFFSET($Q$4,$C13,-$C13) -> 463255.07
B14: =B15-1 -> 2015 | C14: =C13+1 -> 10 | D14: 201766.88 | E14: 510063.02 | F14: 664447.7 | G14: 702988.8 | H14: 0 | I14: 0 | J14: 0 | K14: 0 | L14: 0 | M14: 0 | N14: 0 | O14: 0 | P14: 0 | Q14: =OFFSET($Q$4,$C14,-$C14) -> 702988.8
B15: =B16-1 -> 2016 | C15: =C14+1 -> 11 | D15: 374504.87 | E15: 575921.38 | F15: 700128.91 | G15: 0 | H15: 0 | I15: 0 | J15: 0 | K15: 0 | L15: 0 | M15: 0 | N15: 0 | O15: 0 | P15: 0 | Q15: =OFFSET($Q$4,$C15,-$C15) -> 700128.91
B16: =B17-1 -> 2017 | C16: =C15+1 -> 12 | D16: 336548.29 | E16: 553453.92 | F16: 0 | G16: 0 | H16: 0 | I16: 0 | J16: 0 | K16: 0 | L16: 0 | M16: 0 | N16: 0 | O16: 0 | P16: 0 | Q16: =OFFSET($Q$4,$C16,-$C16) -> 553453.92
B17: 2018 | C17: =C16+1 -> 13 | D17: 138078.27 | E17: 0 | F17: 0 | G17: 0 | H17: 0 | I17: 0 | J17: 0 | K17: 0 | L17: 0 | M17: 0 | N17: 0 | O17: 0 | P17: 0 | Q17: =OFFSET($Q$4,$C17,-$C17) -> 138078.27
B18: Total | Q18: =SUM(Q5:Q17) -> 9560558.5
B20: Triangle 1 Reserving Worksheet - Triangle of Chain-Ladder Ultimate Loss Uchain-ladder
B21: Ultimate loss triangle given by Siegenthaler (2019)
B22: AY | C22: AY\Age | D22: 1 | E22: =D22+1 -> 2 | F22: =E22+1 -> 3 | G22: =F22+1 -> 4 | H22: =G22+1 -> 5 | I22: =H22+1 -> 6 | J22: =I22+1 -> 7 | K22: =J22+1 -> 8 | L22: =K22+1 -> 9 | ... P22: =O22+1 -> 13 | Q22: Diagonal
B23: 2006 | C23: 1 | D23: 233927 | E23: 225734 | F23: 224101 | G23: 223193 | H23: 222383 | I23: 223724 | J23: 223743 | K23: 223765 | L23: 223669 | M23: 223601 | N23: 223558 | O23: 223558 | P23: 223558 | Q23: =OFFSET($Q$22,$C23,-$C23) -> 223558
B24: 2007 | C24: 2 | D24: 230176 | E24: 224714 | F24: 222707 | G24: 221871 | H24: 225215 | I24: 223977 | J24: 224027 | K24: 223933 | L24: 223907 | M24: 224004 | N24: 224036 | O24: 224036 | Q24: =OFFSET($Q$22,$C24,-$C24) -> 224036
B25: 2008 | C25: 3 | D25: 225361 | E25: 219714 | F25: 217321 | G25: 223774 | H25: 225325 | I25: 223809 | J25: 223680 | K25: 223450 | L25: 223544 | M25: 223660 | N25: 223697 | Q25: =OFFSET($Q$22,$C25,-$C25) -> 223697
B26: 2009 | C26: 4 | D26: 211284 | E26: 215963 | F26: 218664 | G26: 217849 | H26: 215981 | I26: 214561 | J26: 214391 | K26: 214395 | L26: 214468 | M26: 214445 | Q26: =OFFSET($Q$22,$C26,-$C26) -> 214445
B27: 2010 | C27: 5 | D27: 212024 | E27: 221439 | F27: 220313 | G27: 218938 | H27: 218873 | I27: 220610 | J27: 220938 | K27: 221576 | L27: 221628 | Q27: =OFFSET($Q$22,$C27,-$C27) -> 221628
B28: 2011 | C28: 6 | D28: 289863 | E28: 298147 | F28: 295716 | G28: 293527 | H28: 293758 | I28: 294427 | J28: 294713 | K28: 294673 | Q28: =OFFSET($Q$22,$C28,-$C28) -> 294673
B29: 2012 | C29: 7 | D29: 268568 | E29: 273222 | F29: 272219 | G29: 272657 | H29: 271057 | I29: 269817 | J29: 269763 | Q29: =OFFSET($Q$22,$C29,-$C29) -> 269763
B30: 2013 | C30: 8 | D30: 261945 | E30: 275360 | F30: 274935 | G30: 274262 | H30: 273275 | I30: 271810 | Q30: =OFFSET($Q$22,$C30,-$C30) -> 271810
B31: 2014 | C31: 9 | D31: 232400 | E31: 241510 | F31: 242330 | G31: 247851 | H31: 247245 | Q31: =OFFSET($Q$22,$C31,-$C31) -> 247245
B32: 2015 | C32: 10 | D32: 235521 | E32: 251022 | F32: 267514 | G32: 267747 | Q32: =OFFSET($Q$22,$C32,-$C32) -> 267747
B33: 2016 | C33: 11 | D33: 239385 | E33: 246401 | F33: 245398 | Q33: =OFFSET($Q$22,$C33,-$C33) -> 245398
B34: 2017 | C34: 12 | D34: 257904 | E34: 259549 | Q34: =OFFSET($Q$22,$C34,-$C34) -> 259549
B35: 2018 | C35: 13 | D35: 262936 | Q35: =OFFSET($Q$22,$C35,-$C35) -> 262936
B36: Total | Q36: =SUM(Q23:Q35) -> 3226485

Sheet Triangle 2
B2: Triangle 2 Reserving Worksheet - Paid Losses Cy,d
B3: Source Data
B4: AY | C4: AY\Age | D4: 1 | E4: =D4+1 -> 2 | F4: =E4+1 -> 3 | G4: =F4+1 -> 4 | H4: =G4+1 -> 5 | I4: =H4+1 -> 6 | J4: =I4+1 -> 7 | K4: =J4+1 -> 8 | L4: =K4+1 -> 9 | ... P4: =O4+1 -> 13 | Q4: Diagonal
B5: =B6-1 -> 2006 | C5: 1 | D5: 300604.57 | E5: 527679.36 | F5: 606023.03 | G5: 625411.76 | H5: 635574.98 | I5: 636509.08 | J5: 636694.48 | K5: 636706.86 | L5: 636708.63 | M5: 636708.89 | N5: 636708.92 | O5: 636708.93 | P5: 636708.93 | Q5: =OFFSET($Q$4,$C5,-$C5) -> 636708.93
B6: =B7-1 -> 2007 | C6: =C5+1 -> 2 | D6: 302300.33 | E6: 642468.44 | F6: 778551.86 | G6: 842933.4 | H6: 854390.64 | I6: 855578.47 | J6: 855759.47 | K6: 855788.85 | L6: 855791.55 | M6: 855792.12 | N6: 855792.21 | O6: 855792.22 | P6: 0 | Q6: =OFFSET($Q$4,$C6,-$C6) -> 855792.22
B7: =B8-1 -> 2008 | C7: =C6+1 -> 3 | D7: 367781.85 | E7: 574490.07 | F7: 655661.22 | G7: 699483.79 | H7: 714871.64 | I7: 716039.48 | J7: 716231.23 | K7: 716262.71 | L7: 716267.33 | M7: 716267.84 | N7: 716267.9 | O7: 0 | P7: 0 | Q7: =OFFSET($Q$4,$C7,-$C7) -> 716267.9
B8: =B9-1 -> 2009 | C8: =C7+1 -> 4 | D8: 283356.87 | E8: 702503.17 | F8: 815824.23 | G8: 872443.17 | H8: 893356.75 | I8: 894932.61 | J8: 895189.94 | K8: 895218.78 | L8: 895222.67 | M8: 895223.15 | N8: 0 | O8: 0 | P8: 0 | Q8: =OFFSET($Q$4,$C8,-$C8) -> 895223.15
B9: =B10-1 -> 2010 | C9: =C8+1 -> 5 | D9: 613741.57 | E9: 852370.2 | F9: 1002108 | G9: 1072096.2 | H9: 1083926.3 | I9: 1086254.5 | J9: 1086527.2 | K9: 1086557 | L9: 1086560.4 | M9: 0 | N9: 0 | O9: 0 | P9: 0 | Q9: =OFFSET($Q$4,$C9,-$C9) -> 1086560.4
B10: =B11-1 -> 2011 | C10: =C9+1 -> 6 | D10: 800575.7 | E10: 1369827.5 | F10: 1485251.1 | G10: 1551350.2 | H10: 1562484 | I10: 1563300 | J10: 1563561.8 | K10: 1563591.3 | L10: 0 | M10: 0 | N10: 0 | O10: 0 | P10: 0 | Q10: =OFFSET($Q$4,$C10,-$C10) -> 1563591.3
B11: =B12-1 -> 2012 | C11: =C10+1 -> 7 | D11: 221064.2 | E11: 492238.49 | F11: 589052.89 | G11: 611811.81 | H11: 617740.86 | I11: 618445.12 | J11: 618553.5 | K11: 0 | L11: 0 | M11: 0 | N11: 0 | O11: 0 | P11: 0 | Q11: =OFFSET($Q$4,$C11,-$C11) -> 618553.5
B12: =B13-1 -> 2013 | C12: =C11+1 -> 8 | D12: 271448.18 | E12: 441906.83 | F12: 580623.31 | G12: 622693.16 | H12: 628059.64 | I12: 629956.08 | J12: 0 | K12: 0 | L12: 0 | M12: 0 | N12: 0 | O12: 0 | P12: 0 | Q12: =OFFSET($Q$4,$C12,-$C12) -> 629956.08
B13: =B14-1 -> 2014 | C13: =C12+1 -> 9 | D13: 263708.63 | E13: 346557.75 | F13: 411907.73 | G13: 455925.34 | H13: 463255.07 | I13: 0 | J13: 0 | K13: 0 | L13: 0 | M13: 0 | N13: 0 | O13: 0 | P13: 0 | Q13: =OFFSET($Q$4,$C13,-$C13) -> 463255.07
B14: =B15-1 -> 2015 | C14: =C13+1 -> 10 | D14: 201766.88 | E14: 510063.02 | F14: 664447.7 | G14: 702988.8 | H14: 0 | I14: 0 | J14: 0 | K14: 0 | L14: 0 | M14: 0 | N14: 0 | O14: 0 | P14: 0 | Q14: =OFFSET($Q$4,$C14,-$C14) -> 702988.8
B15: =B16-1 -> 2016 | C15: =C14+1 -> 11 | D15: 374504.87 | E15: 575921.38 | F15: 700128.91 | G15: 0 | H15: 0 | I15: 0 | J15: 0 | K15: 0 | L15: 0 | M15: 0 | N15: 0 | O15: 0 | P15: 0 | Q15: =OFFSET($Q$4,$C15,-$C15) -> 700128.91
B16: =B17-1 -> 2017 | C16: =C15+1 -> 12 | D16: 336548.29 | E16: 553453.92 | F16: 0 | G16: 0 | H16: 0 | I16: 0 | J16: 0 | K16: 0 | L16: 0 | M16: 0 | N16: 0 | O16: 0 | P16: 0 | Q16: =OFFSET($Q$4,$C16,-$C16) -> 553453.92
B17: 2018 | C17: =C16+1 -> 13 | D17: 138078.27 | E17: 0 | F17: 0 | G17: 0 | H17: 0 | I17: 0 | J17: 0 | K17: 0 | L17: 0 | M17: 0 | N17: 0 | O17: 0 | P17: 0 | Q17: =OFFSET($Q$4,$C17,-$C17) -> 138078.27
B18: Total | Q18: =SUM(Q5:Q17) -> 9560558.5
B21: Triangle 2 Reserving Worksheet - Age-to-Age Loss Development Factors fy,d
B22: AY | C22: AY\Age | D22: 1 | E22: =D22+1 -> 2 | F22: =E22+1 -> 3 | G22: =F22+1 -> 4 | H22: =G22+1 -> 5 | I22: =H22+1 -> 6 | J22: =I22+1 -> 7 | K22: =J22+1 -> 8 | L22: =K22+1 -> 9 | ... P22: =O22+1 -> 13
B23: 2006 | C23: 1 | D23: =E5/D5 -> 1.7553937 | E23: =F5/E5 -> 1.1484683 | F23: =G5/F5 -> 1.0319934 | G23: =H5/G5 -> 1.0162505 | H23: =I5/H5 -> 1.0014697 | I23: =J5/I5 -> 1.0002913 | J23: =K5/J5 -> 1.0000194 | K23: =L5/K5 -> 1.0000028 | ... O23: =P5/O5 -> 1
B24: 2007 | C24: 2 | D24: =E6/D6 -> 2.1252654 | E24: =F6/E6 -> 1.2118134 | F24: =G6/F6 -> 1.082694 | G24: =H6/G6 -> 1.0135921 | H24: =I6/H6 -> 1.0013903 | I24: =J6/I6 -> 1.0002116 | J24: =K6/J6 -> 1.0000343 | K24: =L6/K6 -> 1.0000032 | ... N24: =O6/N6 -> 1
B25: 2008 | C25: 3 | D25: =E7/D7 -> 1.5620403 | E25: =F7/E7 -> 1.1412925 | F25: =G7/F7 -> 1.0668372 | G25: =H7/G7 -> 1.0219989 | H25: =I7/H7 -> 1.0016336 | I25: =J7/I7 -> 1.0002678 | J25: =K7/J7 -> 1.0000439 | K25: =L7/K7 -> 1.0000065 | ... M25: =N7/M7 -> 1.0000001
B26: 2009 | C26: 4 | D26: =E8/D8 -> 2.479217 | E26: =F8/E8 -> 1.1613104 | F26: =G8/F8 -> 1.0694009 | G26: =H8/G8 -> 1.0239713 | H26: =I8/H8 -> 1.001764 | I26: =J8/I8 -> 1.0002875 | J26: =K8/J8 -> 1.0000322 | K26: =L8/K8 -> 1.0000043 | L26: =M8/L8 -> 1.0000005
B27: 2010 | C27: 5 | D27: =E9/D9 -> 1.3888096 | E27: =F9/E9 -> 1.1756723 | F27: =G9/F9 -> 1.0698409 | G27: =H9/G9 -> 1.0110345 | H27: =I9/H9 -> 1.0021479 | I27: =J9/I9 -> 1.0002511 | J27: =K9/J9 -> 1.0000274 | K27: =L9/K9 -> 1.0000032
B28: 2011 | C28: 6 | D28: =E10/D10 -> 1.7110531 | E28: =F10/E10 -> 1.0842614 | F28: =G10/F10 -> 1.0445037 | G28: =H10/G10 -> 1.0071768 | H28: =I10/H10 -> 1.0005222 | I28: =J10/I10 -> 1.0001675 | J28: =K10/J10 -> 1.0000188
B29: 2012 | C29: 7 | D29: =E11/D11 -> 2.2266766 | E29: =F11/E11 -> 1.1966819 | F29: =G11/F11 -> 1.0386365 | G29: =H11/G11 -> 1.009691 | H29: =I11/H11 -> 1.0011401 | I29: =J11/I11 -> 1.0001752
B30: 2013 | C30: 8 | D30: =E12/D12 -> 1.6279602 | E30: =F12/E12 -> 1.3139043 | F30: =G12/F12 -> 1.0724564 | G30: =H12/G12 -> 1.0086182 | H30: =I12/H12 -> 1.0030195
B31: 2014 | C31: 9 | D31: =E13/D13 -> 1.3141691 | E31: =F13/E13 -> 1.1885688 | F31: =G13/F13 -> 1.1068628 | G31: =H13/G13 -> 1.0160766
B32: 2015 | C32: 10 | D32: =E14/D14 -> 2.5279819 | E32: =F14/E14 -> 1.3026777 | F32: =G14/F14 -> 1.0580047
B33: 2016 | C33: 11 | D33: =E15/D15 -> 1.5378208 | E33: =F15/E15 -> 1.2156675
B34: 2017 | C34: 12 | D34: =E16/D16 -> 1.6445008
B35: 2018 | C35: 13
B36: All yr Wt Avg | D36: =SUM(OFFSET(E$5,0,0,$C$35-D$22))/SUM(OFFSET(D$5,0,0,$C$35-D$22)) -> 1.7497756 | E36: =SUM(OFFSET(F$5,0,0,$C$35-E$22))/SUM(OFFSET(E$5,0,0,$C$35-E$22)) -> 1.1781622 | F36: =SUM(OFFSET(G$5,0,0,$C$35-F$22))/SUM(OFFSET(F$5,0,0,$C$35-F$22)) -> 1.0616232 | G36: =SUM(OFFSET(H$5,0,0,$C$35-G$22))/SUM(OFFSET(G$5,0,0,$C$35-G$22)) -> 1.0135313 | H36: =SUM(OFFSET(I$5,0,0,$C$35-H$22))/SUM(OFFSET(H$5,0,0,$C$35-H$22)) -> 1.0015179 | I36: =SUM(OFFSET(J$5,0,0,$C$35-I$22))/SUM(OFFSET(I$5,0,0,$C$35-I$22)) -> 1.0002289 | J36: =SUM(OFFSET(K$5,0,0,$C$35-J$22))/SUM(OFFSET(J$5,0,0,$C$35-J$22)) -> 1.000028 | K36: =SUM(OFFSET(L$5,0,0,$C$35-K$22))/SUM(OFFSET(K$5,0,0,$C$35-K$22)) -> 1.0000039 | ... O36: =SUM(OFFSET(P$5,0,0,$C$35-O$22))/SUM(OFFSET(O$5,0,0,$C$35-O$22)) -> 1 | P36: 1
B37: All yr Simple Avg | D37: =AVERAGE(D23:D35) -> 1.825074 | E37: =AVERAGE(E23:E35) -> 1.1945744 | F37: =AVERAGE(F23:F35) -> 1.064123 | G37: =AVERAGE(G23:G35) -> 1.0142678 | H37: =AVERAGE(H23:H35) -> 1.0016359 | I37: =AVERAGE(I23:I35) -> 1.000236 | J37: =AVERAGE(J23:J35) -> 1.0000294 | K37: =AVERAGE(K23:K35) -> 1.000004 | ... O37: =AVERAGE(O23:O35) -> 1 | P37: 1
B38: Selected ATA | D38: =AVERAGE(D37,D36) -> 1.7874248 | E38: =AVERAGE(E37,E36) -> 1.1863683 | F38: =AVERAGE(F37,F36) -> 1.0628731 | G38: =AVERAGE(G37,G36) -> 1.0138995 | H38: =AVERAGE(H37,H36) -> 1.0015769 | I38: =AVERAGE(I37,I36) -> 1.0002325 | J38: =AVERAGE(J37,J36) -> 1.0000287 | K38: =AVERAGE(K37,K36) -> 1.000004 | ... P38: =AVERAGE(P37,P36) -> 1
B39: ATU | D39: =PRODUCT(D38:$P38) -> 2.289409 | E39: =PRODUCT(E38:$P38) -> 1.2808421 | F39: =PRODUCT(F38:$P38) -> 1.0796328 | G39: =PRODUCT(G38:$P38) -> 1.0157682 | H39: =PRODUCT(H38:$P38) -> 1.0018431 | I39: =PRODUCT(I38:$P38) -> 1.0002658 | J39: =PRODUCT(J38:$P38) -> 1.0000333 | K39: =PRODUCT(K38:$P38) -> 1.0000046 | ... P39: =PRODUCT(P38:$P38) -> 1
B43: Triangle 2 Reserving Worksheet - Triangle of Selected Age to Ultimate Factors Fy,d
B44: Selected based on 50% weight each from all year weighted avg and all year simple avg
B45: AY | C45: AY\Age | D45: 1 | E45: =D45+1 -> 2 | F45: =E45+1 -> 3 | G45: =F45+1 -> 4 | H45: =G45+1 -> 5 | I45: =H45+1 -> 6 | J45: =I45+1 -> 7 | K45: =J45+1 -> 8 | L45: =K45+1 -> 9 | ... P45: =O45+1 -> 13
B46: 2006 | C46: 1 | D46: =D$39 -> 2.289409 | E46: =E$39 -> 1.2808421 | F46: =F$39 -> 1.0796328 | G46: =G$39 -> 1.0157682 | H46: =H$39 -> 1.0018431 | I46: =I$39 -> 1.0002658 | J46: =J$39 -> 1.0000333 | K46: =K$39 -> 1.0000046 | ... P46: =P$39 -> 1
...

Sheet Triangle 3
B2: Triangle 3 Reserving Worksheet - Paid Losses Cy,d
B3: Source Data
B4: AY | C4: AY\Age | D4: 1 | E4: =D4+1 -> 2 | F4: =E4+1 -> 3 | G4: =F4+1 -> 4 | H4: =G4+1 -> 5 | I4: =H4+1 -> 6 | J4: =I4+1 -> 7 | K4: =J4+1 -> 8 | L4: =K4+1 -> 9 | ... P4: =O4+1 -> 13 | Q4: Diagonal
B5: =B6-1 -> 2006 | C5: 1 | D5: 5171.2797 | E5: 23585.373 | F5: 138184.95 | G5: 145156.36 | H5: 174341.88 | I5: 221978.56 | J5: 227057.76 | K5: 235524.84 | L5: 335484.35 | M5: 370499.24 | N5: 390776.41 | O5: 398495.19 | P5: 402916.32 | Q5: =OFFSET($Q$4,$C5,-$C5) -> 402916.32
B6: =B7-1 -> 2007 | C6: =C5+1 -> 2 | D6: 19432.015 | E6: 83665.095 | F6: 148706.89 | G6: 219260.16 | H6: 251343.6 | I6: 275244.51 | J6: 296473.27 | K6: 348417.17 | L6: 371269.19 | M6: 465133.05 | N6: 529084.02 | O6: 551245.13 | P6: 0 | Q6: =OFFSET($Q$4,$C6,-$C6) -> 551245.13
B7: =B8-1 -> 2008 | C7: =C6+1 -> 3 | D7: 10401.723 | E7: 144043.95 | F7: 341201.03 | G7: 453323.25 | H7: 475741.28 | I7: 639639.5 | J7: 712857.34 | K7: 802187.6 | L7: 893402.6 | M7: 935904.62 | N7: 971016.66 | O7: 0 | P7: 0 | Q7: =OFFSET($Q$4,$C7,-$C7) -> 971016.66
B8: =B9-1 -> 2009 | C8: =C7+1 -> 4 | D8: 42766.334 | E8: 179109.93 | F8: 370093.15 | G8: 517389.48 | H8: 553073.27 | I8: 580422.29 | J8: 603298.25 | K8: 744222.26 | L8: 754075.95 | M8: 810125.7 | N8: 0 | O8: 0 | P8: 0 | Q8: =OFFSET($Q$4,$C8,-$C8) -> 810125.7
B9: =B10-1 -> 2010 | C9: =C8+1 -> 5 | D9: 39305.186 | E9: 209793.33 | F9: 380512.81 | G9: 430632.02 | H9: 726092.29 | I9: 794217.59 | J9: 939679.26 | K9: 1048194.8 | L9: 1122043.1 | M9: 0 | N9: 0 | O9: 0 | P9: 0 | Q9: =OFFSET($Q$4,$C9,-$C9) -> 1122043.1
B10: =B11-1 -> 2011 | C10: =C9+1 -> 6 | D10: 13132.337 | E10: 47574.425 | F10: 70860.804 | G10: 128810.39 | H10: 273115.1 | I10: 317427.32 | J10: 391096.21 | K10: 499537.37 | L10: 0 | M10: 0 | N10: 0 | O10: 0 | P10: 0 | Q10: =OFFSET($Q$4,$C10,-$C10) -> 499537.37
B11: =B12-1 -> 2012 | C11: =C10+1 -> 7 | D11: 2050.6953 | E11: 97082.415 | F11: 177514.92 | G11: 189613.89 | H11: 264483.82 | I11: 284147.55 | J11: 330159.75 | K11: 0 | L11: 0 | M11: 0 | N11: 0 | O11: 0 | P11: 0 | Q11: =OFFSET($Q$4,$C11,-$C11) -> 330159.75
B12: =B13-1 -> 2013 | C12: =C11+1 -> 8 | D12: 9462.8995 | E12: 101477.92 | F12: 206596.77 | G12: 235022.46 | H12: 276652.02 | I12: 353992.72 | J12: 0 | K12: 0 | L12: 0 | M12: 0 | N12: 0 | O12: 0 | P12: 0 | Q12: =OFFSET($Q$4,$C12,-$C12) -> 353992.72
B13: =B14-1 -> 2014 | C13: =C12+1 -> 9 | D13: 9525.5916 | E13: 15763.339 | F13: 145017.81 | G13: 179525.93 | H13: 197347.45 | I13: 0 | J13: 0 | K13: 0 | L13: 0 | M13: 0 | N13: 0 | O13: 0 | P13: 0 | Q13: =OFFSET($Q$4,$C13,-$C13) -> 197347.45
B14: =B15-1 -> 2015 | C14: =C13+1 -> 10 | D14: 5631.977 | E14: 108154.05 | F14: 121627.35 | G14: 188197.62 | H14: 0 | I14: 0 | J14: 0 | K14: 0 | L14: 0 | M14: 0 | N14: 0 | O14: 0 | P14: 0 | Q14: =OFFSET($Q$4,$C14,-$C14) -> 188197.62
B15: =B16-1 -> 2016 | C15: =C14+1 -> 11 | D15: 2178.1097 | E15: 76989.593 | F15: 147458.73 | G15: 0 | H15: 0 | I15: 0 | J15: 0 | K15: 0 | L15: 0 | M15: 0 | N15: 0 | O15: 0 | P15: 0 | Q15: =OFFSET($Q$4,$C15,-$C15) -> 147458.73
B16: =B17-1 -> 2017 | C16: =C15+1 -> 12 | D16: 18683.701 | E16: 79252.333 | F16: 0 | G16: 0 | H16: 0 | I16: 0 | J16: 0 | K16: 0 | L16: 0 | M16: 0 | N16: 0 | O16: 0 | P16: 0 | Q16: =OFFSET($Q$4,$C16,-$C16) -> 79252.333
B17: 2018 | C17: =C16+1 -> 13 | D17: 5242.3538 | E17: 0 | F17: 0 | G17: 0 | H17: 0 | I17: 0 | J17: 0 | K17: 0 | L17: 0 | M17: 0 | N17: 0 | O17: 0 | P17: 0 | Q17: =OFFSET($Q$4,$C17,-$C17) -> 5242.3538
B18: Total | Q18: =SUM(Q5:Q17) -> 5658535.3
B21: Triangle 3 Reserving Worksheet - Age-to-Age Loss Development Factors fy,d
B22: AY | C22: AY\Age | D22: 1 | E22: =D22+1 -> 2 | F22: =E22+1 -> 3 | G22: =F22+1 -> 4 | H22: =G22+1 -> 5 | I22: =H22+1 -> 6 | J22: =I22+1 -> 7 | K22: =J22+1 -> 8 | L22: =K22+1 -> 9 | ... P22: =O22+1 -> 13
B23: 2006 | C23: 1 | D23: =E5/D5 -> 4.5608388 | E23: =F5/E5 -> 5.8589257 | F23: =G5/F5 -> 1.0504499 | G23: =H5/G5 -> 1.2010627 | H23: =I5/H5 -> 1.2732371 | I23: =J5/I5 -> 1.0228815 | J23: =K5/J5 -> 1.0372904 | K23: =L5/K5 -> 1.4244118 | ... O23: =P5/O5 -> 1.0110946
B24: 2007 | C24: 2 | D24: =E6/D6 -> 4.3055286 | E24: =F6/E6 -> 1.7774065 | F24: =G6/F6 -> 1.4744453 | G24: =H6/G6 -> 1.1463259 | H24: =I6/H6 -> 1.0950926 | I24: =J6/I6 -> 1.0771269 | J24: =K6/J6 -> 1.175206 | K24: =L6/K6 -> 1.0655881 | ... N24: =O6/N6 -> 1.0418858
B25: 2008 | C25: 3 | D25: =E7/D7 -> 13.848086 | E25: =F7/E7 -> 2.3687286 | F25: =G7/F7 -> 1.3286104 | G25: =H7/G7 -> 1.0494526 | H25: =I7/H7 -> 1.3445112 | I25: =J7/I7 -> 1.1144674 | J25: =K7/J7 -> 1.1253129 | K25: =L7/K7 -> 1.1137078 | ... M25: =N7/M7 -> 1.0375167
B26: 2009 | C26: 4 | D26: =E8/D8 -> 4.1881057 | E26: =F8/E8 -> 2.0662906 | F26: =G8/F8 -> 1.397998 | G26: =H8/G8 -> 1.0689689 | H26: =I8/H8 -> 1.0494492 | I26: =J8/I8 -> 1.0394126 | J26: =K8/J8 -> 1.2335893 | K26: =L8/K8 -> 1.0132402 | L26: =M8/L8 -> 1.0743291
B27: 2010 | C27: 5 | D27: =E9/D9 -> 5.3375482 | E27: =F9/E9 -> 1.8137508 | F27: =G9/F9 -> 1.1317149 | G27: =H9/G9 -> 1.6861085 | H27: =I9/H9 -> 1.0938246 | I27: =J9/I9 -> 1.1831509 | J27: =K9/J9 -> 1.1154814 | K27: =L9/K9 -> 1.0704529
B28: 2011 | C28: 6 | D28: =E10/D10 -> 3.6226929 | E28: =F10/E10 -> 1.4894726 | F28: =G10/F10 -> 1.8177947 | G28: =H10/G10 -> 2.1202878 | H28: =I10/H10 -> 1.1622474 | I28: =J10/I10 -> 1.2320811 | J28: =K10/J10 -> 1.2772749
B29: 2012 | C29: 7 | D29: =E11/D11 -> 47.341218 | E29: =F11/E11 -> 1.8284971 | F29: =G11/F11 -> 1.0681575 | G29: =H11/G11 -> 1.3948547 | H29: =I11/H11 -> 1.0743476 | I29: =J11/I11 -> 1.1619306
B30: 2013 | C30: 8 | D30: =E12/D12 -> 10.723767 | E30: =F12/E12 -> 2.035879 | F30: =G12/F12 -> 1.1375902 | G30: =H12/G12 -> 1.1771301 | H30: =I12/H12 -> 1.2795595
B31: 2014 | C31: 9 | D31: =E13/D13 -> 1.654841 | E31: =F13/E13 -> 9.1996882 | F31: =G13/F13 -> 1.2379579 | G31: =H13/G13 -> 1.0992699
B32: 2015 | C32: 10 | D32: =E14/D14 -> 19.203568 | E32: =F14/E14 -> 1.1245751 | F32: =G14/F14 -> 1.5473298
B33: 2016 | C33: 11 | D33: =E15/D15 -> 35.346977 | E33: =F15/E15 -> 1.9153073
B34: 2017 | C34: 12 | D34: =E16/D16 -> 4.2417899
B35: 2018 | C35: 13
B36: All yr Wt Avg | D36: =SUM(OFFSET(E$5,0,0,$C$35-D$22))/SUM(OFFSET(D$5,0,0,$C$35-D$22)) -> 6.5628425 | E36: =SUM(OFFSET(F$5,0,0,$C$35-E$22))/SUM(OFFSET(E$5,0,0,$C$35-E$22)) -> 2.0674151 | F36: =SUM(OFFSET(G$5,0,0,$C$35-F$22))/SUM(OFFSET(F$5,0,0,$C$35-F$22)) -> 1.2792984 | G36: =SUM(OFFSET(H$5,0,0,$C$35-G$22))/SUM(OFFSET(G$5,0,0,$C$35-G$22)) -> 1.2775233 | H36: =SUM(OFFSET(I$5,0,0,$C$35-H$22))/SUM(OFFSET(H$5,0,0,$C$35-H$22)) -> 1.15768 | I36: =SUM(OFFSET(J$5,0,0,$C$35-I$22))/SUM(OFFSET(I$5,0,0,$C$35-I$22)) -> 1.1244892 | J36: =SUM(OFFSET(K$5,0,0,$C$35-J$22))/SUM(OFFSET(J$5,0,0,$C$35-J$22)) -> 1.1601098 | K36: =SUM(OFFSET(L$5,0,0,$C$35-K$22))/SUM(OFFSET(K$5,0,0,$C$35-K$22)) -> 1.0936681 | ... O36: =SUM(OFFSET(P$5,0,0,$C$35-O$22))/SUM(OFFSET(O$5,0,0,$C$35-O$22)) -> 1.0110946 | P36: 1
B37: All yr Simple Avg | D37: =AVERAGE(D23:D35) -> 12.86458 | E37: =AVERAGE(E23:E35) -> 2.8616838 | F37: =AVERAGE(F23:F35) -> 1.3192048 | G37: =AVERAGE(G23:G35) -> 1.3270512 | H37: =AVERAGE(H23:H35) -> 1.1715336 | I37: =AVERAGE(I23:I35) -> 1.1187216 | J37: =AVERAGE(J23:J35) -> 1.1606925 | K37: =AVERAGE(K23:K35) -> 1.1374802 | ... O37: =AVERAGE(O23:O35) -> 1.0110946 | P37: 1
B38: Selected ATA | D38: =AVERAGE(D37,D36) -> 9.7137113 | E38: =AVERAGE(E37,E36) -> 2.4645494 | F38: =AVERAGE(F37,F36) -> 1.2992516 | G38: =AVERAGE(G37,G36) -> 1.3022872 | H38: =AVERAGE(H37,H36) -> 1.1646068 | I38: =AVERAGE(I37,I36) -> 1.1216054 | J38: =AVERAGE(J37,J36) -> 1.1604011 | K38: =AVERAGE(K37,K36) -> 1.1155742 | ... P38: =AVERAGE(P37,P36) -> 1
B39: ATU | D39: =PRODUCT(D38:$P38) -> 84.873217 | E39: =PRODUCT(E38:$P38) -> 8.7374655 | F39: =PRODUCT(F38:$P38) -> 3.5452588 | G39: =PRODUCT(G38:$P38) -> 2.728693 | H39: =PRODUCT(H38:$P38) -> 2.0953081 | I39: =PRODUCT(I38:$P38) -> 1.7991549 | J39: =PRODUCT(J38:$P38) -> 1.604089 | K39: =PRODUCT(K38:$P38) -> 1.3823574 | ... P39: =PRODUCT(P38:$P38) -> 1
B43: Triangle 3 Reserving Worksheet - Triangle of Selected Age to Ultimate Factors Fy,d
B44: Selected based on 50% weight each from all year weighted avg and all year simple avg
B45: AY | C45: AY\Age | D45: 1 | E45: =D45+1 -> 2 | F45: =E45+1 -> 3 | G45: =F45+1 -> 4 | H45: =G45+1 -> 5 | I45: =H45+1 -> 6 | J45: =I45+1 -> 7 | K45: =J45+1 -> 8 | L45: =K45+1 -> 9 | ... P45: =O45+1 -> 13
B46: 2006 | C46: 1 | D46: =D$39 -> 84.873217 | E46: =E$39 -> 8.7374655 | F46: =F$39 -> 3.5452588 | G46: =G$39 -> 2.728693 | H46: =H$39 -> 2.0953081 | I46: =I$39 -> 1.7991549 | J46: =J$39 -> 1.604089 | K46: =K$39 -> 1.3823574 | ... P46: =P$39 -> 1
...

Sheet Study1 FR RK
B1: Study 1 | I1: # Active AYs | J1: =COUNTIF(E40:E52, ">0") -> 13 | L1: # of AYs | M1: =COUNT(B40:B52) -> 13
B3: =$B$1 -> Study 1
B4: =$B$1&" Feng-Robbin and Rehman-Klugman Standard Errors, All AYs Combined" -> Study 1 Feng-Robbin and Rehman-Klugman Standard Errors, All AYs Combined
B5: Method | D5: Run-off Mean | E5: 1 Yr Mean | F5: Run-off Variance | G5: 1 Yr Variance | H5: Total Run-off Standard Error | I5: Total Run-off CV of Reserve | J5: 1-year Standard Error | K5: 1-year CV of Reserve | L5: Parameter Error Ult | M5: Parameter Error 1 Yr | N5: Total Incl. Para Ult | O5: Total Incl. Para 1 Yr
D6: ω | E6: α | F6: λ2 | G6: θ2
D7: Eq. (3.13) | E7: Eq. (3.19) | F7: Eq. (3.14) | G7: Eq. (3.20) | H7: Eq. (3.15) | J7: Eq. (3.21)
B8: Feng-Robbin
B9: Full Adjustment | D9: =SUMPRODUCT(J40:J52, L40:L52) -> 0.0022268117 | E9: =SUMPRODUCT(J40:J52, M40:M52) -> 0.001782332 | F9: {=MMULT(TRANSPOSE(S183:S195), MMULT(D183:P195, S183:S195))} -> 3.6652213e-05 | G9: {=MMULT(TRANSPOSE(R183:R195), MMULT(D183:P195, R183:R195))} -> 1.3455233e-05 | H9: =$E$53*SQRT(EXP(2*D9+2*F9)-EXP(2*D9+F9)) -> 19577.57 | I9: =IFERROR(H9/$G$53,"") -> 0.17307669 | J9: =$E$53*SQRT(EXP(2*E9+2*G9)-EXP(2*E9+G9)) -> 11856.423 | K9: =IFERROR(J9/$G$53,"") -> 0.10481743 | L9: =SQRT(SUMSQ(L18:L31)) -> 6135.9562 | M9: =SQRT(SUMSQ(M18:M31)) -> 5047.9075 | N9: =SQRT(L9^2+H9^2) -> 20516.608 | O9: =SQRT(M9^2+J9^2) -> 12886.277
B10: Diagonal Calibrated | D10: =SUMPRODUCT(J40:J52, L40:L52) -> 0.0022268117 | E10: =SUMPRODUCT(J40:J52, M40:M52) -> 0.001782332 | F10: {=MMULT(TRANSPOSE(S166:S178), MMULT(D166:P178, S166:S178))} -> 3.746034e-05 | G10: {=MMULT(TRANSPOSE(R166:R178), MMULT(D166:P178, R166:R178))} -> 1.3525647e-05 | H10: =$E$53*SQRT(EXP(2*D10+2*F10)-EXP(2*D10+F10)) -> 19792.233 | I10: =IFERROR(H10/$G$53,"") -> 0.17497444 | J10: =$E$53*SQRT(EXP(2*E10+2*G10)-EXP(2*E10+G10)) -> 11887.407 | K10: =IFERROR(J10/$G$53,"") -> 0.10509134 | L10: =L9 -> 6135.9562 | M10: =M9 -> 5047.9075 | N10: =SQRT(L10^2+H10^2) -> 20721.546 | O10: =SQRT(M10^2+J10^2) -> 12914.791
B11: Fill-in | D11: =SUMPRODUCT(J40:J52, L40:L52) -> 0.0022268117 | E11: =SUMPRODUCT(J40:J52, M40:M52) -> 0.001782332 | F11: {=MMULT(TRANSPOSE(S149:S161), MMULT(D149:P161, S149:S161))} -> 3.0694791e-05 | G11: {=MMULT(TRANSPOSE(R149:R161), MMULT(D149:P161, R149:R161))} -> 1.2906928e-05 | H11: =$E$53*SQRT(EXP(2*D11+2*F11)-EXP(2*D11+F11)) -> 17915.919 | I11: =IFERROR(H11/$G$53,"") -> 0.15838676 | J11: =$E$53*SQRT(EXP(2*E11+2*G11)-EXP(2*E11+G11)) -> 11612.329 | K11: =IFERROR(J11/$G$53,"") -> 0.1026595 | L11: =L9 -> 6135.9562 | M11: =M9 -> 5047.9075 | N11: =SQRT(L11^2+H11^2) -> 18937.531 | O11: =SQRT(M11^2+J11^2) -> 12662.052
B12: Rehman-Klugman
B13: λ2 using Eq. (7.01) | D13: =SUMPRODUCT(J40:J52, L40:L52) -> 0.0022268117 | E13: n/a | F13: =SUMPRODUCT(J40:J52,J40:J52,T132:T144) -> 1.9347028e-05 | G13: n/a | H13: =$E$53*SQRT(EXP(2*D13+2*F13)-EXP(2*D13+F13)) -> 14223.621 | I13: =IFERROR(H13/$G$53,"") -> 0.12574478 | J13: n/a | K13: n/a | L13: n/a | M13: n/a | N13: n/a | O13: n/a
B15: =$B$1 -> Study 1
B16: =$B$1&" Feng-Robbin Standard Errors by Accident Year" -> Study 1 Feng-Robbin Standard Errors by Accident Year
B17: AY | C17: AY # | D17: Dev Age | E17: Diagonal Ult | F17: Paid | G17: Reserve | H17: Total Run-off Standard Error | I17: Total Run-off CV of Reserve | J17: 1-year Standard Error | K17: 1-year CV of Reserve | L17: Parameter Error Ult | M17: Parameter Error 1 Yr | N17: Total Incl. Para Ult | O17: Total Incl. Para 1 Yr
C18: y | D18: d | E18: Uy, Y-d+1 | F18: Cy, Y-d+1 | G18: Uy, Y-d+1-Cy, Y-d+1 | H18: Eq. (3.12) | J18: Eq. (3.18) | L18: Eq. (6.02) | M18: Eq. (6.01)
B19: =B40 -> 2006 | C19: =$C$40 -> 1 | D19: =$M$1-C19+1 -> 13 | E19: =Q59 -> 223558 | F19: 223558 | G19: =+E19-F19 -> 0 | H19: =E40*SQRT(EXP(2*L40+2*N40)-EXP(2*L40+N40)) -> 0 | I19: =IFERROR(H19/G40,"") | J19: =E40*SQRT(EXP(2*M40+2*O40)-EXP(2*M40+O40)) -> 0 | K19: =IFERROR(J19/G40,"") | L19: =ABS(I40-1)*$E40 -> 0 | M19: =ABS(H40-1)*$E40 -> 0 | N19: =SQRT(L19^2+H19^2) -> 0 | O19: =SQRT(M19^2+J19^2) -> 0
B20: =B41 -> 2007 | C20: =C19+1 -> 2 | D20: =$M$1-C20+1 -> 12 | E20: =Q60 -> 224036 | F20: 224036 | G20: =+E20-F20 -> 0 | H20: =E41*SQRT(EXP(2*L41+2*N41)-EXP(2*L41+N41)) -> 0 | I20: =IFERROR(H20/G41,"") | J20: =E41*SQRT(EXP(2*M41+2*O41)-EXP(2*M41+O41)) -> 0 | K20: =IFERROR(J20/G41,"") | L20: =ABS(I41-1)*$E41 -> 0 | M20: =ABS(H41-1)*E41 -> 0 | N20: =SQRT(L20^2+H20^2) -> 0 | O20: =SQRT(M20^2+J20^2) -> 0
B21: =B42 -> 2008 | C21: =C20+1 -> 3 | D21: =$M$1-C21+1 -> 11 | E21: =Q61 -> 223697 | F21: 223697 | G21: =+E21-F21 -> 0 | H21: =E42*SQRT(EXP(2*L42+2*N42)-EXP(2*L42+N42)) -> 0 | I21: =IFERROR(H21/G42,"") | J21: =E42*SQRT(EXP(2*M42+2*O42)-EXP(2*M42+O42)) -> 0 | K21: =IFERROR(J21/G42,"") | L21: =ABS(I42-1)*$E42 -> 0 | M21: =ABS(H42-1)*E42 -> 0 | N21: =SQRT(L21^2+H21^2) -> 0 | O21: =SQRT(M21^2+J21^2) -> 0
B22: =B43 -> 2009 | C22: =C21+1 -> 4 | D22: =$M$1-C22+1 -> 10 | E22: =Q62 -> 214445 | F22: 214459 | G22: =+E22-F22 -> -14 | H22: =E43*SQRT(EXP(2*L43+2*N43)-EXP(2*L43+N43)) -> 42.964498 | I22: =IFERROR(H22/G43,"") -> -3.0688927 | J22: =E43*SQRT(EXP(2*M43+2*O43)-EXP(2*M43+O43)) -> 42.964498 | K22: =IFERROR(J22/G43,"") -> -3.0688927 | L22: =ABS(I43-1)*$E43 -> 8.3060639 | M22: =ABS(H43-1)*E43 -> 8.3060639 | N22: =SQRT(L22^2+H22^2) -> 43.760013 | O22: =SQRT(M22^2+J22^2) -> 43.760013
B23: =B44 -> 2010 | C23: =C22+1 -> 5 | D23: =$M$1-C23+1 -> 9 | E23: =Q63 -> 221628 | F23: 221616 | G23: =+E23-F23 -> 12 | H23: =E44*SQRT(EXP(2*L44+2*N44)-EXP(2*L44+N44)) -> 131.24647 | I23: =IFERROR(H23/G44,"") -> 10.937206 | J23: =E44*SQRT(EXP(2*M44+2*O44)-EXP(2*M44+O44)) -> 89.364783 | K23: =IFERROR(J23/G44,"") -> 7.4470652 | L23: =ABS(I44-1)*$E44 -> 39.117287 | M23: =ABS(H44-1)*E44 -> 30.531823 | N23: =SQRT(L23^2+H23^2) -> 136.95181 | O23: =SQRT(M23^2+J23^2) -> 94.436522
B24: =B45 -> 2011 | C24: =C23+1 -> 6 | D24: =$M$1-C24+1 -> 8 | E24: =Q64 -> 294673 | F24: 294705 | G24: =+E24-F24 -> -32 | H24: =E45*SQRT(EXP(2*L45+2*N45)-EXP(2*L45+N45)) -> 248.42713 | I24: =IFERROR(H24/G45,"") -> -7.7633478 | J24: =E45*SQRT(EXP(2*M45+2*O45)-EXP(2*M45+O45)) -> 104.70051 | K24: =IFERROR(J24/G45,"") -> -3.2718911 | L24: =ABS(I45-1)*$E45 -> 77.831982 | M24: =ABS(H45-1)*E45 -> 25.817713 | N24: =SQRT(L24^2+H24^2) -> 260.33412 | O24: =SQRT(M24^2+J24^2) -> 107.83669
B25: =B46 -> 2012 | C25: =C24+1 -> 7 | D25: =$M$1-C25+1 -> 7 | E25: =Q65 -> 269763 | F25: 269720 | G25: =+E25-F25 -> 43 | H25: =E46*SQRT(EXP(2*L46+2*N46)-EXP(2*L46+N46)) -> 399.76387 | I25: =IFERROR(H25/G46,"") -> 9.2968342 | J25: =E46*SQRT(EXP(2*M46+2*O46)-EXP(2*M46+O46)) -> 366.87295 | K25: =IFERROR(J25/G46,"") -> 8.531929 | L25: =ABS(I46-1)*$E46 -> 129.01257 | M25: =ABS(H46-1)*E46 -> 57.744818 | N25: =SQRT(L25^2+H25^2) -> 420.06594 | O25: =SQRT(M25^2+J25^2) -> 371.38959
B26: =B47 -> 2013 | C26: =C25+1 -> 8 | D26: =$M$1-C26+1 -> 6 | E26: =Q66 -> 271810 | F26: 271688 | G26: =+E26-F26 -> 122 | H26: =E47*SQRT(EXP(2*L47+2*N47)-EXP(2*L47+N47)) -> 563.30158 | I26: =IFERROR(H26/G47,"") -> 4.6172261 | J26: =E47*SQRT(EXP(2*M47+2*O47)-EXP(2*M47+O47)) -> 222.06832 | K26: =IFERROR(J26/G47,"") -> 1.8202321 | L26: =ABS(I47-1)*$E47 -> 183.69844 | M26: =ABS(H47-1)*E47 -> 53.681224 | N26: =SQRT(L26^2+H26^2) -> 592.49792 | O26: =SQRT(M26^2+J26^2) -> 228.46447
B27: =B48 -> 2014 | C27: =C26+1 -> 9 | D27: =$M$1-C27+1 -> 5 | E27: =Q67 -> 247245 | F27: 245940 | G27: =+E27-F27 -> 1305 | H27: =E48*SQRT(EXP(2*L48+2*N48)-EXP(2*L48+N48)) -> 1807.5616 | I27: =IFERROR(H27/G48,"") -> 1.3851047 | J27: =E48*SQRT(EXP(2*M48+2*O48)-EXP(2*M48+O48)) -> 1484.8619 | K27: =IFERROR(J27/G48,"") -> 1.1378252 | L27: =ABS(I48-1)*$E48 -> 231.12935 | M27: =ABS(H48-1)*E48 -> 397.95697 | N27: =SQRT(L27^2+H27^2) -> 1822.2787 | O27: =SQRT(M27^2+J27^2) -> 1537.2653
B28: =B49 -> 2015 | C28: =C27+1 -> 10 | D28: =$M$1-C28+1 -> 4 | E28: =Q68 -> 267747 | F28: 264755 | G28: =+E28-F28 -> 2992 | H28: =E49*SQRT(EXP(2*L49+2*N49)-EXP(2*L49+N49)) -> 2601.515 | I28: =IFERROR(H28/G49,"") -> 0.86949032 | J28: =E49*SQRT(EXP(2*M49+2*O49)-EXP(2*M49+O49)) -> 1923.0794 | K28: =IFERROR(J28/G49,"") -> 0.64274045 | L28: =ABS(I49-1)*$E49 -> 349.05528 | M28: =ABS(H49-1)*E49 -> 98.85268 | N28: =SQRT(L28^2+H28^2) -> 2624.8276 | O28: =SQRT(M28^2+J28^2) -> 1925.6184
B29: =B50 -> 2016 | C29: =C28+1 -> 11 | D29: =$M$1-C29+1 -> 3 | E29: =Q69 -> 245398 | F29: 239800 | G29: =+E29-F29 -> 5598 | H29: =E50*SQRT(EXP(2*L50+2*N50)-EXP(2*L50+N50)) -> 3615.9791 | I29: =IFERROR(H29/G50,"") -> 0.64594124 | J29: =E50*SQRT(EXP(2*M50+2*O50)-EXP(2*M50+O50)) -> 3114.2269 | K29: =IFERROR(J29/G50,"") -> 0.55631062 | L29: =ABS(I50-1)*$E50 -> 263.78039 | M29: =ABS(H50-1)*E50 -> 584.46177 | N29: =SQRT(L29^2+H29^2) -> 3625.5875 | O29: =SQRT(M29^2+J29^2) -> 3168.5966
B30: =B51 -> 2017 | C30: =C29+1 -> 12 | D30: =$M$1-C30+1 -> 2 | E30: =Q70 -> 259549 | F30: 246019 | G30: =+E30-F30 -> 13530 | H30: =E51*SQRT(EXP(2*L51+2*N51)-EXP(2*L51+N51)) -> 6082.6469 | I30: =IFERROR(H30/G51,"") -> 0.4495674 | J30: =E51*SQRT(EXP(2*M51+2*O51)-EXP(2*M51+O51)) -> 5530.9073 | K30: =IFERROR(J30/G51,"") -> 0.40878842 | L30: =ABS(I51-1)*$E51 -> 1050.0167 | M30: =ABS(H51-1)*E51 -> 770.19738 | N30: =SQRT(L30^2+H30^2) -> 6172.6112 | O30: =SQRT(M30^2+J30^2) -> 5584.2761
B31: =B52 -> 2018 | C31: =C30+1 -> 13 | D31: =$M$1-C31+1 -> 1 | E31: =Q71 -> 262936 | F31: 173377 | G31: =+E31-F31 -> 89559 | H31: =E52*SQRT(EXP(2*L52+2*N52)-EXP(2*L52+N52)) -> 12199.505 | I31: =IFERROR(H31/G52,"") -> 0.13621752 | J31: =E52*SQRT(EXP(2*M52+2*O52)-EXP(2*M52+O52)) -> 8499.5855 | K31: =IFERROR(J31/G52,"") -> 0.094904872 | L31: =ABS(I52-1)*$E52 -> 6020.3436 | M31: =ABS(H52-1)*E52 -> 4936.6532 | N31: =SQRT(L31^2+H31^2) -> 13604.134 | O31: =SQRT(M31^2+J31^2) -> 9829.2166
B32: Total All AYs | E32: =SUM(E19:E31) -> 3226485 | F32: =SUM(F19:F31) -> 3113370 | G32: =SUM(G19:G31) -> 113115
B35: =$B$1 -> Study 1
B36: =$B$1&" Feng-Robbin Parameters by Accident Year" -> Study 1 Feng-Robbin Parameters by Accident Year
B37: AY | C37: AY # | D37: Dev Age | E37: Diagonal Ult | F37: Paid | G37: Reserve | H37: ATA UDF | I37: ATU UDF | J37: Weight | K37: Cumulative Weight by Age | L37: Run-off Mean | M37: 1 Yr Mean | N37: Run-off Variance | O37: 1 Yr Variance
C38: y | D38: d | E38: Uy, Y-d+1 | F38: Cy, Y-d+1 | G38: Uy, Y-d+1-Cy, Y-d+1 | H38: gd | I38: Gd | J38: ry | K38: Rd | L38: ωy | M38: αy | N38: λy2 | O38: θy2
H39: Eq. (3.03) | I39: Eq. (3.04) | J39: Eq. (3.05) | K39: Eq. (3.06) | L39: Eq. (3.10) | M39: Eq. (3.16) | N39: Eq. (3.11) | O39: Eq. (3.17)
B40: =B59 -> 2006 | C40: =C59 -> 1 | D40: =$M$1-C40+1 -> 13 | E40: =Q59 -> 223558 | F40: {=F19:F31} -> 223558 | G40: =+E40-F40 -> 0 | H40: =INDEX($D$89:$P$89, 0, $M$1+1-C40) -> 1 | I40: =INDEX($D$90:$P$90, 0, $M$1+1-C40) -> 1 | J40: =E40/$E$53 -> 0.069288405 | K40: =SUM(J40:J$52) -> 1 | L40: =SUM($M$40:$M40) -> 0 | M40: =INDEX($D$125:$P$125, 0, $M$1+1-C40) -> 0 | N40: =SUM(OFFSET($P$195, 0, 0, -$C40, -$C40)) -> 0 | O40: =INDEX($D$108:$P$108, 0, $M$1+1-C40) -> 0
B41: =B60 -> 2007 | C41: =C60 -> 2 | D41: =$M$1-C41+1 -> 12 | E41: =Q60 -> 224036 | F41: 224036 | G41: =+E41-F41 -> 0 | H41: =INDEX($D$89:$P$89, 0, $M$1+1-C41) -> 1 | I41: =INDEX($D$90:$P$90, 0, $M$1+1-C41) -> 1 | J41: =E41/$E$53 -> 0.069436554 | K41: =SUM(J41:J$52) -> 0.93071159 | L41: =SUM($M$40:$M41) -> 0 | M41: =INDEX($D$125:$P$125, 0, $M$1+1-C41) -> 0 | N41: =SUM(OFFSET($P$195, 0, 0, -$C41, -$C41)) -> 0 | O41: =INDEX($D$108:$P$108, 0, $M$1+1-C41) -> 0
B42: =B61 -> 2008 | C42: =C61 -> 3 | D42: =$M$1-C42+1 -> 11 | E42: =Q61 -> 223697 | F42: 223697 | G42: =+E42-F42 -> 0 | H42: =INDEX($D$89:$P$89, 0, $M$1+1-C42) -> 1 | I42: =INDEX($D$90:$P$90, 0, $M$1+1-C42) -> 1 | J42: =E42/$E$53 -> 0.069331486 | K42: =SUM(J42:J$52) -> 0.86127504 | L42: =SUM($M$40:$M42) -> 0 | M42: =INDEX($D$125:$P$125, 0, $M$1+1-C42) -> 0 | N42: =SUM(OFFSET($P$195, 0, 0, -$C42, -$C42)) -> 0 | O42: =INDEX($D$108:$P$108, 0, $M$1+1-C42) -> 0
B43: =B62 -> 2009 | C43: =C62 -> 4 | D43: =$M$1-C43+1 -> 10 | E43: =Q62 -> 214445 | F43: 214459 | G43: =+E43-F43 -> -14 | H43: =INDEX($D$89:$P$89, 0, $M$1+1-C43) -> 1.0000387 | I43: =INDEX($D$90:$P$90, 0, $M$1+1-C43) -> 1.0000387 | J43: =E43/$E$53 -> 0.066463969 | K43: =SUM(J43:J$52) -> 0.79194355 | L43: =SUM($M$40:$M43) -> 3.8645017e-05 | M43: =INDEX($D$125:$P$125, 0, $M$1+1-C43) -> 3.8645017e-05 | N43: =SUM(OFFSET($P$195, 0, 0, -$C43, -$C43)) -> 4.0137844e-08 | O43: =INDEX($D$108:$P$108, 0, $M$1+1-C43) -> 4.0137844e-08
B44: =B63 -> 2010 | C44: =C63 -> 5 | D44: =$M$1-C44+1 -> 9 | E44: =Q63 -> 221628 | F44: 221616 | G44: =+E44-F44 -> 12 | H44: =INDEX($D$89:$P$89, 0, $M$1+1-C44) -> 1.0001378 | I44: =INDEX($D$90:$P$90, 0, $M$1+1-C44) -> 1.0001765 | J44: =E44/$E$53 -> 0.068690231 | K44: =SUM(J44:J$52) -> 0.72547959 | L44: =SUM($M$40:$M44) -> 0.0001737915 | M44: =INDEX($D$125:$P$125, 0, $M$1+1-C44) -> 0.00013514648 | N44: =SUM(OFFSET($P$195, 0, 0, -$C44, -$C44)) -> 3.5057005e-07 | O44: =INDEX($D$108:$P$108, 0, $M$1+1-C44) -> 1.6254217e-07
...

Sheet Study1 Sieg
B1: Study 1 | I1: # Active AYs | J1: =COUNTIF(E8:E20, ">0") -> 13 | L1: # of AYs | M1: 13
B3: =$B$1 -> Study 1
B4: Siegenthaler Result Summary
B5: AY | C5: AY # | D5: Dev Age | E5: Diagonal Ult | F5: Paid | G5: Reserve | H5: ATA UDF | I5: ATU UDF | J5: Variance Parameter | K5: Total Run-off Process Error | L5: Total Run-off Parameter Error | M5: Total Run-off Total Error | N5: CV of Reserve | O5: 1-year Process Error | P5: 1-year Parameter Error | Q5: 1-year Total Error | R5: CV of Reserve
C6: y | D6: d | E6: Uy, Y-d+1 | F6: Cy, Y-d+1 | G6: Uy, Y-d+1-Cy, Y-d+1 | H6: gd | I6: Gd | J6: sd2
H7: Eq. (7.02) | I7: Eq. (3.04) | J7: Eq. (7.04) | K7: Eq. (7.05) | L7: Eq. (7.06) | O7: Eq. (7.07) | P7: Eq. (7.08)
B8: =B27 -> 2006 | C8: =C27 -> 1 | D8: =$M$1-C8+1 -> 13 | E8: =Q27 -> 223558 | F8: 223558 | G8: =+E8-F8 -> 0 | H8: =INDEX($D$57:$P$57, 0, $M$1+1-C8) -> 1 | I8: =INDEX($D$58:$P$58, 0, $M$1+1-C8) -> 1 | J8: =INDEX($D$76:$P$76, 0, $M$1+1-C8) -> 0 | K8: =Q81^0.5 -> 0 | L8: =ABS(E8*(I8-1)) -> 0 | M8: =SUMSQ(K8:L8)^0.5 -> 0 | N8: =IFERROR(M8/G8,"") | O8: =SQRT(J8*E8) -> 0 | P8: =ABS(E8*(H8-1)) -> 0 | Q8: =SUMSQ(O8:P8)^0.5 -> 0 | R8: =IFERROR(Q8/G8,"")
B9: =B28 -> 2007 | C9: =C28 -> 2 | D9: =$M$1-C9+1 -> 12 | E9: =Q28 -> 224036 | F9: 224036 | G9: =+E9-F9 -> 0 | H9: =INDEX($D$57:$P$57, 0, $M$1+1-C9) -> 1 | I9: =INDEX($D$58:$P$58, 0, $M$1+1-C9) -> 1 | J9: =INDEX($D$76:$P$76, 0, $M$1+1-C9) -> 0 | K9: =Q82^0.5 -> 0 | L9: =ABS(E9*(I9-1)) -> 0 | M9: =SUMSQ(K9:L9)^0.5 -> 0 | N9: =IFERROR(M9/G9,"") | O9: =SQRT(J9*E9) -> 0 | P9: =ABS(E9*(H9-1)) -> 0 | Q9: =SUMSQ(O9:P9)^0.5 -> 0 | R9: =IFERROR(Q9/G9,"")
B10: =B29 -> 2008 | C10: =C29 -> 3 | D10: =$M$1-C10+1 -> 11 | E10: =Q29 -> 223697 | F10: 223697 | G10: =+E10-F10 -> 0 | H10: =INDEX($D$57:$P$57, 0, $M$1+1-C10) -> 1 | I10: =INDEX($D$58:$P$58, 0, $M$1+1-C10) -> 1 | J10: =INDEX($D$76:$P$76, 0, $M$1+1-C10) -> 0 | K10: =Q83^0.5 -> 0 | L10: =ABS(E10*(I10-1)) -> 0 | M10: =SUMSQ(K10:L10)^0.5 -> 0 | N10: =IFERROR(M10/G10,"") | O10: =SQRT(J10*E10) -> 0 | P10: =ABS(E10*(H10-1)) -> 0 | Q10: =SUMSQ(O10:P10)^0.5 -> 0 | R10: =IFERROR(Q10/G10,"")
